{"text_format":"1","workbook":"xlsx","n_sheets":2,"sheets":["Main","MST"],"not_rendered":{"charts":0,"images":0,"macros":1,"external_links":0,"defined_names":1,"comments":0,"pivot_tables":0},"unopened":[],"bounds":{"document_bytes":16777216,"sheet_cells":100000,"rows_first":2000,"rows_last":500,"rows_between":2000,"halvings":0,"cell_chars":16384,"cell_head_chars":4096},"cells_cut":0,"cells_raw":0,"read":"whole","date_system":"1900"}

{"sheet":"Main","index":0,"n_rows":111,"n_cols":38,"rows_kept":111,"cut":false,"hidden":false,"merged":[]}
[null,"全回数",{"$f":"COUNTA(B11:B111)","v":0},null,null,null,null,null,null,null,null,null,null,null,null,null,null,null,null,null,null,null,null,null,null,null,null,null,{"$f":"IF(NOW()>MST!AA1,\"\",COUNTA(B11:B111)+ROW(A10))","v":10}]
[]
[null,"累計/全数",{"$f":"IF($C$1=0,0,C4/$C$1)","v":0},0,0,0,0,0,0,0,0,0,0,0]
[null,"累計",{"$f":"COUNTIF(C11:C111,\"~*\")","v":0},0,0,0,{"$f":"COUNTIF(G11:G111,\"~*\")","v":0},0,0,0,0,0,0,0]
[null,"最新連続数",{"$f":"COUNTIF(AC11:AC111,\"~*\")","v":0},{"$f":"COUNTIF(AD11:AD111,\"~*\")","v":0},{"$f":"COUNTIF(AE11:AE111,\"~*\")","v":0},{"$f":"COUNTIF(AF11:AF111,\"~*\")","v":0},{"$f":"COUNTIF(AG11:AG111,\"~*\")","v":0},0,{"$f":"COUNTIF(AG11:AG111,\"~*\")","v":0},0,0,0,0,0,"←最新が*だったら連続数を計算"]
[]
[]
[]
[]
["＃","数字","赤","黒","1to18","19to36","奇数","偶数","1to12","13to24","25to36","A","A+1","A+2",null,null,null,null,null,null,null,null,null,null,null,null,null,null,{"$f":"C10","v":"赤"},{"$f":"D10","v":"黒"},{"$f":"E10","v":"1to18"},{"$f":"F10","v":"19to36"},{"$f":"I10","v":"1to12"},"13to24","25to36","A","A+1",{"$f":"N10","v":"A+2"}]
[{"$f":"IF(B11=\"\",\"\",ROW()-10)","v":""},null,{"$f":"IF(OR(NOW()>MST!$AA$1,$B11=\"\"),\"\",IF(VLOOKUP($B11,MST!$A:$B,2,FALSE)=C$10,\"*\",\"\"))","v":""},{"$f":"IF(OR(NOW()>MST!$AA$1,$B11=\"\"),\"\",IF(VLOOKUP($B11,MST!$A:$B,2,FALSE)=D$10,\"*\",\"\"))","v":""},{"$f":"IF(OR(NOW()>MST!$AA$1,$B11=\"\"),\"\",IF(AND($B11>=1,$B11<=18),\"*\",\"\"))","v":""},{"$f":"IF(OR(NOW()>MST!$AA$1,$B11=\"\"),\"\",IF(AND($B11>=19,$B11<=36),\"*\",\"\"))","v":""},{"$f":"IF(OR(NOW()>MST!$AA$1,$B11=\"\"),\"\",IF(MOD($B11,2)=1,\"*\",\"\"))","v":""},{"$f":"IF(OR(NOW()>MST!$AA$1,$B11=\"\"),\"\",IF(MOD($B11,2)=0,\"*\",\"\"))","v":""},{"$f":"IF(OR(NOW()>MST!$AA$1,$B11=\"\"),\"\",IF(AND($B11>=1,$B11<=12),\"*\",\"\"))","v":""},{"$f":"IF(OR(NOW()>MST!$AA$1,$B11=\"\"),\"\",IF(AND($B11>=13,$B11<=24),\"*\",\"\"))","v":""},{"$f":"IF(OR(NOW()>MST!$AA$1,$B11=\"\"),\"\",IF(AND($B11>=25,$B11<=36),\"*\",\"\"))","v":""},{"$f":"IF(OR(NOW()>MST!$AA$1,$B11=\"\"),\"\",IF(MOD($B11,3)=0,\"*\",\"\"))","v":""},{"$f":"IF(OR(NOW()>MST!$AA$1,$B11=\"\"),\"\",IF(MOD($B11,3)=1,\"*\",\"\"))","v":""},{"$f":"IF(OR(NOW()>MST!$AA$1,$B11=\"\"),\"\",IF(MOD($B11,3)=2,\"*\",\"\"))","v":""},null,null,null,null,null,null,null,null,null,null,null,null,null,null,{"$f":"IF(ROW()=$AC$1,IF(C11=\"*\",C11,\"\"),IF(ROW()<$AC$1,IF(AND(AC12=\"*\",C11=\"*\"),AC12,\"\"),\"\"))","v":""},{"$f":"IF(ROW()=$AC$1,IF(D11=\"*\",D11,\"\"),IF(ROW()<$AC$1,IF(AND(AD12=\"*\",D11=\"*\"),AD12,\"\"),\"\"))","v":""},{"$f":"IF(ROW()=$AC$1,IF(E11=\"*\",E11,\"\"),IF(ROW()<$AC$1,IF(AND(AE12=\"*\",E11=\"*\"),AE12,\"\"),\"\"))","v":""},{"$f":"IF(ROW()=$AC$1,IF(F11=\"*\",F11,\"\"),IF(ROW()<$AC$1,IF(AND(AF12=\"*\",F11=\"*\"),AF12,\"\"),\"\"))","v":""},{"$f":"IF(ROW()=$AC$1,IF(I11=\"*\",I11,\"\"),IF(ROW()<$AC$1,IF(AND(AG12=\"*\",I11=\"*\"),AG12,\"\"),\"\"))","v":""},{"$f":"IF(ROW()=$AC$1,IF(J11=\"*\",J11,\"\"),IF(ROW()<$AC$1,IF(AND(AH12=\"*\",J11=\"*\"),AH12,\"\"),\"\"))","v":""},{"$f":"IF(ROW()=$AC$1,IF(K11=\"*\",K11,\"\"),IF(ROW()<$AC$1,IF(AND(AI12=\"*\",K11=\"*\"),AI12,\"\"),\"\"))","v":""},{"$f":"IF(ROW()=$AC$1,IF(L11=\"*\",L11,\"\"),IF(ROW()<$AC$1,IF(AND(AJ12=\"*\",L11=\"*\"),AJ12,\"\"),\"\"))","v":""},{"$f":"IF(ROW()=$AC$1,IF(M11=\"*\",M11,\"\"),IF(ROW()<$AC$1,IF(AND(AK12=\"*\",M11=\"*\"),AK12,\"\"),\"\"))","v":""},{"$f":"IF(ROW()=$AC$1,IF(N11=\"*\",N11,\"\"),IF(ROW()<$AC$1,IF(AND(AL12=\"*\",N11=\"*\"),AL12,\"\"),\"\"))","v":""}]
[{"$f":"IF(B12=\"\",\"\",ROW()-10)","v":""},null,{"$f":"IF(OR(NOW()>MST!$AA$1,$B12=\"\"),\"\",IF(VLOOKUP($B12,MST!$A:$B,2,FALSE)=C$10,\"*\",\"\"))","v":""},{"$f":"IF(OR(NOW()>MST!$AA$1,$B12=\"\"),\"\",IF(VLOOKUP($B12,MST!$A:$B,2,FALSE)=D$10,\"*\",\"\"))","v":""},{"$f":"IF(OR(NOW()>MST!$AA$1,$B12=\"\"),\"\",IF(AND($B12>=1,$B12<=18),\"*\",\"\"))","v":""},{"$f":"IF(OR(NOW()>MST!$AA$1,$B12=\"\"),\"\",IF(AND($B12>=19,$B12<=36),\"*\",\"\"))","v":""},{"$f":"IF(OR(NOW()>MST!$AA$1,$B12=\"\"),\"\",IF(MOD($B12,2)=1,\"*\",\"\"))","v":""},{"$f":"IF(OR(NOW()>MST!$AA$1,$B12=\"\"),\"\",IF(MOD($B12,2)=0,\"*\",\"\"))","v":""},{"$f":"IF(OR(NOW()>MST!$AA$1,$B12=\"\"),\"\",IF(AND($B12>=1,$B12<=12),\"*\",\"\"))","v":""},{"$f":"IF(OR(NOW()>MST!$AA$1,$B12=\"\"),\"\",IF(AND($B12>=13,$B12<=24),\"*\",\"\"))","v":""},{"$f":"IF(OR(NOW()>MST!$AA$1,$B12=\"\"),\"\",IF(AND($B12>=25,$B12<=36),\"*\",\"\"))","v":""},{"$f":"IF(OR(NOW()>MST!$AA$1,$B12=\"\"),\"\",IF(MOD($B12,3)=0,\"*\",\"\"))","v":""},{"$f":"IF(OR(NOW()>MST!$AA$1,$B12=\"\"),\"\",IF(MOD($B12,3)=1,\"*\",\"\"))","v":""},{"$f":"IF(OR(NOW()>MST!$AA$1,$B12=\"\"),\"\",IF(MOD($B12,3)=2,\"*\",\"\"))","v":""},null,null,null,null,null,null,null,null,null,null,null,null,null,null,{"$f":"IF(ROW()=$AC$1,IF(C12=\"*\",C12,\"\"),IF(ROW()<$AC$1,IF(AND(AC13=\"*\",C12=\"*\"),AC13,\"\"),\"\"))","v":""},{"$f":"IF(ROW()=$AC$1,IF(D12=\"*\",D12,\"\"),IF(ROW()<$AC$1,IF(AND(AD13=\"*\",D12=\"*\"),AD13,\"\"),\"\"))","v":""},{"$f":"IF(ROW()=$AC$1,IF(E12=\"*\",E12,\"\"),IF(ROW()<$AC$1,IF(AND(AE13=\"*\",E12=\"*\"),AE13,\"\"),\"\"))","v":""},{"$f":"IF(ROW()=$AC$1,IF(F12=\"*\",F12,\"\"),IF(ROW()<$AC$1,IF(AND(AF13=\"*\",F12=\"*\"),AF13,\"\"),\"\"))","v":""},{"$f":"IF(ROW()=$AC$1,IF(I12=\"*\",I12,\"\"),IF(ROW()<$AC$1,IF(AND(AG13=\"*\",I12=\"*\"),AG13,\"\"),\"\"))","v":""},{"$f":"IF(ROW()=$AC$1,IF(J12=\"*\",J12,\"\"),IF(ROW()<$AC$1,IF(AND(AH13=\"*\",J12=\"*\"),AH13,\"\"),\"\"))","v":""},{"$f":"IF(ROW()=$AC$1,IF(K12=\"*\",K12,\"\"),IF(ROW()<$AC$1,IF(AND(AI13=\"*\",K12=\"*\"),AI13,\"\"),\"\"))","v":""},{"$f":"IF(ROW()=$AC$1,IF(L12=\"*\",L12,\"\"),IF(ROW()<$AC$1,IF(AND(AJ13=\"*\",L12=\"*\"),AJ13,\"\"),\"\"))","v":""},{"$f":"IF(ROW()=$AC$1,IF(M12=\"*\",M12,\"\"),IF(ROW()<$AC$1,IF(AND(AK13=\"*\",M12=\"*\"),AK13,\"\"),\"\"))","v":""},{"$f":"IF(ROW()=$AC$1,IF(N12=\"*\",N12,\"\"),IF(ROW()<$AC$1,IF(AND(AL13=\"*\",N12=\"*\"),AL13,\"\"),\"\"))","v":""}]
[{"$f":"IF(B13=\"\",\"\",ROW()-10)","v":""},null,{"$f":"IF(OR(NOW()>MST!$AA$1,$B13=\"\"),\"\",IF(VLOOKUP($B13,MST!$A:$B,2,FALSE)=C$10,\"*\",\"\"))","v":""},{"$f":"IF(OR(NOW()>MST!$AA$1,$B13=\"\"),\"\",IF(VLOOKUP($B13,MST!$A:$B,2,FALSE)=D$10,\"*\",\"\"))","v":""},{"$f":"IF(OR(NOW()>MST!$AA$1,$B13=\"\"),\"\",IF(AND($B13>=1,$B13<=18),\"*\",\"\"))","v":""},{"$f":"IF(OR(NOW()>MST!$AA$1,$B13=\"\"),\"\",IF(AND($B13>=19,$B13<=36),\"*\",\"\"))","v":""},{"$f":"IF(OR(NOW()>MST!$AA$1,$B13=\"\"),\"\",IF(MOD($B13,2)=1,\"*\",\"\"))","v":""},{"$f":"IF(OR(NOW()>MST!$AA$1,$B13=\"\"),\"\",IF(MOD($B13,2)=0,\"*\",\"\"))","v":""},{"$f":"IF(OR(NOW()>MST!$AA$1,$B13=\"\"),\"\",IF(AND($B13>=1,$B13<=12),\"*\",\"\"))","v":""},{"$f":"IF(OR(NOW()>MST!$AA$1,$B13=\"\"),\"\",IF(AND($B13>=13,$B13<=24),\"*\",\"\"))","v":""},{"$f":"IF(OR(NOW()>MST!$AA$1,$B13=\"\"),\"\",IF(AND($B13>=25,$B13<=36),\"*\",\"\"))","v":""},{"$f":"IF(OR(NOW()>MST!$AA$1,$B13=\"\"),\"\",IF(MOD($B13,3)=0,\"*\",\"\"))","v":""},{"$f":"IF(OR(NOW()>MST!$AA$1,$B13=\"\"),\"\",IF(MOD($B13,3)=1,\"*\",\"\"))","v":""},{"$f":"IF(OR(NOW()>MST!$AA$1,$B13=\"\"),\"\",IF(MOD($B13,3)=2,\"*\",\"\"))","v":""},null,null,null,null,null,null,null,null,null,null,null,null,null,null,"",{"$f":"IF(ROW()=$AC$1,IF(D13=\"*\",D13,\"\"),IF(ROW()<$AC$1,IF(AND(AD14=\"*\",D13=\"*\"),AD14,\"\"),\"\"))","v":""},{"$f":"IF(ROW()=$AC$1,IF(E13=\"*\",E13,\"\"),IF(ROW()<$AC$1,IF(AND(AE14=\"*\",E13=\"*\"),AE14,\"\"),\"\"))","v":""},{"$f":"IF(ROW()=$AC$1,IF(F13=\"*\",F13,\"\"),IF(ROW()<$AC$1,IF(AND(AF14=\"*\",F13=\"*\"),AF14,\"\"),\"\"))","v":""},{"$f":"IF(ROW()=$AC$1,IF(I13=\"*\",I13,\"\"),IF(ROW()<$AC$1,IF(AND(AG14=\"*\",I13=\"*\"),AG14,\"\"),\"\"))","v":""},{"$f":"IF(ROW()=$AC$1,IF(J13=\"*\",J13,\"\"),IF(ROW()<$AC$1,IF(AND(AH14=\"*\",J13=\"*\"),AH14,\"\"),\"\"))","v":""},{"$f":"IF(ROW()=$AC$1,IF(K13=\"*\",K13,\"\"),IF(ROW()<$AC$1,IF(AND(AI14=\"*\",K13=\"*\"),AI14,\"\"),\"\"))","v":""},{"$f":"IF(ROW()=$AC$1,IF(L13=\"*\",L13,\"\"),IF(ROW()<$AC$1,IF(AND(AJ14=\"*\",L13=\"*\"),AJ14,\"\"),\"\"))","v":""},{"$f":"IF(ROW()=$AC$1,IF(M13=\"*\",M13,\"\"),IF(ROW()<$AC$1,IF(AND(AK14=\"*\",M13=\"*\"),AK14,\"\"),\"\"))","v":""},{"$f":"IF(ROW()=$AC$1,IF(N13=\"*\",N13,\"\"),IF(ROW()<$AC$1,IF(AND(AL14=\"*\",N13=\"*\"),AL14,\"\"),\"\"))","v":""}]
["",null,{"$f":"IF(OR(NOW()>MST!$AA$1,$B14=\"\"),\"\",IF(VLOOKUP($B14,MST!$A:$B,2,FALSE)=C$10,\"*\",\"\"))","v":""},{"$f":"IF(OR(NOW()>MST!$AA$1,$B14=\"\"),\"\",IF(VLOOKUP($B14,MST!$A:$B,2,FALSE)=D$10,\"*\",\"\"))","v":""},{"$f":"IF(OR(NOW()>MST!$AA$1,$B14=\"\"),\"\",IF(AND($B14>=1,$B14<=18),\"*\",\"\"))","v":""},{"$f":"IF(OR(NOW()>MST!$AA$1,$B14=\"\"),\"\",IF(AND($B14>=19,$B14<=36),\"*\",\"\"))","v":""},{"$f":"IF(OR(NOW()>MST!$AA$1,$B14=\"\"),\"\",IF(MOD($B14,2)=1,\"*\",\"\"))","v":""},{"$f":"IF(OR(NOW()>MST!$AA$1,$B14=\"\"),\"\",IF(MOD($B14,2)=0,\"*\",\"\"))","v":""},{"$f":"IF(OR(NOW()>MST!$AA$1,$B14=\"\"),\"\",IF(AND($B14>=1,$B14<=12),\"*\",\"\"))","v":""},{"$f":"IF(OR(NOW()>MST!$AA$1,$B14=\"\"),\"\",IF(AND($B14>=13,$B14<=24),\"*\",\"\"))","v":""},{"$f":"IF(OR(NOW()>MST!$AA$1,$B14=\"\"),\"\",IF(AND($B14>=25,$B14<=36),\"*\",\"\"))","v":""},{"$f":"IF(OR(NOW()>MST!$AA$1,$B14=\"\"),\"\",IF(MOD($B14,3)=0,\"*\",\"\"))","v":""},{"$f":"IF(OR(NOW()>MST!$AA$1,$B14=\"\"),\"\",IF(MOD($B14,3)=1,\"*\",\"\"))","v":""},{"$f":"IF(OR(NOW()>MST!$AA$1,$B14=\"\"),\"\",IF(MOD($B14,3)=2,\"*\",\"\"))","v":""},null,null,null,null,null,null,null,null,null,null,null,null,null,null,"",{"$f":"IF(ROW()=$AC$1,IF(D14=\"*\",D14,\"\"),IF(ROW()<$AC$1,IF(AND(AD15=\"*\",D14=\"*\"),AD15,\"\"),\"\"))","v":""},{"$f":"IF(ROW()=$AC$1,IF(E14=\"*\",E14,\"\"),IF(ROW()<$AC$1,IF(AND(AE15=\"*\",E14=\"*\"),AE15,\"\"),\"\"))","v":""},{"$f":"IF(ROW()=$AC$1,IF(F14=\"*\",F14,\"\"),IF(ROW()<$AC$1,IF(AND(AF15=\"*\",F14=\"*\"),AF15,\"\"),\"\"))","v":""},{"$f":"IF(ROW()=$AC$1,IF(I14=\"*\",I14,\"\"),IF(ROW()<$AC$1,IF(AND(AG15=\"*\",I14=\"*\"),AG15,\"\"),\"\"))","v":""},{"$f":"IF(ROW()=$AC$1,IF(J14=\"*\",J14,\"\"),IF(ROW()<$AC$1,IF(AND(AH15=\"*\",J14=\"*\"),AH15,\"\"),\"\"))","v":""},{"$f":"IF(ROW()=$AC$1,IF(K14=\"*\",K14,\"\"),IF(ROW()<$AC$1,IF(AND(AI15=\"*\",K14=\"*\"),AI15,\"\"),\"\"))","v":""},{"$f":"IF(ROW()=$AC$1,IF(L14=\"*\",L14,\"\"),IF(ROW()<$AC$1,IF(AND(AJ15=\"*\",L14=\"*\"),AJ15,\"\"),\"\"))","v":""},{"$f":"IF(ROW()=$AC$1,IF(M14=\"*\",M14,\"\"),IF(ROW()<$AC$1,IF(AND(AK15=\"*\",M14=\"*\"),AK15,\"\"),\"\"))","v":""},{"$f":"IF(ROW()=$AC$1,IF(N14=\"*\",N14,\"\"),IF(ROW()<$AC$1,IF(AND(AL15=\"*\",N14=\"*\"),AL15,\"\"),\"\"))","v":""}]
["",null,{"$f":"IF(OR(NOW()>MST!$AA$1,$B15=\"\"),\"\",IF(VLOOKUP($B15,MST!$A:$B,2,FALSE)=C$10,\"*\",\"\"))","v":""},{"$f":"IF(OR(NOW()>MST!$AA$1,$B15=\"\"),\"\",IF(VLOOKUP($B15,MST!$A:$B,2,FALSE)=D$10,\"*\",\"\"))","v":""},{"$f":"IF(OR(NOW()>MST!$AA$1,$B15=\"\"),\"\",IF(AND($B15>=1,$B15<=18),\"*\",\"\"))","v":""},{"$f":"IF(OR(NOW()>MST!$AA$1,$B15=\"\"),\"\",IF(AND($B15>=19,$B15<=36),\"*\",\"\"))","v":""},{"$f":"IF(OR(NOW()>MST!$AA$1,$B15=\"\"),\"\",IF(MOD($B15,2)=1,\"*\",\"\"))","v":""},{"$f":"IF(OR(NOW()>MST!$AA$1,$B15=\"\"),\"\",IF(MOD($B15,2)=0,\"*\",\"\"))","v":""},{"$f":"IF(OR(NOW()>MST!$AA$1,$B15=\"\"),\"\",IF(AND($B15>=1,$B15<=12),\"*\",\"\"))","v":""},{"$f":"IF(OR(NOW()>MST!$AA$1,$B15=\"\"),\"\",IF(AND($B15>=13,$B15<=24),\"*\",\"\"))","v":""},{"$f":"IF(OR(NOW()>MST!$AA$1,$B15=\"\"),\"\",IF(AND($B15>=25,$B15<=36),\"*\",\"\"))","v":""},{"$f":"IF(OR(NOW()>MST!$AA$1,$B15=\"\"),\"\",IF(MOD($B15,3)=0,\"*\",\"\"))","v":""},{"$f":"IF(OR(NOW()>MST!$AA$1,$B15=\"\"),\"\",IF(MOD($B15,3)=1,\"*\",\"\"))","v":""},{"$f":"IF(OR(NOW()>MST!$AA$1,$B15=\"\"),\"\",IF(MOD($B15,3)=2,\"*\",\"\"))","v":""},null,null,null,null,null,null,null,null,null,null,null,null,null,null,"",{"$f":"IF(ROW()=$AC$1,IF(D15=\"*\",D15,\"\"),IF(ROW()<$AC$1,IF(AND(AD16=\"*\",D15=\"*\"),AD16,\"\"),\"\"))","v":""},{"$f":"IF(ROW()=$AC$1,IF(E15=\"*\",E15,\"\"),IF(ROW()<$AC$1,IF(AND(AE16=\"*\",E15=\"*\"),AE16,\"\"),\"\"))","v":""},{"$f":"IF(ROW()=$AC$1,IF(F15=\"*\",F15,\"\"),IF(ROW()<$AC$1,IF(AND(AF16=\"*\",F15=\"*\"),AF16,\"\"),\"\"))","v":""},{"$f":"IF(ROW()=$AC$1,IF(I15=\"*\",I15,\"\"),IF(ROW()<$AC$1,IF(AND(AG16=\"*\",I15=\"*\"),AG16,\"\"),\"\"))","v":""},{"$f":"IF(ROW()=$AC$1,IF(J15=\"*\",J15,\"\"),IF(ROW()<$AC$1,IF(AND(AH16=\"*\",J15=\"*\"),AH16,\"\"),\"\"))","v":""},{"$f":"IF(ROW()=$AC$1,IF(K15=\"*\",K15,\"\"),IF(ROW()<$AC$1,IF(AND(AI16=\"*\",K15=\"*\"),AI16,\"\"),\"\"))","v":""},{"$f":"IF(ROW()=$AC$1,IF(L15=\"*\",L15,\"\"),IF(ROW()<$AC$1,IF(AND(AJ16=\"*\",L15=\"*\"),AJ16,\"\"),\"\"))","v":""},{"$f":"IF(ROW()=$AC$1,IF(M15=\"*\",M15,\"\"),IF(ROW()<$AC$1,IF(AND(AK16=\"*\",M15=\"*\"),AK16,\"\"),\"\"))","v":""},{"$f":"IF(ROW()=$AC$1,IF(N15=\"*\",N15,\"\"),IF(ROW()<$AC$1,IF(AND(AL16=\"*\",N15=\"*\"),AL16,\"\"),\"\"))","v":""}]
["",null,{"$f":"IF(OR(NOW()>MST!$AA$1,$B16=\"\"),\"\",IF(VLOOKUP($B16,MST!$A:$B,2,FALSE)=C$10,\"*\",\"\"))","v":""},{"$f":"IF(OR(NOW()>MST!$AA$1,$B16=\"\"),\"\",IF(VLOOKUP($B16,MST!$A:$B,2,FALSE)=D$10,\"*\",\"\"))","v":""},{"$f":"IF(OR(NOW()>MST!$AA$1,$B16=\"\"),\"\",IF(AND($B16>=1,$B16<=18),\"*\",\"\"))","v":""},{"$f":"IF(OR(NOW()>MST!$AA$1,$B16=\"\"),\"\",IF(AND($B16>=19,$B16<=36),\"*\",\"\"))","v":""},{"$f":"IF(OR(NOW()>MST!$AA$1,$B16=\"\"),\"\",IF(MOD($B16,2)=1,\"*\",\"\"))","v":""},{"$f":"IF(OR(NOW()>MST!$AA$1,$B16=\"\"),\"\",IF(MOD($B16,2)=0,\"*\",\"\"))","v":""},{"$f":"IF(OR(NOW()>MST!$AA$1,$B16=\"\"),\"\",IF(AND($B16>=1,$B16<=12),\"*\",\"\"))","v":""},{"$f":"IF(OR(NOW()>MST!$AA$1,$B16=\"\"),\"\",IF(AND($B16>=13,$B16<=24),\"*\",\"\"))","v":""},{"$f":"IF(OR(NOW()>MST!$AA$1,$B16=\"\"),\"\",IF(AND($B16>=25,$B16<=36),\"*\",\"\"))","v":""},{"$f":"IF(OR(NOW()>MST!$AA$1,$B16=\"\"),\"\",IF(MOD($B16,3)=0,\"*\",\"\"))","v":""},{"$f":"IF(OR(NOW()>MST!$AA$1,$B16=\"\"),\"\",IF(MOD($B16,3)=1,\"*\",\"\"))","v":""},{"$f":"IF(OR(NOW()>MST!$AA$1,$B16=\"\"),\"\",IF(MOD($B16,3)=2,\"*\",\"\"))","v":""},null,null,null,null,null,null,null,null,null,null,null,null,null,null,"",{"$f":"IF(ROW()=$AC$1,IF(D16=\"*\",D16,\"\"),IF(ROW()<$AC$1,IF(AND(AD17=\"*\",D16=\"*\"),AD17,\"\"),\"\"))","v":""},{"$f":"IF(ROW()=$AC$1,IF(E16=\"*\",E16,\"\"),IF(ROW()<$AC$1,IF(AND(AE17=\"*\",E16=\"*\"),AE17,\"\"),\"\"))","v":""},{"$f":"IF(ROW()=$AC$1,IF(F16=\"*\",F16,\"\"),IF(ROW()<$AC$1,IF(AND(AF17=\"*\",F16=\"*\"),AF17,\"\"),\"\"))","v":""},{"$f":"IF(ROW()=$AC$1,IF(I16=\"*\",I16,\"\"),IF(ROW()<$AC$1,IF(AND(AG17=\"*\",I16=\"*\"),AG17,\"\"),\"\"))","v":""},{"$f":"IF(ROW()=$AC$1,IF(J16=\"*\",J16,\"\"),IF(ROW()<$AC$1,IF(AND(AH17=\"*\",J16=\"*\"),AH17,\"\"),\"\"))","v":""},{"$f":"IF(ROW()=$AC$1,IF(K16=\"*\",K16,\"\"),IF(ROW()<$AC$1,IF(AND(AI17=\"*\",K16=\"*\"),AI17,\"\"),\"\"))","v":""},{"$f":"IF(ROW()=$AC$1,IF(L16=\"*\",L16,\"\"),IF(ROW()<$AC$1,IF(AND(AJ17=\"*\",L16=\"*\"),AJ17,\"\"),\"\"))","v":""},{"$f":"IF(ROW()=$AC$1,IF(M16=\"*\",M16,\"\"),IF(ROW()<$AC$1,IF(AND(AK17=\"*\",M16=\"*\"),AK17,\"\"),\"\"))","v":""},{"$f":"IF(ROW()=$AC$1,IF(N16=\"*\",N16,\"\"),IF(ROW()<$AC$1,IF(AND(AL17=\"*\",N16=\"*\"),AL17,\"\"),\"\"))","v":""}]
["",null,{"$f":"IF(OR(NOW()>MST!$AA$1,$B17=\"\"),\"\",IF(VLOOKUP($B17,MST!$A:$B,2,FALSE)=C$10,\"*\",\"\"))","v":""},{"$f":"IF(OR(NOW()>MST!$AA$1,$B17=\"\"),\"\",IF(VLOOKUP($B17,MST!$A:$B,2,FALSE)=D$10,\"*\",\"\"))","v":""},{"$f":"IF(OR(NOW()>MST!$AA$1,$B17=\"\"),\"\",IF(AND($B17>=1,$B17<=18),\"*\",\"\"))","v":""},{"$f":"IF(OR(NOW()>MST!$AA$1,$B17=\"\"),\"\",IF(AND($B17>=19,$B17<=36),\"*\",\"\"))","v":""},{"$f":"IF(OR(NOW()>MST!$AA$1,$B17=\"\"),\"\",IF(MOD($B17,2)=1,\"*\",\"\"))","v":""},{"$f":"IF(OR(NOW()>MST!$AA$1,$B17=\"\"),\"\",IF(MOD($B17,2)=0,\"*\",\"\"))","v":""},{"$f":"IF(OR(NOW()>MST!$AA$1,$B17=\"\"),\"\",IF(AND($B17>=1,$B17<=12),\"*\",\"\"))","v":""},{"$f":"IF(OR(NOW()>MST!$AA$1,$B17=\"\"),\"\",IF(AND($B17>=13,$B17<=24),\"*\",\"\"))","v":""},{"$f":"IF(OR(NOW()>MST!$AA$1,$B17=\"\"),\"\",IF(AND($B17>=25,$B17<=36),\"*\",\"\"))","v":""},{"$f":"IF(OR(NOW()>MST!$AA$1,$B17=\"\"),\"\",IF(MOD($B17,3)=0,\"*\",\"\"))","v":""},{"$f":"IF(OR(NOW()>MST!$AA$1,$B17=\"\"),\"\",IF(MOD($B17,3)=1,\"*\",\"\"))","v":""},{"$f":"IF(OR(NOW()>MST!$AA$1,$B17=\"\"),\"\",IF(MOD($B17,3)=2,\"*\",\"\"))","v":""},null,null,null,null,null,null,null,null,null,null,null,null,null,null,"",{"$f":"IF(ROW()=$AC$1,IF(D17=\"*\",D17,\"\"),IF(ROW()<$AC$1,IF(AND(AD18=\"*\",D17=\"*\"),AD18,\"\"),\"\"))","v":""},{"$f":"IF(ROW()=$AC$1,IF(E17=\"*\",E17,\"\"),IF(ROW()<$AC$1,IF(AND(AE18=\"*\",E17=\"*\"),AE18,\"\"),\"\"))","v":""},{"$f":"IF(ROW()=$AC$1,IF(F17=\"*\",F17,\"\"),IF(ROW()<$AC$1,IF(AND(AF18=\"*\",F17=\"*\"),AF18,\"\"),\"\"))","v":""},{"$f":"IF(ROW()=$AC$1,IF(I17=\"*\",I17,\"\"),IF(ROW()<$AC$1,IF(AND(AG18=\"*\",I17=\"*\"),AG18,\"\"),\"\"))","v":""},{"$f":"IF(ROW()=$AC$1,IF(J17=\"*\",J17,\"\"),IF(ROW()<$AC$1,IF(AND(AH18=\"*\",J17=\"*\"),AH18,\"\"),\"\"))","v":""},{"$f":"IF(ROW()=$AC$1,IF(K17=\"*\",K17,\"\"),IF(ROW()<$AC$1,IF(AND(AI18=\"*\",K17=\"*\"),AI18,\"\"),\"\"))","v":""},{"$f":"IF(ROW()=$AC$1,IF(L17=\"*\",L17,\"\"),IF(ROW()<$AC$1,IF(AND(AJ18=\"*\",L17=\"*\"),AJ18,\"\"),\"\"))","v":""},{"$f":"IF(ROW()=$AC$1,IF(M17=\"*\",M17,\"\"),IF(ROW()<$AC$1,IF(AND(AK18=\"*\",M17=\"*\"),AK18,\"\"),\"\"))","v":""},{"$f":"IF(ROW()=$AC$1,IF(N17=\"*\",N17,\"\"),IF(ROW()<$AC$1,IF(AND(AL18=\"*\",N17=\"*\"),AL18,\"\"),\"\"))","v":""}]
["",null,{"$f":"IF(OR(NOW()>MST!$AA$1,$B18=\"\"),\"\",IF(VLOOKUP($B18,MST!$A:$B,2,FALSE)=C$10,\"*\",\"\"))","v":""},{"$f":"IF(OR(NOW()>MST!$AA$1,$B18=\"\"),\"\",IF(VLOOKUP($B18,MST!$A:$B,2,FALSE)=D$10,\"*\",\"\"))","v":""},{"$f":"IF(OR(NOW()>MST!$AA$1,$B18=\"\"),\"\",IF(AND($B18>=1,$B18<=18),\"*\",\"\"))","v":""},{"$f":"IF(OR(NOW()>MST!$AA$1,$B18=\"\"),\"\",IF(AND($B18>=19,$B18<=36),\"*\",\"\"))","v":""},{"$f":"IF(OR(NOW()>MST!$AA$1,$B18=\"\"),\"\",IF(MOD($B18,2)=1,\"*\",\"\"))","v":""},{"$f":"IF(OR(NOW()>MST!$AA$1,$B18=\"\"),\"\",IF(MOD($B18,2)=0,\"*\",\"\"))","v":""},{"$f":"IF(OR(NOW()>MST!$AA$1,$B18=\"\"),\"\",IF(AND($B18>=1,$B18<=12),\"*\",\"\"))","v":""},{"$f":"IF(OR(NOW()>MST!$AA$1,$B18=\"\"),\"\",IF(AND($B18>=13,$B18<=24),\"*\",\"\"))","v":""},{"$f":"IF(OR(NOW()>MST!$AA$1,$B18=\"\"),\"\",IF(AND($B18>=25,$B18<=36),\"*\",\"\"))","v":""},{"$f":"IF(OR(NOW()>MST!$AA$1,$B18=\"\"),\"\",IF(MOD($B18,3)=0,\"*\",\"\"))","v":""},{"$f":"IF(OR(NOW()>MST!$AA$1,$B18=\"\"),\"\",IF(MOD($B18,3)=1,\"*\",\"\"))","v":""},{"$f":"IF(OR(NOW()>MST!$AA$1,$B18=\"\"),\"\",IF(MOD($B18,3)=2,\"*\",\"\"))","v":""},null,null,null,null,null,null,null,null,null,null,null,null,null,null,"",{"$f":"IF(ROW()=$AC$1,IF(D18=\"*\",D18,\"\"),IF(ROW()<$AC$1,IF(AND(AD19=\"*\",D18=\"*\"),AD19,\"\"),\"\"))","v":""},{"$f":"IF(ROW()=$AC$1,IF(E18=\"*\",E18,\"\"),IF(ROW()<$AC$1,IF(AND(AE19=\"*\",E18=\"*\"),AE19,\"\"),\"\"))","v":""},{"$f":"IF(ROW()=$AC$1,IF(F18=\"*\",F18,\"\"),IF(ROW()<$AC$1,IF(AND(AF19=\"*\",F18=\"*\"),AF19,\"\"),\"\"))","v":""},{"$f":"IF(ROW()=$AC$1,IF(I18=\"*\",I18,\"\"),IF(ROW()<$AC$1,IF(AND(AG19=\"*\",I18=\"*\"),AG19,\"\"),\"\"))","v":""},{"$f":"IF(ROW()=$AC$1,IF(J18=\"*\",J18,\"\"),IF(ROW()<$AC$1,IF(AND(AH19=\"*\",J18=\"*\"),AH19,\"\"),\"\"))","v":""},{"$f":"IF(ROW()=$AC$1,IF(K18=\"*\",K18,\"\"),IF(ROW()<$AC$1,IF(AND(AI19=\"*\",K18=\"*\"),AI19,\"\"),\"\"))","v":""},{"$f":"IF(ROW()=$AC$1,IF(L18=\"*\",L18,\"\"),IF(ROW()<$AC$1,IF(AND(AJ19=\"*\",L18=\"*\"),AJ19,\"\"),\"\"))","v":""},{"$f":"IF(ROW()=$AC$1,IF(M18=\"*\",M18,\"\"),IF(ROW()<$AC$1,IF(AND(AK19=\"*\",M18=\"*\"),AK19,\"\"),\"\"))","v":""},{"$f":"IF(ROW()=$AC$1,IF(N18=\"*\",N18,\"\"),IF(ROW()<$AC$1,IF(AND(AL19=\"*\",N18=\"*\"),AL19,\"\"),\"\"))","v":""}]
["",null,{"$f":"IF(OR(NOW()>MST!$AA$1,$B19=\"\"),\"\",IF(VLOOKUP($B19,MST!$A:$B,2,FALSE)=C$10,\"*\",\"\"))","v":""},{"$f":"IF(OR(NOW()>MST!$AA$1,$B19=\"\"),\"\",IF(VLOOKUP($B19,MST!$A:$B,2,FALSE)=D$10,\"*\",\"\"))","v":""},{"$f":"IF(OR(NOW()>MST!$AA$1,$B19=\"\"),\"\",IF(AND($B19>=1,$B19<=18),\"*\",\"\"))","v":""},{"$f":"IF(OR(NOW()>MST!$AA$1,$B19=\"\"),\"\",IF(AND($B19>=19,$B19<=36),\"*\",\"\"))","v":""},{"$f":"IF(OR(NOW()>MST!$AA$1,$B19=\"\"),\"\",IF(MOD($B19,2)=1,\"*\",\"\"))","v":""},{"$f":"IF(OR(NOW()>MST!$AA$1,$B19=\"\"),\"\",IF(MOD($B19,2)=0,\"*\",\"\"))","v":""},{"$f":"IF(OR(NOW()>MST!$AA$1,$B19=\"\"),\"\",IF(AND($B19>=1,$B19<=12),\"*\",\"\"))","v":""},{"$f":"IF(OR(NOW()>MST!$AA$1,$B19=\"\"),\"\",IF(AND($B19>=13,$B19<=24),\"*\",\"\"))","v":""},{"$f":"IF(OR(NOW()>MST!$AA$1,$B19=\"\"),\"\",IF(AND($B19>=25,$B19<=36),\"*\",\"\"))","v":""},{"$f":"IF(OR(NOW()>MST!$AA$1,$B19=\"\"),\"\",IF(MOD($B19,3)=0,\"*\",\"\"))","v":""},{"$f":"IF(OR(NOW()>MST!$AA$1,$B19=\"\"),\"\",IF(MOD($B19,3)=1,\"*\",\"\"))","v":""},{"$f":"IF(OR(NOW()>MST!$AA$1,$B19=\"\"),\"\",IF(MOD($B19,3)=2,\"*\",\"\"))","v":""},null,null,null,null,null,null,null,null,null,null,null,null,null,null,"",{"$f":"IF(ROW()=$AC$1,IF(D19=\"*\",D19,\"\"),IF(ROW()<$AC$1,IF(AND(AD20=\"*\",D19=\"*\"),AD20,\"\"),\"\"))","v":""},{"$f":"IF(ROW()=$AC$1,IF(E19=\"*\",E19,\"\"),IF(ROW()<$AC$1,IF(AND(AE20=\"*\",E19=\"*\"),AE20,\"\"),\"\"))","v":""},{"$f":"IF(ROW()=$AC$1,IF(F19=\"*\",F19,\"\"),IF(ROW()<$AC$1,IF(AND(AF20=\"*\",F19=\"*\"),AF20,\"\"),\"\"))","v":""},{"$f":"IF(ROW()=$AC$1,IF(I19=\"*\",I19,\"\"),IF(ROW()<$AC$1,IF(AND(AG20=\"*\",I19=\"*\"),AG20,\"\"),\"\"))","v":""},{"$f":"IF(ROW()=$AC$1,IF(J19=\"*\",J19,\"\"),IF(ROW()<$AC$1,IF(AND(AH20=\"*\",J19=\"*\"),AH20,\"\"),\"\"))","v":""},{"$f":"IF(ROW()=$AC$1,IF(K19=\"*\",K19,\"\"),IF(ROW()<$AC$1,IF(AND(AI20=\"*\",K19=\"*\"),AI20,\"\"),\"\"))","v":""},{"$f":"IF(ROW()=$AC$1,IF(L19=\"*\",L19,\"\"),IF(ROW()<$AC$1,IF(AND(AJ20=\"*\",L19=\"*\"),AJ20,\"\"),\"\"))","v":""},{"$f":"IF(ROW()=$AC$1,IF(M19=\"*\",M19,\"\"),IF(ROW()<$AC$1,IF(AND(AK20=\"*\",M19=\"*\"),AK20,\"\"),\"\"))","v":""},{"$f":"IF(ROW()=$AC$1,IF(N19=\"*\",N19,\"\"),IF(ROW()<$AC$1,IF(AND(AL20=\"*\",N19=\"*\"),AL20,\"\"),\"\"))","v":""}]
["",null,{"$f":"IF(OR(NOW()>MST!$AA$1,$B20=\"\"),\"\",IF(VLOOKUP($B20,MST!$A:$B,2,FALSE)=C$10,\"*\",\"\"))","v":""},{"$f":"IF(OR(NOW()>MST!$AA$1,$B20=\"\"),\"\",IF(VLOOKUP($B20,MST!$A:$B,2,FALSE)=D$10,\"*\",\"\"))","v":""},{"$f":"IF(OR(NOW()>MST!$AA$1,$B20=\"\"),\"\",IF(AND($B20>=1,$B20<=18),\"*\",\"\"))","v":""},{"$f":"IF(OR(NOW()>MST!$AA$1,$B20=\"\"),\"\",IF(AND($B20>=19,$B20<=36),\"*\",\"\"))","v":""},{"$f":"IF(OR(NOW()>MST!$AA$1,$B20=\"\"),\"\",IF(MOD($B20,2)=1,\"*\",\"\"))","v":""},{"$f":"IF(OR(NOW()>MST!$AA$1,$B20=\"\"),\"\",IF(MOD($B20,2)=0,\"*\",\"\"))","v":""},{"$f":"IF(OR(NOW()>MST!$AA$1,$B20=\"\"),\"\",IF(AND($B20>=1,$B20<=12),\"*\",\"\"))","v":""},{"$f":"IF(OR(NOW()>MST!$AA$1,$B20=\"\"),\"\",IF(AND($B20>=13,$B20<=24),\"*\",\"\"))","v":""},{"$f":"IF(OR(NOW()>MST!$AA$1,$B20=\"\"),\"\",IF(AND($B20>=25,$B20<=36),\"*\",\"\"))","v":""},{"$f":"IF(OR(NOW()>MST!$AA$1,$B20=\"\"),\"\",IF(MOD($B20,3)=0,\"*\",\"\"))","v":""},{"$f":"IF(OR(NOW()>MST!$AA$1,$B20=\"\"),\"\",IF(MOD($B20,3)=1,\"*\",\"\"))","v":""},{"$f":"IF(OR(NOW()>MST!$AA$1,$B20=\"\"),\"\",IF(MOD($B20,3)=2,\"*\",\"\"))","v":""},null,null,null,null,null,null,null,null,null,null,null,null,null,null,"",{"$f":"IF(ROW()=$AC$1,IF(D20=\"*\",D20,\"\"),IF(ROW()<$AC$1,IF(AND(AD21=\"*\",D20=\"*\"),AD21,\"\"),\"\"))","v":""},{"$f":"IF(ROW()=$AC$1,IF(E20=\"*\",E20,\"\"),IF(ROW()<$AC$1,IF(AND(AE21=\"*\",E20=\"*\"),AE21,\"\"),\"\"))","v":""},{"$f":"IF(ROW()=$AC$1,IF(F20=\"*\",F20,\"\"),IF(ROW()<$AC$1,IF(AND(AF21=\"*\",F20=\"*\"),AF21,\"\"),\"\"))","v":""},{"$f":"IF(ROW()=$AC$1,IF(I20=\"*\",I20,\"\"),IF(ROW()<$AC$1,IF(AND(AG21=\"*\",I20=\"*\"),AG21,\"\"),\"\"))","v":""},{"$f":"IF(ROW()=$AC$1,IF(J20=\"*\",J20,\"\"),IF(ROW()<$AC$1,IF(AND(AH21=\"*\",J20=\"*\"),AH21,\"\"),\"\"))","v":""},{"$f":"IF(ROW()=$AC$1,IF(K20=\"*\",K20,\"\"),IF(ROW()<$AC$1,IF(AND(AI21=\"*\",K20=\"*\"),AI21,\"\"),\"\"))","v":""},{"$f":"IF(ROW()=$AC$1,IF(L20=\"*\",L20,\"\"),IF(ROW()<$AC$1,IF(AND(AJ21=\"*\",L20=\"*\"),AJ21,\"\"),\"\"))","v":""},{"$f":"IF(ROW()=$AC$1,IF(M20=\"*\",M20,\"\"),IF(ROW()<$AC$1,IF(AND(AK21=\"*\",M20=\"*\"),AK21,\"\"),\"\"))","v":""},{"$f":"IF(ROW()=$AC$1,IF(N20=\"*\",N20,\"\"),IF(ROW()<$AC$1,IF(AND(AL21=\"*\",N20=\"*\"),AL21,\"\"),\"\"))","v":""}]
["",null,{"$f":"IF(OR(NOW()>MST!$AA$1,$B21=\"\"),\"\",IF(VLOOKUP($B21,MST!$A:$B,2,FALSE)=C$10,\"*\",\"\"))","v":""},{"$f":"IF(OR(NOW()>MST!$AA$1,$B21=\"\"),\"\",IF(VLOOKUP($B21,MST!$A:$B,2,FALSE)=D$10,\"*\",\"\"))","v":""},{"$f":"IF(OR(NOW()>MST!$AA$1,$B21=\"\"),\"\",IF(AND($B21>=1,$B21<=18),\"*\",\"\"))","v":""},{"$f":"IF(OR(NOW()>MST!$AA$1,$B21=\"\"),\"\",IF(AND($B21>=19,$B21<=36),\"*\",\"\"))","v":""},{"$f":"IF(OR(NOW()>MST!$AA$1,$B21=\"\"),\"\",IF(MOD($B21,2)=1,\"*\",\"\"))","v":""},{"$f":"IF(OR(NOW()>MST!$AA$1,$B21=\"\"),\"\",IF(MOD($B21,2)=0,\"*\",\"\"))","v":""},{"$f":"IF(OR(NOW()>MST!$AA$1,$B21=\"\"),\"\",IF(AND($B21>=1,$B21<=12),\"*\",\"\"))","v":""},{"$f":"IF(OR(NOW()>MST!$AA$1,$B21=\"\"),\"\",IF(AND($B21>=13,$B21<=24),\"*\",\"\"))","v":""},{"$f":"IF(OR(NOW()>MST!$AA$1,$B21=\"\"),\"\",IF(AND($B21>=25,$B21<=36),\"*\",\"\"))","v":""},{"$f":"IF(OR(NOW()>MST!$AA$1,$B21=\"\"),\"\",IF(MOD($B21,3)=0,\"*\",\"\"))","v":""},{"$f":"IF(OR(NOW()>MST!$AA$1,$B21=\"\"),\"\",IF(MOD($B21,3)=1,\"*\",\"\"))","v":""},{"$f":"IF(OR(NOW()>MST!$AA$1,$B21=\"\"),\"\",IF(MOD($B21,3)=2,\"*\",\"\"))","v":""},null,null,null,null,null,null,null,null,null,null,null,null,null,null,"",{"$f":"IF(ROW()=$AC$1,IF(D21=\"*\",D21,\"\"),IF(ROW()<$AC$1,IF(AND(AD22=\"*\",D21=\"*\"),AD22,\"\"),\"\"))","v":""},{"$f":"IF(ROW()=$AC$1,IF(E21=\"*\",E21,\"\"),IF(ROW()<$AC$1,IF(AND(AE22=\"*\",E21=\"*\"),AE22,\"\"),\"\"))","v":""},{"$f":"IF(ROW()=$AC$1,IF(F21=\"*\",F21,\"\"),IF(ROW()<$AC$1,IF(AND(AF22=\"*\",F21=\"*\"),AF22,\"\"),\"\"))","v":""},{"$f":"IF(ROW()=$AC$1,IF(I21=\"*\",I21,\"\"),IF(ROW()<$AC$1,IF(AND(AG22=\"*\",I21=\"*\"),AG22,\"\"),\"\"))","v":""},{"$f":"IF(ROW()=$AC$1,IF(J21=\"*\",J21,\"\"),IF(ROW()<$AC$1,IF(AND(AH22=\"*\",J21=\"*\"),AH22,\"\"),\"\"))","v":""},{"$f":"IF(ROW()=$AC$1,IF(K21=\"*\",K21,\"\"),IF(ROW()<$AC$1,IF(AND(AI22=\"*\",K21=\"*\"),AI22,\"\"),\"\"))","v":""},{"$f":"IF(ROW()=$AC$1,IF(L21=\"*\",L21,\"\"),IF(ROW()<$AC$1,IF(AND(AJ22=\"*\",L21=\"*\"),AJ22,\"\"),\"\"))","v":""},{"$f":"IF(ROW()=$AC$1,IF(M21=\"*\",M21,\"\"),IF(ROW()<$AC$1,IF(AND(AK22=\"*\",M21=\"*\"),AK22,\"\"),\"\"))","v":""},{"$f":"IF(ROW()=$AC$1,IF(N21=\"*\",N21,\"\"),IF(ROW()<$AC$1,IF(AND(AL22=\"*\",N21=\"*\"),AL22,\"\"),\"\"))","v":""}]
["",null,{"$f":"IF(OR(NOW()>MST!$AA$1,$B22=\"\"),\"\",IF(VLOOKUP($B22,MST!$A:$B,2,FALSE)=C$10,\"*\",\"\"))","v":""},{"$f":"IF(OR(NOW()>MST!$AA$1,$B22=\"\"),\"\",IF(VLOOKUP($B22,MST!$A:$B,2,FALSE)=D$10,\"*\",\"\"))","v":""},{"$f":"IF(OR(NOW()>MST!$AA$1,$B22=\"\"),\"\",IF(AND($B22>=1,$B22<=18),\"*\",\"\"))","v":""},{"$f":"IF(OR(NOW()>MST!$AA$1,$B22=\"\"),\"\",IF(AND($B22>=19,$B22<=36),\"*\",\"\"))","v":""},{"$f":"IF(OR(NOW()>MST!$AA$1,$B22=\"\"),\"\",IF(MOD($B22,2)=1,\"*\",\"\"))","v":""},{"$f":"IF(OR(NOW()>MST!$AA$1,$B22=\"\"),\"\",IF(MOD($B22,2)=0,\"*\",\"\"))","v":""},{"$f":"IF(OR(NOW()>MST!$AA$1,$B22=\"\"),\"\",IF(AND($B22>=1,$B22<=12),\"*\",\"\"))","v":""},{"$f":"IF(OR(NOW()>MST!$AA$1,$B22=\"\"),\"\",IF(AND($B22>=13,$B22<=24),\"*\",\"\"))","v":""},{"$f":"IF(OR(NOW()>MST!$AA$1,$B22=\"\"),\"\",IF(AND($B22>=25,$B22<=36),\"*\",\"\"))","v":""},{"$f":"IF(OR(NOW()>MST!$AA$1,$B22=\"\"),\"\",IF(MOD($B22,3)=0,\"*\",\"\"))","v":""},{"$f":"IF(OR(NOW()>MST!$AA$1,$B22=\"\"),\"\",IF(MOD($B22,3)=1,\"*\",\"\"))","v":""},{"$f":"IF(OR(NOW()>MST!$AA$1,$B22=\"\"),\"\",IF(MOD($B22,3)=2,\"*\",\"\"))","v":""},null,null,null,null,null,null,null,null,null,null,null,null,null,null,"",{"$f":"IF(ROW()=$AC$1,IF(D22=\"*\",D22,\"\"),IF(ROW()<$AC$1,IF(AND(AD23=\"*\",D22=\"*\"),AD23,\"\"),\"\"))","v":""},{"$f":"IF(ROW()=$AC$1,IF(E22=\"*\",E22,\"\"),IF(ROW()<$AC$1,IF(AND(AE23=\"*\",E22=\"*\"),AE23,\"\"),\"\"))","v":""},{"$f":"IF(ROW()=$AC$1,IF(F22=\"*\",F22,\"\"),IF(ROW()<$AC$1,IF(AND(AF23=\"*\",F22=\"*\"),AF23,\"\"),\"\"))","v":""},{"$f":"IF(ROW()=$AC$1,IF(I22=\"*\",I22,\"\"),IF(ROW()<$AC$1,IF(AND(AG23=\"*\",I22=\"*\"),AG23,\"\"),\"\"))","v":""},{"$f":"IF(ROW()=$AC$1,IF(J22=\"*\",J22,\"\"),IF(ROW()<$AC$1,IF(AND(AH23=\"*\",J22=\"*\"),AH23,\"\"),\"\"))","v":""},{"$f":"IF(ROW()=$AC$1,IF(K22=\"*\",K22,\"\"),IF(ROW()<$AC$1,IF(AND(AI23=\"*\",K22=\"*\"),AI23,\"\"),\"\"))","v":""},{"$f":"IF(ROW()=$AC$1,IF(L22=\"*\",L22,\"\"),IF(ROW()<$AC$1,IF(AND(AJ23=\"*\",L22=\"*\"),AJ23,\"\"),\"\"))","v":""},{"$f":"IF(ROW()=$AC$1,IF(M22=\"*\",M22,\"\"),IF(ROW()<$AC$1,IF(AND(AK23=\"*\",M22=\"*\"),AK23,\"\"),\"\"))","v":""},{"$f":"IF(ROW()=$AC$1,IF(N22=\"*\",N22,\"\"),IF(ROW()<$AC$1,IF(AND(AL23=\"*\",N22=\"*\"),AL23,\"\"),\"\"))","v":""}]
["",null,{"$f":"IF(OR(NOW()>MST!$AA$1,$B23=\"\"),\"\",IF(VLOOKUP($B23,MST!$A:$B,2,FALSE)=C$10,\"*\",\"\"))","v":""},{"$f":"IF(OR(NOW()>MST!$AA$1,$B23=\"\"),\"\",IF(VLOOKUP($B23,MST!$A:$B,2,FALSE)=D$10,\"*\",\"\"))","v":""},{"$f":"IF(OR(NOW()>MST!$AA$1,$B23=\"\"),\"\",IF(AND($B23>=1,$B23<=18),\"*\",\"\"))","v":""},{"$f":"IF(OR(NOW()>MST!$AA$1,$B23=\"\"),\"\",IF(AND($B23>=19,$B23<=36),\"*\",\"\"))","v":""},{"$f":"IF(OR(NOW()>MST!$AA$1,$B23=\"\"),\"\",IF(MOD($B23,2)=1,\"*\",\"\"))","v":""},{"$f":"IF(OR(NOW()>MST!$AA$1,$B23=\"\"),\"\",IF(MOD($B23,2)=0,\"*\",\"\"))","v":""},{"$f":"IF(OR(NOW()>MST!$AA$1,$B23=\"\"),\"\",IF(AND($B23>=1,$B23<=12),\"*\",\"\"))","v":""},{"$f":"IF(OR(NOW()>MST!$AA$1,$B23=\"\"),\"\",IF(AND($B23>=13,$B23<=24),\"*\",\"\"))","v":""},{"$f":"IF(OR(NOW()>MST!$AA$1,$B23=\"\"),\"\",IF(AND($B23>=25,$B23<=36),\"*\",\"\"))","v":""},{"$f":"IF(OR(NOW()>MST!$AA$1,$B23=\"\"),\"\",IF(MOD($B23,3)=0,\"*\",\"\"))","v":""},{"$f":"IF(OR(NOW()>MST!$AA$1,$B23=\"\"),\"\",IF(MOD($B23,3)=1,\"*\",\"\"))","v":""},{"$f":"IF(OR(NOW()>MST!$AA$1,$B23=\"\"),\"\",IF(MOD($B23,3)=2,\"*\",\"\"))","v":""},null,null,null,null,null,null,null,null,null,null,null,null,null,null,"",{"$f":"IF(ROW()=$AC$1,IF(D23=\"*\",D23,\"\"),IF(ROW()<$AC$1,IF(AND(AD24=\"*\",D23=\"*\"),AD24,\"\"),\"\"))","v":""},{"$f":"IF(ROW()=$AC$1,IF(E23=\"*\",E23,\"\"),IF(ROW()<$AC$1,IF(AND(AE24=\"*\",E23=\"*\"),AE24,\"\"),\"\"))","v":""},{"$f":"IF(ROW()=$AC$1,IF(F23=\"*\",F23,\"\"),IF(ROW()<$AC$1,IF(AND(AF24=\"*\",F23=\"*\"),AF24,\"\"),\"\"))","v":""},{"$f":"IF(ROW()=$AC$1,IF(I23=\"*\",I23,\"\"),IF(ROW()<$AC$1,IF(AND(AG24=\"*\",I23=\"*\"),AG24,\"\"),\"\"))","v":""},{"$f":"IF(ROW()=$AC$1,IF(J23=\"*\",J23,\"\"),IF(ROW()<$AC$1,IF(AND(AH24=\"*\",J23=\"*\"),AH24,\"\"),\"\"))","v":""},{"$f":"IF(ROW()=$AC$1,IF(K23=\"*\",K23,\"\"),IF(ROW()<$AC$1,IF(AND(AI24=\"*\",K23=\"*\"),AI24,\"\"),\"\"))","v":""},{"$f":"IF(ROW()=$AC$1,IF(L23=\"*\",L23,\"\"),IF(ROW()<$AC$1,IF(AND(AJ24=\"*\",L23=\"*\"),AJ24,\"\"),\"\"))","v":""},{"$f":"IF(ROW()=$AC$1,IF(M23=\"*\",M23,\"\"),IF(ROW()<$AC$1,IF(AND(AK24=\"*\",M23=\"*\"),AK24,\"\"),\"\"))","v":""},{"$f":"IF(ROW()=$AC$1,IF(N23=\"*\",N23,\"\"),IF(ROW()<$AC$1,IF(AND(AL24=\"*\",N23=\"*\"),AL24,\"\"),\"\"))","v":""}]
["",null,{"$f":"IF(OR(NOW()>MST!$AA$1,$B24=\"\"),\"\",IF(VLOOKUP($B24,MST!$A:$B,2,FALSE)=C$10,\"*\",\"\"))","v":""},{"$f":"IF(OR(NOW()>MST!$AA$1,$B24=\"\"),\"\",IF(VLOOKUP($B24,MST!$A:$B,2,FALSE)=D$10,\"*\",\"\"))","v":""},{"$f":"IF(OR(NOW()>MST!$AA$1,$B24=\"\"),\"\",IF(AND($B24>=1,$B24<=18),\"*\",\"\"))","v":""},{"$f":"IF(OR(NOW()>MST!$AA$1,$B24=\"\"),\"\",IF(AND($B24>=19,$B24<=36),\"*\",\"\"))","v":""},{"$f":"IF(OR(NOW()>MST!$AA$1,$B24=\"\"),\"\",IF(MOD($B24,2)=1,\"*\",\"\"))","v":""},{"$f":"IF(OR(NOW()>MST!$AA$1,$B24=\"\"),\"\",IF(MOD($B24,2)=0,\"*\",\"\"))","v":""},{"$f":"IF(OR(NOW()>MST!$AA$1,$B24=\"\"),\"\",IF(AND($B24>=1,$B24<=12),\"*\",\"\"))","v":""},{"$f":"IF(OR(NOW()>MST!$AA$1,$B24=\"\"),\"\",IF(AND($B24>=13,$B24<=24),\"*\",\"\"))","v":""},{"$f":"IF(OR(NOW()>MST!$AA$1,$B24=\"\"),\"\",IF(AND($B24>=25,$B24<=36),\"*\",\"\"))","v":""},{"$f":"IF(OR(NOW()>MST!$AA$1,$B24=\"\"),\"\",IF(MOD($B24,3)=0,\"*\",\"\"))","v":""},{"$f":"IF(OR(NOW()>MST!$AA$1,$B24=\"\"),\"\",IF(MOD($B24,3)=1,\"*\",\"\"))","v":""},{"$f":"IF(OR(NOW()>MST!$AA$1,$B24=\"\"),\"\",IF(MOD($B24,3)=2,\"*\",\"\"))","v":""},null,null,null,null,null,null,null,null,null,null,null,null,null,null,"",{"$f":"IF(ROW()=$AC$1,IF(D24=\"*\",D24,\"\"),IF(ROW()<$AC$1,IF(AND(AD25=\"*\",D24=\"*\"),AD25,\"\"),\"\"))","v":""},{"$f":"IF(ROW()=$AC$1,IF(E24=\"*\",E24,\"\"),IF(ROW()<$AC$1,IF(AND(AE25=\"*\",E24=\"*\"),AE25,\"\"),\"\"))","v":""},{"$f":"IF(ROW()=$AC$1,IF(F24=\"*\",F24,\"\"),IF(ROW()<$AC$1,IF(AND(AF25=\"*\",F24=\"*\"),AF25,\"\"),\"\"))","v":""},{"$f":"IF(ROW()=$AC$1,IF(I24=\"*\",I24,\"\"),IF(ROW()<$AC$1,IF(AND(AG25=\"*\",I24=\"*\"),AG25,\"\"),\"\"))","v":""},{"$f":"IF(ROW()=$AC$1,IF(J24=\"*\",J24,\"\"),IF(ROW()<$AC$1,IF(AND(AH25=\"*\",J24=\"*\"),AH25,\"\"),\"\"))","v":""},{"$f":"IF(ROW()=$AC$1,IF(K24=\"*\",K24,\"\"),IF(ROW()<$AC$1,IF(AND(AI25=\"*\",K24=\"*\"),AI25,\"\"),\"\"))","v":""},{"$f":"IF(ROW()=$AC$1,IF(L24=\"*\",L24,\"\"),IF(ROW()<$AC$1,IF(AND(AJ25=\"*\",L24=\"*\"),AJ25,\"\"),\"\"))","v":""},{"$f":"IF(ROW()=$AC$1,IF(M24=\"*\",M24,\"\"),IF(ROW()<$AC$1,IF(AND(AK25=\"*\",M24=\"*\"),AK25,\"\"),\"\"))","v":""},{"$f":"IF(ROW()=$AC$1,IF(N24=\"*\",N24,\"\"),IF(ROW()<$AC$1,IF(AND(AL25=\"*\",N24=\"*\"),AL25,\"\"),\"\"))","v":""}]
["",null,{"$f":"IF(OR(NOW()>MST!$AA$1,$B25=\"\"),\"\",IF(VLOOKUP($B25,MST!$A:$B,2,FALSE)=C$10,\"*\",\"\"))","v":""},{"$f":"IF(OR(NOW()>MST!$AA$1,$B25=\"\"),\"\",IF(VLOOKUP($B25,MST!$A:$B,2,FALSE)=D$10,\"*\",\"\"))","v":""},{"$f":"IF(OR(NOW()>MST!$AA$1,$B25=\"\"),\"\",IF(AND($B25>=1,$B25<=18),\"*\",\"\"))","v":""},{"$f":"IF(OR(NOW()>MST!$AA$1,$B25=\"\"),\"\",IF(AND($B25>=19,$B25<=36),\"*\",\"\"))","v":""},{"$f":"IF(OR(NOW()>MST!$AA$1,$B25=\"\"),\"\",IF(MOD($B25,2)=1,\"*\",\"\"))","v":""},{"$f":"IF(OR(NOW()>MST!$AA$1,$B25=\"\"),\"\",IF(MOD($B25,2)=0,\"*\",\"\"))","v":""},{"$f":"IF(OR(NOW()>MST!$AA$1,$B25=\"\"),\"\",IF(AND($B25>=1,$B25<=12),\"*\",\"\"))","v":""},{"$f":"IF(OR(NOW()>MST!$AA$1,$B25=\"\"),\"\",IF(AND($B25>=13,$B25<=24),\"*\",\"\"))","v":""},{"$f":"IF(OR(NOW()>MST!$AA$1,$B25=\"\"),\"\",IF(AND($B25>=25,$B25<=36),\"*\",\"\"))","v":""},{"$f":"IF(OR(NOW()>MST!$AA$1,$B25=\"\"),\"\",IF(MOD($B25,3)=0,\"*\",\"\"))","v":""},{"$f":"IF(OR(NOW()>MST!$AA$1,$B25=\"\"),\"\",IF(MOD($B25,3)=1,\"*\",\"\"))","v":""},{"$f":"IF(OR(NOW()>MST!$AA$1,$B25=\"\"),\"\",IF(MOD($B25,3)=2,\"*\",\"\"))","v":""},null,null,null,null,null,null,null,null,null,null,null,null,null,null,"",{"$f":"IF(ROW()=$AC$1,IF(D25=\"*\",D25,\"\"),IF(ROW()<$AC$1,IF(AND(AD26=\"*\",D25=\"*\"),AD26,\"\"),\"\"))","v":""},{"$f":"IF(ROW()=$AC$1,IF(E25=\"*\",E25,\"\"),IF(ROW()<$AC$1,IF(AND(AE26=\"*\",E25=\"*\"),AE26,\"\"),\"\"))","v":""},{"$f":"IF(ROW()=$AC$1,IF(F25=\"*\",F25,\"\"),IF(ROW()<$AC$1,IF(AND(AF26=\"*\",F25=\"*\"),AF26,\"\"),\"\"))","v":""},{"$f":"IF(ROW()=$AC$1,IF(I25=\"*\",I25,\"\"),IF(ROW()<$AC$1,IF(AND(AG26=\"*\",I25=\"*\"),AG26,\"\"),\"\"))","v":""},{"$f":"IF(ROW()=$AC$1,IF(J25=\"*\",J25,\"\"),IF(ROW()<$AC$1,IF(AND(AH26=\"*\",J25=\"*\"),AH26,\"\"),\"\"))","v":""},{"$f":"IF(ROW()=$AC$1,IF(K25=\"*\",K25,\"\"),IF(ROW()<$AC$1,IF(AND(AI26=\"*\",K25=\"*\"),AI26,\"\"),\"\"))","v":""},{"$f":"IF(ROW()=$AC$1,IF(L25=\"*\",L25,\"\"),IF(ROW()<$AC$1,IF(AND(AJ26=\"*\",L25=\"*\"),AJ26,\"\"),\"\"))","v":""},{"$f":"IF(ROW()=$AC$1,IF(M25=\"*\",M25,\"\"),IF(ROW()<$AC$1,IF(AND(AK26=\"*\",M25=\"*\"),AK26,\"\"),\"\"))","v":""},{"$f":"IF(ROW()=$AC$1,IF(N25=\"*\",N25,\"\"),IF(ROW()<$AC$1,IF(AND(AL26=\"*\",N25=\"*\"),AL26,\"\"),\"\"))","v":""}]
["",null,{"$f":"IF(OR(NOW()>MST!$AA$1,$B26=\"\"),\"\",IF(VLOOKUP($B26,MST!$A:$B,2,FALSE)=C$10,\"*\",\"\"))","v":""},{"$f":"IF(OR(NOW()>MST!$AA$1,$B26=\"\"),\"\",IF(VLOOKUP($B26,MST!$A:$B,2,FALSE)=D$10,\"*\",\"\"))","v":""},{"$f":"IF(OR(NOW()>MST!$AA$1,$B26=\"\"),\"\",IF(AND($B26>=1,$B26<=18),\"*\",\"\"))","v":""},{"$f":"IF(OR(NOW()>MST!$AA$1,$B26=\"\"),\"\",IF(AND($B26>=19,$B26<=36),\"*\",\"\"))","v":""},{"$f":"IF(OR(NOW()>MST!$AA$1,$B26=\"\"),\"\",IF(MOD($B26,2)=1,\"*\",\"\"))","v":""},{"$f":"IF(OR(NOW()>MST!$AA$1,$B26=\"\"),\"\",IF(MOD($B26,2)=0,\"*\",\"\"))","v":""},{"$f":"IF(OR(NOW()>MST!$AA$1,$B26=\"\"),\"\",IF(AND($B26>=1,$B26<=12),\"*\",\"\"))","v":""},{"$f":"IF(OR(NOW()>MST!$AA$1,$B26=\"\"),\"\",IF(AND($B26>=13,$B26<=24),\"*\",\"\"))","v":""},{"$f":"IF(OR(NOW()>MST!$AA$1,$B26=\"\"),\"\",IF(AND($B26>=25,$B26<=36),\"*\",\"\"))","v":""},{"$f":"IF(OR(NOW()>MST!$AA$1,$B26=\"\"),\"\",IF(MOD($B26,3)=0,\"*\",\"\"))","v":""},{"$f":"IF(OR(NOW()>MST!$AA$1,$B26=\"\"),\"\",IF(MOD($B26,3)=1,\"*\",\"\"))","v":""},{"$f":"IF(OR(NOW()>MST!$AA$1,$B26=\"\"),\"\",IF(MOD($B26,3)=2,\"*\",\"\"))","v":""},null,null,null,null,null,null,null,null,null,null,null,null,null,null,"",{"$f":"IF(ROW()=$AC$1,IF(D26=\"*\",D26,\"\"),IF(ROW()<$AC$1,IF(AND(AD27=\"*\",D26=\"*\"),AD27,\"\"),\"\"))","v":""},{"$f":"IF(ROW()=$AC$1,IF(E26=\"*\",E26,\"\"),IF(ROW()<$AC$1,IF(AND(AE27=\"*\",E26=\"*\"),AE27,\"\"),\"\"))","v":""},{"$f":"IF(ROW()=$AC$1,IF(F26=\"*\",F26,\"\"),IF(ROW()<$AC$1,IF(AND(AF27=\"*\",F26=\"*\"),AF27,\"\"),\"\"))","v":""},{"$f":"IF(ROW()=$AC$1,IF(I26=\"*\",I26,\"\"),IF(ROW()<$AC$1,IF(AND(AG27=\"*\",I26=\"*\"),AG27,\"\"),\"\"))","v":""},{"$f":"IF(ROW()=$AC$1,IF(J26=\"*\",J26,\"\"),IF(ROW()<$AC$1,IF(AND(AH27=\"*\",J26=\"*\"),AH27,\"\"),\"\"))","v":""},{"$f":"IF(ROW()=$AC$1,IF(K26=\"*\",K26,\"\"),IF(ROW()<$AC$1,IF(AND(AI27=\"*\",K26=\"*\"),AI27,\"\"),\"\"))","v":""},{"$f":"IF(ROW()=$AC$1,IF(L26=\"*\",L26,\"\"),IF(ROW()<$AC$1,IF(AND(AJ27=\"*\",L26=\"*\"),AJ27,\"\"),\"\"))","v":""},{"$f":"IF(ROW()=$AC$1,IF(M26=\"*\",M26,\"\"),IF(ROW()<$AC$1,IF(AND(AK27=\"*\",M26=\"*\"),AK27,\"\"),\"\"))","v":""},{"$f":"IF(ROW()=$AC$1,IF(N26=\"*\",N26,\"\"),IF(ROW()<$AC$1,IF(AND(AL27=\"*\",N26=\"*\"),AL27,\"\"),\"\"))","v":""}]
["",null,{"$f":"IF(OR(NOW()>MST!$AA$1,$B27=\"\"),\"\",IF(VLOOKUP($B27,MST!$A:$B,2,FALSE)=C$10,\"*\",\"\"))","v":""},{"$f":"IF(OR(NOW()>MST!$AA$1,$B27=\"\"),\"\",IF(VLOOKUP($B27,MST!$A:$B,2,FALSE)=D$10,\"*\",\"\"))","v":""},{"$f":"IF(OR(NOW()>MST!$AA$1,$B27=\"\"),\"\",IF(AND($B27>=1,$B27<=18),\"*\",\"\"))","v":""},{"$f":"IF(OR(NOW()>MST!$AA$1,$B27=\"\"),\"\",IF(AND($B27>=19,$B27<=36),\"*\",\"\"))","v":""},{"$f":"IF(OR(NOW()>MST!$AA$1,$B27=\"\"),\"\",IF(MOD($B27,2)=1,\"*\",\"\"))","v":""},{"$f":"IF(OR(NOW()>MST!$AA$1,$B27=\"\"),\"\",IF(MOD($B27,2)=0,\"*\",\"\"))","v":""},{"$f":"IF(OR(NOW()>MST!$AA$1,$B27=\"\"),\"\",IF(AND($B27>=1,$B27<=12),\"*\",\"\"))","v":""},{"$f":"IF(OR(NOW()>MST!$AA$1,$B27=\"\"),\"\",IF(AND($B27>=13,$B27<=24),\"*\",\"\"))","v":""},{"$f":"IF(OR(NOW()>MST!$AA$1,$B27=\"\"),\"\",IF(AND($B27>=25,$B27<=36),\"*\",\"\"))","v":""},{"$f":"IF(OR(NOW()>MST!$AA$1,$B27=\"\"),\"\",IF(MOD($B27,3)=0,\"*\",\"\"))","v":""},{"$f":"IF(OR(NOW()>MST!$AA$1,$B27=\"\"),\"\",IF(MOD($B27,3)=1,\"*\",\"\"))","v":""},{"$f":"IF(OR(NOW()>MST!$AA$1,$B27=\"\"),\"\",IF(MOD($B27,3)=2,\"*\",\"\"))","v":""},null,null,null,null,null,null,null,null,null,null,null,null,null,null,"",{"$f":"IF(ROW()=$AC$1,IF(D27=\"*\",D27,\"\"),IF(ROW()<$AC$1,IF(AND(AD28=\"*\",D27=\"*\"),AD28,\"\"),\"\"))","v":""},{"$f":"IF(ROW()=$AC$1,IF(E27=\"*\",E27,\"\"),IF(ROW()<$AC$1,IF(AND(AE28=\"*\",E27=\"*\"),AE28,\"\"),\"\"))","v":""},{"$f":"IF(ROW()=$AC$1,IF(F27=\"*\",F27,\"\"),IF(ROW()<$AC$1,IF(AND(AF28=\"*\",F27=\"*\"),AF28,\"\"),\"\"))","v":""},{"$f":"IF(ROW()=$AC$1,IF(I27=\"*\",I27,\"\"),IF(ROW()<$AC$1,IF(AND(AG28=\"*\",I27=\"*\"),AG28,\"\"),\"\"))","v":""},{"$f":"IF(ROW()=$AC$1,IF(J27=\"*\",J27,\"\"),IF(ROW()<$AC$1,IF(AND(AH28=\"*\",J27=\"*\"),AH28,\"\"),\"\"))","v":""},{"$f":"IF(ROW()=$AC$1,IF(K27=\"*\",K27,\"\"),IF(ROW()<$AC$1,IF(AND(AI28=\"*\",K27=\"*\"),AI28,\"\"),\"\"))","v":""},{"$f":"IF(ROW()=$AC$1,IF(L27=\"*\",L27,\"\"),IF(ROW()<$AC$1,IF(AND(AJ28=\"*\",L27=\"*\"),AJ28,\"\"),\"\"))","v":""},{"$f":"IF(ROW()=$AC$1,IF(M27=\"*\",M27,\"\"),IF(ROW()<$AC$1,IF(AND(AK28=\"*\",M27=\"*\"),AK28,\"\"),\"\"))","v":""},""]
["",null,{"$f":"IF(OR(NOW()>MST!$AA$1,$B28=\"\"),\"\",IF(VLOOKUP($B28,MST!$A:$B,2,FALSE)=C$10,\"*\",\"\"))","v":""},{"$f":"IF(OR(NOW()>MST!$AA$1,$B28=\"\"),\"\",IF(VLOOKUP($B28,MST!$A:$B,2,FALSE)=D$10,\"*\",\"\"))","v":""},{"$f":"IF(OR(NOW()>MST!$AA$1,$B28=\"\"),\"\",IF(AND($B28>=1,$B28<=18),\"*\",\"\"))","v":""},{"$f":"IF(OR(NOW()>MST!$AA$1,$B28=\"\"),\"\",IF(AND($B28>=19,$B28<=36),\"*\",\"\"))","v":""},{"$f":"IF(OR(NOW()>MST!$AA$1,$B28=\"\"),\"\",IF(MOD($B28,2)=1,\"*\",\"\"))","v":""},{"$f":"IF(OR(NOW()>MST!$AA$1,$B28=\"\"),\"\",IF(MOD($B28,2)=0,\"*\",\"\"))","v":""},{"$f":"IF(OR(NOW()>MST!$AA$1,$B28=\"\"),\"\",IF(AND($B28>=1,$B28<=12),\"*\",\"\"))","v":""},{"$f":"IF(OR(NOW()>MST!$AA$1,$B28=\"\"),\"\",IF(AND($B28>=13,$B28<=24),\"*\",\"\"))","v":""},{"$f":"IF(OR(NOW()>MST!$AA$1,$B28=\"\"),\"\",IF(AND($B28>=25,$B28<=36),\"*\",\"\"))","v":""},{"$f":"IF(OR(NOW()>MST!$AA$1,$B28=\"\"),\"\",IF(MOD($B28,3)=0,\"*\",\"\"))","v":""},{"$f":"IF(OR(NOW()>MST!$AA$1,$B28=\"\"),\"\",IF(MOD($B28,3)=1,\"*\",\"\"))","v":""},{"$f":"IF(OR(NOW()>MST!$AA$1,$B28=\"\"),\"\",IF(MOD($B28,3)=2,\"*\",\"\"))","v":""},null,null,null,null,null,null,null,null,null,null,null,null,null,null,"","","","","","","","","",""]
["",null,{"$f":"IF(OR(NOW()>MST!$AA$1,$B29=\"\"),\"\",IF(VLOOKUP($B29,MST!$A:$B,2,FALSE)=C$10,\"*\",\"\"))","v":""},{"$f":"IF(OR(NOW()>MST!$AA$1,$B29=\"\"),\"\",IF(VLOOKUP($B29,MST!$A:$B,2,FALSE)=D$10,\"*\",\"\"))","v":""},{"$f":"IF(OR(NOW()>MST!$AA$1,$B29=\"\"),\"\",IF(AND($B29>=1,$B29<=18),\"*\",\"\"))","v":""},{"$f":"IF(OR(NOW()>MST!$AA$1,$B29=\"\"),\"\",IF(AND($B29>=19,$B29<=36),\"*\",\"\"))","v":""},{"$f":"IF(OR(NOW()>MST!$AA$1,$B29=\"\"),\"\",IF(MOD($B29,2)=1,\"*\",\"\"))","v":""},{"$f":"IF(OR(NOW()>MST!$AA$1,$B29=\"\"),\"\",IF(MOD($B29,2)=0,\"*\",\"\"))","v":""},{"$f":"IF(OR(NOW()>MST!$AA$1,$B29=\"\"),\"\",IF(AND($B29>=1,$B29<=12),\"*\",\"\"))","v":""},{"$f":"IF(OR(NOW()>MST!$AA$1,$B29=\"\"),\"\",IF(AND($B29>=13,$B29<=24),\"*\",\"\"))","v":""},{"$f":"IF(OR(NOW()>MST!$AA$1,$B29=\"\"),\"\",IF(AND($B29>=25,$B29<=36),\"*\",\"\"))","v":""},{"$f":"IF(OR(NOW()>MST!$AA$1,$B29=\"\"),\"\",IF(MOD($B29,3)=0,\"*\",\"\"))","v":""},{"$f":"IF(OR(NOW()>MST!$AA$1,$B29=\"\"),\"\",IF(MOD($B29,3)=1,\"*\",\"\"))","v":""},{"$f":"IF(OR(NOW()>MST!$AA$1,$B29=\"\"),\"\",IF(MOD($B29,3)=2,\"*\",\"\"))","v":""},null,null,null,null,null,null,null,null,null,null,null,null,null,null,"","","","","","","","","",""]
["",null,{"$f":"IF(OR(NOW()>MST!$AA$1,$B30=\"\"),\"\",IF(VLOOKUP($B30,MST!$A:$B,2,FALSE)=C$10,\"*\",\"\"))","v":""},{"$f":"IF(OR(NOW()>MST!$AA$1,$B30=\"\"),\"\",IF(VLOOKUP($B30,MST!$A:$B,2,FALSE)=D$10,\"*\",\"\"))","v":""},{"$f":"IF(OR(NOW()>MST!$AA$1,$B30=\"\"),\"\",IF(AND($B30>=1,$B30<=18),\"*\",\"\"))","v":""},{"$f":"IF(OR(NOW()>MST!$AA$1,$B30=\"\"),\"\",IF(AND($B30>=19,$B30<=36),\"*\",\"\"))","v":""},{"$f":"IF(OR(NOW()>MST!$AA$1,$B30=\"\"),\"\",IF(MOD($B30,2)=1,\"*\",\"\"))","v":""},{"$f":"IF(OR(NOW()>MST!$AA$1,$B30=\"\"),\"\",IF(MOD($B30,2)=0,\"*\",\"\"))","v":""},{"$f":"IF(OR(NOW()>MST!$AA$1,$B30=\"\"),\"\",IF(AND($B30>=1,$B30<=12),\"*\",\"\"))","v":""},{"$f":"IF(OR(NOW()>MST!$AA$1,$B30=\"\"),\"\",IF(AND($B30>=13,$B30<=24),\"*\",\"\"))","v":""},{"$f":"IF(OR(NOW()>MST!$AA$1,$B30=\"\"),\"\",IF(AND($B30>=25,$B30<=36),\"*\",\"\"))","v":""},{"$f":"IF(OR(NOW()>MST!$AA$1,$B30=\"\"),\"\",IF(MOD($B30,3)=0,\"*\",\"\"))","v":""},{"$f":"IF(OR(NOW()>MST!$AA$1,$B30=\"\"),\"\",IF(MOD($B30,3)=1,\"*\",\"\"))","v":""},{"$f":"IF(OR(NOW()>MST!$AA$1,$B30=\"\"),\"\",IF(MOD($B30,3)=2,\"*\",\"\"))","v":""},null,null,null,null,null,null,null,null,null,null,null,null,null,null,"","","","","","","","","",""]
["",null,{"$f":"IF(OR(NOW()>MST!$AA$1,$B31=\"\"),\"\",IF(VLOOKUP($B31,MST!$A:$B,2,FALSE)=C$10,\"*\",\"\"))","v":""},{"$f":"IF(OR(NOW()>MST!$AA$1,$B31=\"\"),\"\",IF(VLOOKUP($B31,MST!$A:$B,2,FALSE)=D$10,\"*\",\"\"))","v":""},{"$f":"IF(OR(NOW()>MST!$AA$1,$B31=\"\"),\"\",IF(AND($B31>=1,$B31<=18),\"*\",\"\"))","v":""},{"$f":"IF(OR(NOW()>MST!$AA$1,$B31=\"\"),\"\",IF(AND($B31>=19,$B31<=36),\"*\",\"\"))","v":""},{"$f":"IF(OR(NOW()>MST!$AA$1,$B31=\"\"),\"\",IF(MOD($B31,2)=1,\"*\",\"\"))","v":""},{"$f":"IF(OR(NOW()>MST!$AA$1,$B31=\"\"),\"\",IF(MOD($B31,2)=0,\"*\",\"\"))","v":""},{"$f":"IF(OR(NOW()>MST!$AA$1,$B31=\"\"),\"\",IF(AND($B31>=1,$B31<=12),\"*\",\"\"))","v":""},{"$f":"IF(OR(NOW()>MST!$AA$1,$B31=\"\"),\"\",IF(AND($B31>=13,$B31<=24),\"*\",\"\"))","v":""},{"$f":"IF(OR(NOW()>MST!$AA$1,$B31=\"\"),\"\",IF(AND($B31>=25,$B31<=36),\"*\",\"\"))","v":""},{"$f":"IF(OR(NOW()>MST!$AA$1,$B31=\"\"),\"\",IF(MOD($B31,3)=0,\"*\",\"\"))","v":""},{"$f":"IF(OR(NOW()>MST!$AA$1,$B31=\"\"),\"\",IF(MOD($B31,3)=1,\"*\",\"\"))","v":""},{"$f":"IF(OR(NOW()>MST!$AA$1,$B31=\"\"),\"\",IF(MOD($B31,3)=2,\"*\",\"\"))","v":""},null,null,null,null,null,null,null,null,null,null,null,null,null,null,"","","","","","","","","",""]
["",null,{"$f":"IF(OR(NOW()>MST!$AA$1,$B32=\"\"),\"\",IF(VLOOKUP($B32,MST!$A:$B,2,FALSE)=C$10,\"*\",\"\"))","v":""},{"$f":"IF(OR(NOW()>MST!$AA$1,$B32=\"\"),\"\",IF(VLOOKUP($B32,MST!$A:$B,2,FALSE)=D$10,\"*\",\"\"))","v":""},{"$f":"IF(OR(NOW()>MST!$AA$1,$B32=\"\"),\"\",IF(AND($B32>=1,$B32<=18),\"*\",\"\"))","v":""},{"$f":"IF(OR(NOW()>MST!$AA$1,$B32=\"\"),\"\",IF(AND($B32>=19,$B32<=36),\"*\",\"\"))","v":""},{"$f":"IF(OR(NOW()>MST!$AA$1,$B32=\"\"),\"\",IF(MOD($B32,2)=1,\"*\",\"\"))","v":""},{"$f":"IF(OR(NOW()>MST!$AA$1,$B32=\"\"),\"\",IF(MOD($B32,2)=0,\"*\",\"\"))","v":""},{"$f":"IF(OR(NOW()>MST!$AA$1,$B32=\"\"),\"\",IF(AND($B32>=1,$B32<=12),\"*\",\"\"))","v":""},{"$f":"IF(OR(NOW()>MST!$AA$1,$B32=\"\"),\"\",IF(AND($B32>=13,$B32<=24),\"*\",\"\"))","v":""},{"$f":"IF(OR(NOW()>MST!$AA$1,$B32=\"\"),\"\",IF(AND($B32>=25,$B32<=36),\"*\",\"\"))","v":""},{"$f":"IF(OR(NOW()>MST!$AA$1,$B32=\"\"),\"\",IF(MOD($B32,3)=0,\"*\",\"\"))","v":""},{"$f":"IF(OR(NOW()>MST!$AA$1,$B32=\"\"),\"\",IF(MOD($B32,3)=1,\"*\",\"\"))","v":""},{"$f":"IF(OR(NOW()>MST!$AA$1,$B32=\"\"),\"\",IF(MOD($B32,3)=2,\"*\",\"\"))","v":""},null,null,null,null,null,null,null,null,null,null,null,null,null,null,"","","","","","","","","",""]
["",null,{"$f":"IF(OR(NOW()>MST!$AA$1,$B33=\"\"),\"\",IF(VLOOKUP($B33,MST!$A:$B,2,FALSE)=C$10,\"*\",\"\"))","v":""},{"$f":"IF(OR(NOW()>MST!$AA$1,$B33=\"\"),\"\",IF(VLOOKUP($B33,MST!$A:$B,2,FALSE)=D$10,\"*\",\"\"))","v":""},{"$f":"IF(OR(NOW()>MST!$AA$1,$B33=\"\"),\"\",IF(AND($B33>=1,$B33<=18),\"*\",\"\"))","v":""},{"$f":"IF(OR(NOW()>MST!$AA$1,$B33=\"\"),\"\",IF(AND($B33>=19,$B33<=36),\"*\",\"\"))","v":""},{"$f":"IF(OR(NOW()>MST!$AA$1,$B33=\"\"),\"\",IF(MOD($B33,2)=1,\"*\",\"\"))","v":""},{"$f":"IF(OR(NOW()>MST!$AA$1,$B33=\"\"),\"\",IF(MOD($B33,2)=0,\"*\",\"\"))","v":""},{"$f":"IF(OR(NOW()>MST!$AA$1,$B33=\"\"),\"\",IF(AND($B33>=1,$B33<=12),\"*\",\"\"))","v":""},{"$f":"IF(OR(NOW()>MST!$AA$1,$B33=\"\"),\"\",IF(AND($B33>=13,$B33<=24),\"*\",\"\"))","v":""},{"$f":"IF(OR(NOW()>MST!$AA$1,$B33=\"\"),\"\",IF(AND($B33>=25,$B33<=36),\"*\",\"\"))","v":""},{"$f":"IF(OR(NOW()>MST!$AA$1,$B33=\"\"),\"\",IF(MOD($B33,3)=0,\"*\",\"\"))","v":""},{"$f":"IF(OR(NOW()>MST!$AA$1,$B33=\"\"),\"\",IF(MOD($B33,3)=1,\"*\",\"\"))","v":""},{"$f":"IF(OR(NOW()>MST!$AA$1,$B33=\"\"),\"\",IF(MOD($B33,3)=2,\"*\",\"\"))","v":""},null,null,null,null,null,null,null,null,null,null,null,null,null,null,"","","","","","","","","",""]
["",null,{"$f":"IF(OR(NOW()>MST!$AA$1,$B34=\"\"),\"\",IF(VLOOKUP($B34,MST!$A:$B,2,FALSE)=C$10,\"*\",\"\"))","v":""},{"$f":"IF(OR(NOW()>MST!$AA$1,$B34=\"\"),\"\",IF(VLOOKUP($B34,MST!$A:$B,2,FALSE)=D$10,\"*\",\"\"))","v":""},{"$f":"IF(OR(NOW()>MST!$AA$1,$B34=\"\"),\"\",IF(AND($B34>=1,$B34<=18),\"*\",\"\"))","v":""},{"$f":"IF(OR(NOW()>MST!$AA$1,$B34=\"\"),\"\",IF(AND($B34>=19,$B34<=36),\"*\",\"\"))","v":""},{"$f":"IF(OR(NOW()>MST!$AA$1,$B34=\"\"),\"\",IF(MOD($B34,2)=1,\"*\",\"\"))","v":""},{"$f":"IF(OR(NOW()>MST!$AA$1,$B34=\"\"),\"\",IF(MOD($B34,2)=0,\"*\",\"\"))","v":""},{"$f":"IF(OR(NOW()>MST!$AA$1,$B34=\"\"),\"\",IF(AND($B34>=1,$B34<=12),\"*\",\"\"))","v":""},{"$f":"IF(OR(NOW()>MST!$AA$1,$B34=\"\"),\"\",IF(AND($B34>=13,$B34<=24),\"*\",\"\"))","v":""},{"$f":"IF(OR(NOW()>MST!$AA$1,$B34=\"\"),\"\",IF(AND($B34>=25,$B34<=36),\"*\",\"\"))","v":""},{"$f":"IF(OR(NOW()>MST!$AA$1,$B34=\"\"),\"\",IF(MOD($B34,3)=0,\"*\",\"\"))","v":""},{"$f":"IF(OR(NOW()>MST!$AA$1,$B34=\"\"),\"\",IF(MOD($B34,3)=1,\"*\",\"\"))","v":""},{"$f":"IF(OR(NOW()>MST!$AA$1,$B34=\"\"),\"\",IF(MOD($B34,3)=2,\"*\",\"\"))","v":""},null,null,null,null,null,null,null,null,null,null,null,null,null,null,"","","","","","","","","",""]
["",null,{"$f":"IF(OR(NOW()>MST!$AA$1,$B35=\"\"),\"\",IF(VLOOKUP($B35,MST!$A:$B,2,FALSE)=C$10,\"*\",\"\"))","v":""},{"$f":"IF(OR(NOW()>MST!$AA$1,$B35=\"\"),\"\",IF(VLOOKUP($B35,MST!$A:$B,2,FALSE)=D$10,\"*\",\"\"))","v":""},{"$f":"IF(OR(NOW()>MST!$AA$1,$B35=\"\"),\"\",IF(AND($B35>=1,$B35<=18),\"*\",\"\"))","v":""},{"$f":"IF(OR(NOW()>MST!$AA$1,$B35=\"\"),\"\",IF(AND($B35>=19,$B35<=36),\"*\",\"\"))","v":""},{"$f":"IF(OR(NOW()>MST!$AA$1,$B35=\"\"),\"\",IF(MOD($B35,2)=1,\"*\",\"\"))","v":""},{"$f":"IF(OR(NOW()>MST!$AA$1,$B35=\"\"),\"\",IF(MOD($B35,2)=0,\"*\",\"\"))","v":""},{"$f":"IF(OR(NOW()>MST!$AA$1,$B35=\"\"),\"\",IF(AND($B35>=1,$B35<=12),\"*\",\"\"))","v":""},{"$f":"IF(OR(NOW()>MST!$AA$1,$B35=\"\"),\"\",IF(AND($B35>=13,$B35<=24),\"*\",\"\"))","v":""},{"$f":"IF(OR(NOW()>MST!$AA$1,$B35=\"\"),\"\",IF(AND($B35>=25,$B35<=36),\"*\",\"\"))","v":""},{"$f":"IF(OR(NOW()>MST!$AA$1,$B35=\"\"),\"\",IF(MOD($B35,3)=0,\"*\",\"\"))","v":""},{"$f":"IF(OR(NOW()>MST!$AA$1,$B35=\"\"),\"\",IF(MOD($B35,3)=1,\"*\",\"\"))","v":""},{"$f":"IF(OR(NOW()>MST!$AA$1,$B35=\"\"),\"\",IF(MOD($B35,3)=2,\"*\",\"\"))","v":""},null,null,null,null,null,null,null,null,null,null,null,null,null,null,"","","","","","","","","",""]
["",null,{"$f":"IF(OR(NOW()>MST!$AA$1,$B36=\"\"),\"\",IF(VLOOKUP($B36,MST!$A:$B,2,FALSE)=C$10,\"*\",\"\"))","v":""},{"$f":"IF(OR(NOW()>MST!$AA$1,$B36=\"\"),\"\",IF(VLOOKUP($B36,MST!$A:$B,2,FALSE)=D$10,\"*\",\"\"))","v":""},{"$f":"IF(OR(NOW()>MST!$AA$1,$B36=\"\"),\"\",IF(AND($B36>=1,$B36<=18),\"*\",\"\"))","v":""},{"$f":"IF(OR(NOW()>MST!$AA$1,$B36=\"\"),\"\",IF(AND($B36>=19,$B36<=36),\"*\",\"\"))","v":""},{"$f":"IF(OR(NOW()>MST!$AA$1,$B36=\"\"),\"\",IF(MOD($B36,2)=1,\"*\",\"\"))","v":""},{"$f":"IF(OR(NOW()>MST!$AA$1,$B36=\"\"),\"\",IF(MOD($B36,2)=0,\"*\",\"\"))","v":""},{"$f":"IF(OR(NOW()>MST!$AA$1,$B36=\"\"),\"\",IF(AND($B36>=1,$B36<=12),\"*\",\"\"))","v":""},{"$f":"IF(OR(NOW()>MST!$AA$1,$B36=\"\"),\"\",IF(AND($B36>=13,$B36<=24),\"*\",\"\"))","v":""},{"$f":"IF(OR(NOW()>MST!$AA$1,$B36=\"\"),\"\",IF(AND($B36>=25,$B36<=36),\"*\",\"\"))","v":""},{"$f":"IF(OR(NOW()>MST!$AA$1,$B36=\"\"),\"\",IF(MOD($B36,3)=0,\"*\",\"\"))","v":""},{"$f":"IF(OR(NOW()>MST!$AA$1,$B36=\"\"),\"\",IF(MOD($B36,3)=1,\"*\",\"\"))","v":""},{"$f":"IF(OR(NOW()>MST!$AA$1,$B36=\"\"),\"\",IF(MOD($B36,3)=2,\"*\",\"\"))","v":""},null,null,null,null,null,null,null,null,null,null,null,null,null,null,"","","","","","","","","",""]
["",null,{"$f":"IF(OR(NOW()>MST!$AA$1,$B37=\"\"),\"\",IF(VLOOKUP($B37,MST!$A:$B,2,FALSE)=C$10,\"*\",\"\"))","v":""},{"$f":"IF(OR(NOW()>MST!$AA$1,$B37=\"\"),\"\",IF(VLOOKUP($B37,MST!$A:$B,2,FALSE)=D$10,\"*\",\"\"))","v":""},{"$f":"IF(OR(NOW()>MST!$AA$1,$B37=\"\"),\"\",IF(AND($B37>=1,$B37<=18),\"*\",\"\"))","v":""},{"$f":"IF(OR(NOW()>MST!$AA$1,$B37=\"\"),\"\",IF(AND($B37>=19,$B37<=36),\"*\",\"\"))","v":""},{"$f":"IF(OR(NOW()>MST!$AA$1,$B37=\"\"),\"\",IF(MOD($B37,2)=1,\"*\",\"\"))","v":""},{"$f":"IF(OR(NOW()>MST!$AA$1,$B37=\"\"),\"\",IF(MOD($B37,2)=0,\"*\",\"\"))","v":""},{"$f":"IF(OR(NOW()>MST!$AA$1,$B37=\"\"),\"\",IF(AND($B37>=1,$B37<=12),\"*\",\"\"))","v":""},{"$f":"IF(OR(NOW()>MST!$AA$1,$B37=\"\"),\"\",IF(AND($B37>=13,$B37<=24),\"*\",\"\"))","v":""},{"$f":"IF(OR(NOW()>MST!$AA$1,$B37=\"\"),\"\",IF(AND($B37>=25,$B37<=36),\"*\",\"\"))","v":""},{"$f":"IF(OR(NOW()>MST!$AA$1,$B37=\"\"),\"\",IF(MOD($B37,3)=0,\"*\",\"\"))","v":""},{"$f":"IF(OR(NOW()>MST!$AA$1,$B37=\"\"),\"\",IF(MOD($B37,3)=1,\"*\",\"\"))","v":""},{"$f":"IF(OR(NOW()>MST!$AA$1,$B37=\"\"),\"\",IF(MOD($B37,3)=2,\"*\",\"\"))","v":""},null,null,null,null,null,null,null,null,null,null,null,null,null,null,"","","","","","","","","",""]
["",null,{"$f":"IF(OR(NOW()>MST!$AA$1,$B38=\"\"),\"\",IF(VLOOKUP($B38,MST!$A:$B,2,FALSE)=C$10,\"*\",\"\"))","v":""},{"$f":"IF(OR(NOW()>MST!$AA$1,$B38=\"\"),\"\",IF(VLOOKUP($B38,MST!$A:$B,2,FALSE)=D$10,\"*\",\"\"))","v":""},{"$f":"IF(OR(NOW()>MST!$AA$1,$B38=\"\"),\"\",IF(AND($B38>=1,$B38<=18),\"*\",\"\"))","v":""},{"$f":"IF(OR(NOW()>MST!$AA$1,$B38=\"\"),\"\",IF(AND($B38>=19,$B38<=36),\"*\",\"\"))","v":""},{"$f":"IF(OR(NOW()>MST!$AA$1,$B38=\"\"),\"\",IF(MOD($B38,2)=1,\"*\",\"\"))","v":""},{"$f":"IF(OR(NOW()>MST!$AA$1,$B38=\"\"),\"\",IF(MOD($B38,2)=0,\"*\",\"\"))","v":""},{"$f":"IF(OR(NOW()>MST!$AA$1,$B38=\"\"),\"\",IF(AND($B38>=1,$B38<=12),\"*\",\"\"))","v":""},{"$f":"IF(OR(NOW()>MST!$AA$1,$B38=\"\"),\"\",IF(AND($B38>=13,$B38<=24),\"*\",\"\"))","v":""},{"$f":"IF(OR(NOW()>MST!$AA$1,$B38=\"\"),\"\",IF(AND($B38>=25,$B38<=36),\"*\",\"\"))","v":""},{"$f":"IF(OR(NOW()>MST!$AA$1,$B38=\"\"),\"\",IF(MOD($B38,3)=0,\"*\",\"\"))","v":""},{"$f":"IF(OR(NOW()>MST!$AA$1,$B38=\"\"),\"\",IF(MOD($B38,3)=1,\"*\",\"\"))","v":""},{"$f":"IF(OR(NOW()>MST!$AA$1,$B38=\"\"),\"\",IF(MOD($B38,3)=2,\"*\",\"\"))","v":""},null,null,null,null,null,null,null,null,null,null,null,null,null,null,"","","","","","","","","",""]
["",null,{"$f":"IF(OR(NOW()>MST!$AA$1,$B39=\"\"),\"\",IF(VLOOKUP($B39,MST!$A:$B,2,FALSE)=C$10,\"*\",\"\"))","v":""},{"$f":"IF(OR(NOW()>MST!$AA$1,$B39=\"\"),\"\",IF(VLOOKUP($B39,MST!$A:$B,2,FALSE)=D$10,\"*\",\"\"))","v":""},{"$f":"IF(OR(NOW()>MST!$AA$1,$B39=\"\"),\"\",IF(AND($B39>=1,$B39<=18),\"*\",\"\"))","v":""},{"$f":"IF(OR(NOW()>MST!$AA$1,$B39=\"\"),\"\",IF(AND($B39>=19,$B39<=36),\"*\",\"\"))","v":""},{"$f":"IF(OR(NOW()>MST!$AA$1,$B39=\"\"),\"\",IF(MOD($B39,2)=1,\"*\",\"\"))","v":""},{"$f":"IF(OR(NOW()>MST!$AA$1,$B39=\"\"),\"\",IF(MOD($B39,2)=0,\"*\",\"\"))","v":""},{"$f":"IF(OR(NOW()>MST!$AA$1,$B39=\"\"),\"\",IF(AND($B39>=1,$B39<=12),\"*\",\"\"))","v":""},{"$f":"IF(OR(NOW()>MST!$AA$1,$B39=\"\"),\"\",IF(AND($B39>=13,$B39<=24),\"*\",\"\"))","v":""},{"$f":"IF(OR(NOW()>MST!$AA$1,$B39=\"\"),\"\",IF(AND($B39>=25,$B39<=36),\"*\",\"\"))","v":""},{"$f":"IF(OR(NOW()>MST!$AA$1,$B39=\"\"),\"\",IF(MOD($B39,3)=0,\"*\",\"\"))","v":""},{"$f":"IF(OR(NOW()>MST!$AA$1,$B39=\"\"),\"\",IF(MOD($B39,3)=1,\"*\",\"\"))","v":""},{"$f":"IF(OR(NOW()>MST!$AA$1,$B39=\"\"),\"\",IF(MOD($B39,3)=2,\"*\",\"\"))","v":""},null,null,null,null,null,null,null,null,null,null,null,null,null,null,"","","","","","","","","",""]
["",null,{"$f":"IF(OR(NOW()>MST!$AA$1,$B40=\"\"),\"\",IF(VLOOKUP($B40,MST!$A:$B,2,FALSE)=C$10,\"*\",\"\"))","v":""},{"$f":"IF(OR(NOW()>MST!$AA$1,$B40=\"\"),\"\",IF(VLOOKUP($B40,MST!$A:$B,2,FALSE)=D$10,\"*\",\"\"))","v":""},{"$f":"IF(OR(NOW()>MST!$AA$1,$B40=\"\"),\"\",IF(AND($B40>=1,$B40<=18),\"*\",\"\"))","v":""},{"$f":"IF(OR(NOW()>MST!$AA$1,$B40=\"\"),\"\",IF(AND($B40>=19,$B40<=36),\"*\",\"\"))","v":""},{"$f":"IF(OR(NOW()>MST!$AA$1,$B40=\"\"),\"\",IF(MOD($B40,2)=1,\"*\",\"\"))","v":""},{"$f":"IF(OR(NOW()>MST!$AA$1,$B40=\"\"),\"\",IF(MOD($B40,2)=0,\"*\",\"\"))","v":""},{"$f":"IF(OR(NOW()>MST!$AA$1,$B40=\"\"),\"\",IF(AND($B40>=1,$B40<=12),\"*\",\"\"))","v":""},{"$f":"IF(OR(NOW()>MST!$AA$1,$B40=\"\"),\"\",IF(AND($B40>=13,$B40<=24),\"*\",\"\"))","v":""},{"$f":"IF(OR(NOW()>MST!$AA$1,$B40=\"\"),\"\",IF(AND($B40>=25,$B40<=36),\"*\",\"\"))","v":""},{"$f":"IF(OR(NOW()>MST!$AA$1,$B40=\"\"),\"\",IF(MOD($B40,3)=0,\"*\",\"\"))","v":""},{"$f":"IF(OR(NOW()>MST!$AA$1,$B40=\"\"),\"\",IF(MOD($B40,3)=1,\"*\",\"\"))","v":""},{"$f":"IF(OR(NOW()>MST!$AA$1,$B40=\"\"),\"\",IF(MOD($B40,3)=2,\"*\",\"\"))","v":""},null,null,null,null,null,null,null,null,null,null,null,null,null,null,"","","","","","","","","",""]
["",null,{"$f":"IF(OR(NOW()>MST!$AA$1,$B41=\"\"),\"\",IF(VLOOKUP($B41,MST!$A:$B,2,FALSE)=C$10,\"*\",\"\"))","v":""},{"$f":"IF(OR(NOW()>MST!$AA$1,$B41=\"\"),\"\",IF(VLOOKUP($B41,MST!$A:$B,2,FALSE)=D$10,\"*\",\"\"))","v":""},{"$f":"IF(OR(NOW()>MST!$AA$1,$B41=\"\"),\"\",IF(AND($B41>=1,$B41<=18),\"*\",\"\"))","v":""},{"$f":"IF(OR(NOW()>MST!$AA$1,$B41=\"\"),\"\",IF(AND($B41>=19,$B41<=36),\"*\",\"\"))","v":""},{"$f":"IF(OR(NOW()>MST!$AA$1,$B41=\"\"),\"\",IF(MOD($B41,2)=1,\"*\",\"\"))","v":""},{"$f":"IF(OR(NOW()>MST!$AA$1,$B41=\"\"),\"\",IF(MOD($B41,2)=0,\"*\",\"\"))","v":""},{"$f":"IF(OR(NOW()>MST!$AA$1,$B41=\"\"),\"\",IF(AND($B41>=1,$B41<=12),\"*\",\"\"))","v":""},{"$f":"IF(OR(NOW()>MST!$AA$1,$B41=\"\"),\"\",IF(AND($B41>=13,$B41<=24),\"*\",\"\"))","v":""},{"$f":"IF(OR(NOW()>MST!$AA$1,$B41=\"\"),\"\",IF(AND($B41>=25,$B41<=36),\"*\",\"\"))","v":""},{"$f":"IF(OR(NOW()>MST!$AA$1,$B41=\"\"),\"\",IF(MOD($B41,3)=0,\"*\",\"\"))","v":""},{"$f":"IF(OR(NOW()>MST!$AA$1,$B41=\"\"),\"\",IF(MOD($B41,3)=1,\"*\",\"\"))","v":""},{"$f":"IF(OR(NOW()>MST!$AA$1,$B41=\"\"),\"\",IF(MOD($B41,3)=2,\"*\",\"\"))","v":""},null,null,null,null,null,null,null,null,null,null,null,null,null,null,"","","","","","","","","",""]
["",null,{"$f":"IF(OR(NOW()>MST!$AA$1,$B42=\"\"),\"\",IF(VLOOKUP($B42,MST!$A:$B,2,FALSE)=C$10,\"*\",\"\"))","v":""},{"$f":"IF(OR(NOW()>MST!$AA$1,$B42=\"\"),\"\",IF(VLOOKUP($B42,MST!$A:$B,2,FALSE)=D$10,\"*\",\"\"))","v":""},{"$f":"IF(OR(NOW()>MST!$AA$1,$B42=\"\"),\"\",IF(AND($B42>=1,$B42<=18),\"*\",\"\"))","v":""},{"$f":"IF(OR(NOW()>MST!$AA$1,$B42=\"\"),\"\",IF(AND($B42>=19,$B42<=36),\"*\",\"\"))","v":""},{"$f":"IF(OR(NOW()>MST!$AA$1,$B42=\"\"),\"\",IF(MOD($B42,2)=1,\"*\",\"\"))","v":""},{"$f":"IF(OR(NOW()>MST!$AA$1,$B42=\"\"),\"\",IF(MOD($B42,2)=0,\"*\",\"\"))","v":""},{"$f":"IF(OR(NOW()>MST!$AA$1,$B42=\"\"),\"\",IF(AND($B42>=1,$B42<=12),\"*\",\"\"))","v":""},{"$f":"IF(OR(NOW()>MST!$AA$1,$B42=\"\"),\"\",IF(AND($B42>=13,$B42<=24),\"*\",\"\"))","v":""},{"$f":"IF(OR(NOW()>MST!$AA$1,$B42=\"\"),\"\",IF(AND($B42>=25,$B42<=36),\"*\",\"\"))","v":""},{"$f":"IF(OR(NOW()>MST!$AA$1,$B42=\"\"),\"\",IF(MOD($B42,3)=0,\"*\",\"\"))","v":""},{"$f":"IF(OR(NOW()>MST!$AA$1,$B42=\"\"),\"\",IF(MOD($B42,3)=1,\"*\",\"\"))","v":""},{"$f":"IF(OR(NOW()>MST!$AA$1,$B42=\"\"),\"\",IF(MOD($B42,3)=2,\"*\",\"\"))","v":""},null,null,null,null,null,null,null,null,null,null,null,null,null,null,"","","","","","","","","",""]
["",null,{"$f":"IF(OR(NOW()>MST!$AA$1,$B43=\"\"),\"\",IF(VLOOKUP($B43,MST!$A:$B,2,FALSE)=C$10,\"*\",\"\"))","v":""},{"$f":"IF(OR(NOW()>MST!$AA$1,$B43=\"\"),\"\",IF(VLOOKUP($B43,MST!$A:$B,2,FALSE)=D$10,\"*\",\"\"))","v":""},{"$f":"IF(OR(NOW()>MST!$AA$1,$B43=\"\"),\"\",IF(AND($B43>=1,$B43<=18),\"*\",\"\"))","v":""},{"$f":"IF(OR(NOW()>MST!$AA$1,$B43=\"\"),\"\",IF(AND($B43>=19,$B43<=36),\"*\",\"\"))","v":""},{"$f":"IF(OR(NOW()>MST!$AA$1,$B43=\"\"),\"\",IF(MOD($B43,2)=1,\"*\",\"\"))","v":""},{"$f":"IF(OR(NOW()>MST!$AA$1,$B43=\"\"),\"\",IF(MOD($B43,2)=0,\"*\",\"\"))","v":""},{"$f":"IF(OR(NOW()>MST!$AA$1,$B43=\"\"),\"\",IF(AND($B43>=1,$B43<=12),\"*\",\"\"))","v":""},{"$f":"IF(OR(NOW()>MST!$AA$1,$B43=\"\"),\"\",IF(AND($B43>=13,$B43<=24),\"*\",\"\"))","v":""},{"$f":"IF(OR(NOW()>MST!$AA$1,$B43=\"\"),\"\",IF(AND($B43>=25,$B43<=36),\"*\",\"\"))","v":""},{"$f":"IF(OR(NOW()>MST!$AA$1,$B43=\"\"),\"\",IF(MOD($B43,3)=0,\"*\",\"\"))","v":""},{"$f":"IF(OR(NOW()>MST!$AA$1,$B43=\"\"),\"\",IF(MOD($B43,3)=1,\"*\",\"\"))","v":""},{"$f":"IF(OR(NOW()>MST!$AA$1,$B43=\"\"),\"\",IF(MOD($B43,3)=2,\"*\",\"\"))","v":""},null,null,null,null,null,null,null,null,null,null,null,null,null,null,"","","","","","","","","",""]
["",null,{"$f":"IF(OR(NOW()>MST!$AA$1,$B44=\"\"),\"\",IF(VLOOKUP($B44,MST!$A:$B,2,FALSE)=C$10,\"*\",\"\"))","v":""},{"$f":"IF(OR(NOW()>MST!$AA$1,$B44=\"\"),\"\",IF(VLOOKUP($B44,MST!$A:$B,2,FALSE)=D$10,\"*\",\"\"))","v":""},{"$f":"IF(OR(NOW()>MST!$AA$1,$B44=\"\"),\"\",IF(AND($B44>=1,$B44<=18),\"*\",\"\"))","v":""},{"$f":"IF(OR(NOW()>MST!$AA$1,$B44=\"\"),\"\",IF(AND($B44>=19,$B44<=36),\"*\",\"\"))","v":""},{"$f":"IF(OR(NOW()>MST!$AA$1,$B44=\"\"),\"\",IF(MOD($B44,2)=1,\"*\",\"\"))","v":""},{"$f":"IF(OR(NOW()>MST!$AA$1,$B44=\"\"),\"\",IF(MOD($B44,2)=0,\"*\",\"\"))","v":""},{"$f":"IF(OR(NOW()>MST!$AA$1,$B44=\"\"),\"\",IF(AND($B44>=1,$B44<=12),\"*\",\"\"))","v":""},{"$f":"IF(OR(NOW()>MST!$AA$1,$B44=\"\"),\"\",IF(AND($B44>=13,$B44<=24),\"*\",\"\"))","v":""},{"$f":"IF(OR(NOW()>MST!$AA$1,$B44=\"\"),\"\",IF(AND($B44>=25,$B44<=36),\"*\",\"\"))","v":""},{"$f":"IF(OR(NOW()>MST!$AA$1,$B44=\"\"),\"\",IF(MOD($B44,3)=0,\"*\",\"\"))","v":""},{"$f":"IF(OR(NOW()>MST!$AA$1,$B44=\"\"),\"\",IF(MOD($B44,3)=1,\"*\",\"\"))","v":""},{"$f":"IF(OR(NOW()>MST!$AA$1,$B44=\"\"),\"\",IF(MOD($B44,3)=2,\"*\",\"\"))","v":""},null,null,null,null,null,null,null,null,null,null,null,null,null,null,"","","","","","","","","",""]
["",null,{"$f":"IF(OR(NOW()>MST!$AA$1,$B45=\"\"),\"\",IF(VLOOKUP($B45,MST!$A:$B,2,FALSE)=C$10,\"*\",\"\"))","v":""},{"$f":"IF(OR(NOW()>MST!$AA$1,$B45=\"\"),\"\",IF(VLOOKUP($B45,MST!$A:$B,2,FALSE)=D$10,\"*\",\"\"))","v":""},{"$f":"IF(OR(NOW()>MST!$AA$1,$B45=\"\"),\"\",IF(AND($B45>=1,$B45<=18),\"*\",\"\"))","v":""},{"$f":"IF(OR(NOW()>MST!$AA$1,$B45=\"\"),\"\",IF(AND($B45>=19,$B45<=36),\"*\",\"\"))","v":""},{"$f":"IF(OR(NOW()>MST!$AA$1,$B45=\"\"),\"\",IF(MOD($B45,2)=1,\"*\",\"\"))","v":""},{"$f":"IF(OR(NOW()>MST!$AA$1,$B45=\"\"),\"\",IF(MOD($B45,2)=0,\"*\",\"\"))","v":""},{"$f":"IF(OR(NOW()>MST!$AA$1,$B45=\"\"),\"\",IF(AND($B45>=1,$B45<=12),\"*\",\"\"))","v":""},{"$f":"IF(OR(NOW()>MST!$AA$1,$B45=\"\"),\"\",IF(AND($B45>=13,$B45<=24),\"*\",\"\"))","v":""},{"$f":"IF(OR(NOW()>MST!$AA$1,$B45=\"\"),\"\",IF(AND($B45>=25,$B45<=36),\"*\",\"\"))","v":""},{"$f":"IF(OR(NOW()>MST!$AA$1,$B45=\"\"),\"\",IF(MOD($B45,3)=0,\"*\",\"\"))","v":""},{"$f":"IF(OR(NOW()>MST!$AA$1,$B45=\"\"),\"\",IF(MOD($B45,3)=1,\"*\",\"\"))","v":""},{"$f":"IF(OR(NOW()>MST!$AA$1,$B45=\"\"),\"\",IF(MOD($B45,3)=2,\"*\",\"\"))","v":""},null,null,null,null,null,null,null,null,null,null,null,null,null,null,"","","","","","","","","",""]
["",null,{"$f":"IF(OR(NOW()>MST!$AA$1,$B46=\"\"),\"\",IF(VLOOKUP($B46,MST!$A:$B,2,FALSE)=C$10,\"*\",\"\"))","v":""},{"$f":"IF(OR(NOW()>MST!$AA$1,$B46=\"\"),\"\",IF(VLOOKUP($B46,MST!$A:$B,2,FALSE)=D$10,\"*\",\"\"))","v":""},{"$f":"IF(OR(NOW()>MST!$AA$1,$B46=\"\"),\"\",IF(AND($B46>=1,$B46<=18),\"*\",\"\"))","v":""},{"$f":"IF(OR(NOW()>MST!$AA$1,$B46=\"\"),\"\",IF(AND($B46>=19,$B46<=36),\"*\",\"\"))","v":""},{"$f":"IF(OR(NOW()>MST!$AA$1,$B46=\"\"),\"\",IF(MOD($B46,2)=1,\"*\",\"\"))","v":""},{"$f":"IF(OR(NOW()>MST!$AA$1,$B46=\"\"),\"\",IF(MOD($B46,2)=0,\"*\",\"\"))","v":""},{"$f":"IF(OR(NOW()>MST!$AA$1,$B46=\"\"),\"\",IF(AND($B46>=1,$B46<=12),\"*\",\"\"))","v":""},{"$f":"IF(OR(NOW()>MST!$AA$1,$B46=\"\"),\"\",IF(AND($B46>=13,$B46<=24),\"*\",\"\"))","v":""},{"$f":"IF(OR(NOW()>MST!$AA$1,$B46=\"\"),\"\",IF(AND($B46>=25,$B46<=36),\"*\",\"\"))","v":""},{"$f":"IF(OR(NOW()>MST!$AA$1,$B46=\"\"),\"\",IF(MOD($B46,3)=0,\"*\",\"\"))","v":""},{"$f":"IF(OR(NOW()>MST!$AA$1,$B46=\"\"),\"\",IF(MOD($B46,3)=1,\"*\",\"\"))","v":""},{"$f":"IF(OR(NOW()>MST!$AA$1,$B46=\"\"),\"\",IF(MOD($B46,3)=2,\"*\",\"\"))","v":""},null,null,null,null,null,null,null,null,null,null,null,null,null,null,"","","","","","","","","",""]
["",null,{"$f":"IF(OR(NOW()>MST!$AA$1,$B47=\"\"),\"\",IF(VLOOKUP($B47,MST!$A:$B,2,FALSE)=C$10,\"*\",\"\"))","v":""},{"$f":"IF(OR(NOW()>MST!$AA$1,$B47=\"\"),\"\",IF(VLOOKUP($B47,MST!$A:$B,2,FALSE)=D$10,\"*\",\"\"))","v":""},{"$f":"IF(OR(NOW()>MST!$AA$1,$B47=\"\"),\"\",IF(AND($B47>=1,$B47<=18),\"*\",\"\"))","v":""},{"$f":"IF(OR(NOW()>MST!$AA$1,$B47=\"\"),\"\",IF(AND($B47>=19,$B47<=36),\"*\",\"\"))","v":""},{"$f":"IF(OR(NOW()>MST!$AA$1,$B47=\"\"),\"\",IF(MOD($B47,2)=1,\"*\",\"\"))","v":""},{"$f":"IF(OR(NOW()>MST!$AA$1,$B47=\"\"),\"\",IF(MOD($B47,2)=0,\"*\",\"\"))","v":""},{"$f":"IF(OR(NOW()>MST!$AA$1,$B47=\"\"),\"\",IF(AND($B47>=1,$B47<=12),\"*\",\"\"))","v":""},{"$f":"IF(OR(NOW()>MST!$AA$1,$B47=\"\"),\"\",IF(AND($B47>=13,$B47<=24),\"*\",\"\"))","v":""},{"$f":"IF(OR(NOW()>MST!$AA$1,$B47=\"\"),\"\",IF(AND($B47>=25,$B47<=36),\"*\",\"\"))","v":""},{"$f":"IF(OR(NOW()>MST!$AA$1,$B47=\"\"),\"\",IF(MOD($B47,3)=0,\"*\",\"\"))","v":""},{"$f":"IF(OR(NOW()>MST!$AA$1,$B47=\"\"),\"\",IF(MOD($B47,3)=1,\"*\",\"\"))","v":""},{"$f":"IF(OR(NOW()>MST!$AA$1,$B47=\"\"),\"\",IF(MOD($B47,3)=2,\"*\",\"\"))","v":""},null,null,null,null,null,null,null,null,null,null,null,null,null,null,"","","","","","","","","",""]
["",null,{"$f":"IF(OR(NOW()>MST!$AA$1,$B48=\"\"),\"\",IF(VLOOKUP($B48,MST!$A:$B,2,FALSE)=C$10,\"*\",\"\"))","v":""},{"$f":"IF(OR(NOW()>MST!$AA$1,$B48=\"\"),\"\",IF(VLOOKUP($B48,MST!$A:$B,2,FALSE)=D$10,\"*\",\"\"))","v":""},{"$f":"IF(OR(NOW()>MST!$AA$1,$B48=\"\"),\"\",IF(AND($B48>=1,$B48<=18),\"*\",\"\"))","v":""},{"$f":"IF(OR(NOW()>MST!$AA$1,$B48=\"\"),\"\",IF(AND($B48>=19,$B48<=36),\"*\",\"\"))","v":""},{"$f":"IF(OR(NOW()>MST!$AA$1,$B48=\"\"),\"\",IF(MOD($B48,2)=1,\"*\",\"\"))","v":""},{"$f":"IF(OR(NOW()>MST!$AA$1,$B48=\"\"),\"\",IF(MOD($B48,2)=0,\"*\",\"\"))","v":""},{"$f":"IF(OR(NOW()>MST!$AA$1,$B48=\"\"),\"\",IF(AND($B48>=1,$B48<=12),\"*\",\"\"))","v":""},{"$f":"IF(OR(NOW()>MST!$AA$1,$B48=\"\"),\"\",IF(AND($B48>=13,$B48<=24),\"*\",\"\"))","v":""},{"$f":"IF(OR(NOW()>MST!$AA$1,$B48=\"\"),\"\",IF(AND($B48>=25,$B48<=36),\"*\",\"\"))","v":""},{"$f":"IF(OR(NOW()>MST!$AA$1,$B48=\"\"),\"\",IF(MOD($B48,3)=0,\"*\",\"\"))","v":""},{"$f":"IF(OR(NOW()>MST!$AA$1,$B48=\"\"),\"\",IF(MOD($B48,3)=1,\"*\",\"\"))","v":""},{"$f":"IF(OR(NOW()>MST!$AA$1,$B48=\"\"),\"\",IF(MOD($B48,3)=2,\"*\",\"\"))","v":""},null,null,null,null,null,null,null,null,null,null,null,null,null,null,"","","","","","","","","",""]
["",null,{"$f":"IF(OR(NOW()>MST!$AA$1,$B49=\"\"),\"\",IF(VLOOKUP($B49,MST!$A:$B,2,FALSE)=C$10,\"*\",\"\"))","v":""},{"$f":"IF(OR(NOW()>MST!$AA$1,$B49=\"\"),\"\",IF(VLOOKUP($B49,MST!$A:$B,2,FALSE)=D$10,\"*\",\"\"))","v":""},{"$f":"IF(OR(NOW()>MST!$AA$1,$B49=\"\"),\"\",IF(AND($B49>=1,$B49<=18),\"*\",\"\"))","v":""},{"$f":"IF(OR(NOW()>MST!$AA$1,$B49=\"\"),\"\",IF(AND($B49>=19,$B49<=36),\"*\",\"\"))","v":""},{"$f":"IF(OR(NOW()>MST!$AA$1,$B49=\"\"),\"\",IF(MOD($B49,2)=1,\"*\",\"\"))","v":""},{"$f":"IF(OR(NOW()>MST!$AA$1,$B49=\"\"),\"\",IF(MOD($B49,2)=0,\"*\",\"\"))","v":""},{"$f":"IF(OR(NOW()>MST!$AA$1,$B49=\"\"),\"\",IF(AND($B49>=1,$B49<=12),\"*\",\"\"))","v":""},{"$f":"IF(OR(NOW()>MST!$AA$1,$B49=\"\"),\"\",IF(AND($B49>=13,$B49<=24),\"*\",\"\"))","v":""},{"$f":"IF(OR(NOW()>MST!$AA$1,$B49=\"\"),\"\",IF(AND($B49>=25,$B49<=36),\"*\",\"\"))","v":""},{"$f":"IF(OR(NOW()>MST!$AA$1,$B49=\"\"),\"\",IF(MOD($B49,3)=0,\"*\",\"\"))","v":""},{"$f":"IF(OR(NOW()>MST!$AA$1,$B49=\"\"),\"\",IF(MOD($B49,3)=1,\"*\",\"\"))","v":""},{"$f":"IF(OR(NOW()>MST!$AA$1,$B49=\"\"),\"\",IF(MOD($B49,3)=2,\"*\",\"\"))","v":""},null,null,null,null,null,null,null,null,null,null,null,null,null,null,"","","","","","","","","",""]
["",null,{"$f":"IF(OR(NOW()>MST!$AA$1,$B50=\"\"),\"\",IF(VLOOKUP($B50,MST!$A:$B,2,FALSE)=C$10,\"*\",\"\"))","v":""},{"$f":"IF(OR(NOW()>MST!$AA$1,$B50=\"\"),\"\",IF(VLOOKUP($B50,MST!$A:$B,2,FALSE)=D$10,\"*\",\"\"))","v":""},{"$f":"IF(OR(NOW()>MST!$AA$1,$B50=\"\"),\"\",IF(AND($B50>=1,$B50<=18),\"*\",\"\"))","v":""},{"$f":"IF(OR(NOW()>MST!$AA$1,$B50=\"\"),\"\",IF(AND($B50>=19,$B50<=36),\"*\",\"\"))","v":""},{"$f":"IF(OR(NOW()>MST!$AA$1,$B50=\"\"),\"\",IF(MOD($B50,2)=1,\"*\",\"\"))","v":""},{"$f":"IF(OR(NOW()>MST!$AA$1,$B50=\"\"),\"\",IF(MOD($B50,2)=0,\"*\",\"\"))","v":""},{"$f":"IF(OR(NOW()>MST!$AA$1,$B50=\"\"),\"\",IF(AND($B50>=1,$B50<=12),\"*\",\"\"))","v":""},{"$f":"IF(OR(NOW()>MST!$AA$1,$B50=\"\"),\"\",IF(AND($B50>=13,$B50<=24),\"*\",\"\"))","v":""},{"$f":"IF(OR(NOW()>MST!$AA$1,$B50=\"\"),\"\",IF(AND($B50>=25,$B50<=36),\"*\",\"\"))","v":""},{"$f":"IF(OR(NOW()>MST!$AA$1,$B50=\"\"),\"\",IF(MOD($B50,3)=0,\"*\",\"\"))","v":""},{"$f":"IF(OR(NOW()>MST!$AA$1,$B50=\"\"),\"\",IF(MOD($B50,3)=1,\"*\",\"\"))","v":""},{"$f":"IF(OR(NOW()>MST!$AA$1,$B50=\"\"),\"\",IF(MOD($B50,3)=2,\"*\",\"\"))","v":""},null,null,null,null,null,null,null,null,null,null,null,null,null,null,"","","","","","","","","",""]
["",null,{"$f":"IF(OR(NOW()>MST!$AA$1,$B51=\"\"),\"\",IF(VLOOKUP($B51,MST!$A:$B,2,FALSE)=C$10,\"*\",\"\"))","v":""},{"$f":"IF(OR(NOW()>MST!$AA$1,$B51=\"\"),\"\",IF(VLOOKUP($B51,MST!$A:$B,2,FALSE)=D$10,\"*\",\"\"))","v":""},{"$f":"IF(OR(NOW()>MST!$AA$1,$B51=\"\"),\"\",IF(AND($B51>=1,$B51<=18),\"*\",\"\"))","v":""},{"$f":"IF(OR(NOW()>MST!$AA$1,$B51=\"\"),\"\",IF(AND($B51>=19,$B51<=36),\"*\",\"\"))","v":""},{"$f":"IF(OR(NOW()>MST!$AA$1,$B51=\"\"),\"\",IF(MOD($B51,2)=1,\"*\",\"\"))","v":""},{"$f":"IF(OR(NOW()>MST!$AA$1,$B51=\"\"),\"\",IF(MOD($B51,2)=0,\"*\",\"\"))","v":""},{"$f":"IF(OR(NOW()>MST!$AA$1,$B51=\"\"),\"\",IF(AND($B51>=1,$B51<=12),\"*\",\"\"))","v":""},{"$f":"IF(OR(NOW()>MST!$AA$1,$B51=\"\"),\"\",IF(AND($B51>=13,$B51<=24),\"*\",\"\"))","v":""},{"$f":"IF(OR(NOW()>MST!$AA$1,$B51=\"\"),\"\",IF(AND($B51>=25,$B51<=36),\"*\",\"\"))","v":""},{"$f":"IF(OR(NOW()>MST!$AA$1,$B51=\"\"),\"\",IF(MOD($B51,3)=0,\"*\",\"\"))","v":""},{"$f":"IF(OR(NOW()>MST!$AA$1,$B51=\"\"),\"\",IF(MOD($B51,3)=1,\"*\",\"\"))","v":""},{"$f":"IF(OR(NOW()>MST!$AA$1,$B51=\"\"),\"\",IF(MOD($B51,3)=2,\"*\",\"\"))","v":""},null,null,null,null,null,null,null,null,null,null,null,null,null,null,"","","","","","","","","",""]
["",null,{"$f":"IF(OR(NOW()>MST!$AA$1,$B52=\"\"),\"\",IF(VLOOKUP($B52,MST!$A:$B,2,FALSE)=C$10,\"*\",\"\"))","v":""},{"$f":"IF(OR(NOW()>MST!$AA$1,$B52=\"\"),\"\",IF(VLOOKUP($B52,MST!$A:$B,2,FALSE)=D$10,\"*\",\"\"))","v":""},{"$f":"IF(OR(NOW()>MST!$AA$1,$B52=\"\"),\"\",IF(AND($B52>=1,$B52<=18),\"*\",\"\"))","v":""},{"$f":"IF(OR(NOW()>MST!$AA$1,$B52=\"\"),\"\",IF(AND($B52>=19,$B52<=36),\"*\",\"\"))","v":""},{"$f":"IF(OR(NOW()>MST!$AA$1,$B52=\"\"),\"\",IF(MOD($B52,2)=1,\"*\",\"\"))","v":""},{"$f":"IF(OR(NOW()>MST!$AA$1,$B52=\"\"),\"\",IF(MOD($B52,2)=0,\"*\",\"\"))","v":""},{"$f":"IF(OR(NOW()>MST!$AA$1,$B52=\"\"),\"\",IF(AND($B52>=1,$B52<=12),\"*\",\"\"))","v":""},{"$f":"IF(OR(NOW()>MST!$AA$1,$B52=\"\"),\"\",IF(AND($B52>=13,$B52<=24),\"*\",\"\"))","v":""},{"$f":"IF(OR(NOW()>MST!$AA$1,$B52=\"\"),\"\",IF(AND($B52>=25,$B52<=36),\"*\",\"\"))","v":""},{"$f":"IF(OR(NOW()>MST!$AA$1,$B52=\"\"),\"\",IF(MOD($B52,3)=0,\"*\",\"\"))","v":""},{"$f":"IF(OR(NOW()>MST!$AA$1,$B52=\"\"),\"\",IF(MOD($B52,3)=1,\"*\",\"\"))","v":""},{"$f":"IF(OR(NOW()>MST!$AA$1,$B52=\"\"),\"\",IF(MOD($B52,3)=2,\"*\",\"\"))","v":""},null,null,null,null,null,null,null,null,null,null,null,null,null,null,"","","","","","","","","",""]
["",null,{"$f":"IF(OR(NOW()>MST!$AA$1,$B53=\"\"),\"\",IF(VLOOKUP($B53,MST!$A:$B,2,FALSE)=C$10,\"*\",\"\"))","v":""},{"$f":"IF(OR(NOW()>MST!$AA$1,$B53=\"\"),\"\",IF(VLOOKUP($B53,MST!$A:$B,2,FALSE)=D$10,\"*\",\"\"))","v":""},{"$f":"IF(OR(NOW()>MST!$AA$1,$B53=\"\"),\"\",IF(AND($B53>=1,$B53<=18),\"*\",\"\"))","v":""},{"$f":"IF(OR(NOW()>MST!$AA$1,$B53=\"\"),\"\",IF(AND($B53>=19,$B53<=36),\"*\",\"\"))","v":""},{"$f":"IF(OR(NOW()>MST!$AA$1,$B53=\"\"),\"\",IF(MOD($B53,2)=1,\"*\",\"\"))","v":""},{"$f":"IF(OR(NOW()>MST!$AA$1,$B53=\"\"),\"\",IF(MOD($B53,2)=0,\"*\",\"\"))","v":""},{"$f":"IF(OR(NOW()>MST!$AA$1,$B53=\"\"),\"\",IF(AND($B53>=1,$B53<=12),\"*\",\"\"))","v":""},{"$f":"IF(OR(NOW()>MST!$AA$1,$B53=\"\"),\"\",IF(AND($B53>=13,$B53<=24),\"*\",\"\"))","v":""},{"$f":"IF(OR(NOW()>MST!$AA$1,$B53=\"\"),\"\",IF(AND($B53>=25,$B53<=36),\"*\",\"\"))","v":""},{"$f":"IF(OR(NOW()>MST!$AA$1,$B53=\"\"),\"\",IF(MOD($B53,3)=0,\"*\",\"\"))","v":""},{"$f":"IF(OR(NOW()>MST!$AA$1,$B53=\"\"),\"\",IF(MOD($B53,3)=1,\"*\",\"\"))","v":""},{"$f":"IF(OR(NOW()>MST!$AA$1,$B53=\"\"),\"\",IF(MOD($B53,3)=2,\"*\",\"\"))","v":""},null,null,null,null,null,null,null,null,null,null,null,null,null,null,"","","","","","","","","",""]
["",null,{"$f":"IF(OR(NOW()>MST!$AA$1,$B54=\"\"),\"\",IF(VLOOKUP($B54,MST!$A:$B,2,FALSE)=C$10,\"*\",\"\"))","v":""},{"$f":"IF(OR(NOW()>MST!$AA$1,$B54=\"\"),\"\",IF(VLOOKUP($B54,MST!$A:$B,2,FALSE)=D$10,\"*\",\"\"))","v":""},{"$f":"IF(OR(NOW()>MST!$AA$1,$B54=\"\"),\"\",IF(AND($B54>=1,$B54<=18),\"*\",\"\"))","v":""},{"$f":"IF(OR(NOW()>MST!$AA$1,$B54=\"\"),\"\",IF(AND($B54>=19,$B54<=36),\"*\",\"\"))","v":""},{"$f":"IF(OR(NOW()>MST!$AA$1,$B54=\"\"),\"\",IF(MOD($B54,2)=1,\"*\",\"\"))","v":""},{"$f":"IF(OR(NOW()>MST!$AA$1,$B54=\"\"),\"\",IF(MOD($B54,2)=0,\"*\",\"\"))","v":""},{"$f":"IF(OR(NOW()>MST!$AA$1,$B54=\"\"),\"\",IF(AND($B54>=1,$B54<=12),\"*\",\"\"))","v":""},{"$f":"IF(OR(NOW()>MST!$AA$1,$B54=\"\"),\"\",IF(AND($B54>=13,$B54<=24),\"*\",\"\"))","v":""},{"$f":"IF(OR(NOW()>MST!$AA$1,$B54=\"\"),\"\",IF(AND($B54>=25,$B54<=36),\"*\",\"\"))","v":""},{"$f":"IF(OR(NOW()>MST!$AA$1,$B54=\"\"),\"\",IF(MOD($B54,3)=0,\"*\",\"\"))","v":""},{"$f":"IF(OR(NOW()>MST!$AA$1,$B54=\"\"),\"\",IF(MOD($B54,3)=1,\"*\",\"\"))","v":""},{"$f":"IF(OR(NOW()>MST!$AA$1,$B54=\"\"),\"\",IF(MOD($B54,3)=2,\"*\",\"\"))","v":""},null,null,null,null,null,null,null,null,null,null,null,null,null,null,"","","","","","","","","",""]
["",null,{"$f":"IF(OR(NOW()>MST!$AA$1,$B55=\"\"),\"\",IF(VLOOKUP($B55,MST!$A:$B,2,FALSE)=C$10,\"*\",\"\"))","v":""},{"$f":"IF(OR(NOW()>MST!$AA$1,$B55=\"\"),\"\",IF(VLOOKUP($B55,MST!$A:$B,2,FALSE)=D$10,\"*\",\"\"))","v":""},{"$f":"IF(OR(NOW()>MST!$AA$1,$B55=\"\"),\"\",IF(AND($B55>=1,$B55<=18),\"*\",\"\"))","v":""},{"$f":"IF(OR(NOW()>MST!$AA$1,$B55=\"\"),\"\",IF(AND($B55>=19,$B55<=36),\"*\",\"\"))","v":""},{"$f":"IF(OR(NOW()>MST!$AA$1,$B55=\"\"),\"\",IF(MOD($B55,2)=1,\"*\",\"\"))","v":""},{"$f":"IF(OR(NOW()>MST!$AA$1,$B55=\"\"),\"\",IF(MOD($B55,2)=0,\"*\",\"\"))","v":""},{"$f":"IF(OR(NOW()>MST!$AA$1,$B55=\"\"),\"\",IF(AND($B55>=1,$B55<=12),\"*\",\"\"))","v":""},{"$f":"IF(OR(NOW()>MST!$AA$1,$B55=\"\"),\"\",IF(AND($B55>=13,$B55<=24),\"*\",\"\"))","v":""},{"$f":"IF(OR(NOW()>MST!$AA$1,$B55=\"\"),\"\",IF(AND($B55>=25,$B55<=36),\"*\",\"\"))","v":""},{"$f":"IF(OR(NOW()>MST!$AA$1,$B55=\"\"),\"\",IF(MOD($B55,3)=0,\"*\",\"\"))","v":""},{"$f":"IF(OR(NOW()>MST!$AA$1,$B55=\"\"),\"\",IF(MOD($B55,3)=1,\"*\",\"\"))","v":""},{"$f":"IF(OR(NOW()>MST!$AA$1,$B55=\"\"),\"\",IF(MOD($B55,3)=2,\"*\",\"\"))","v":""},null,null,null,null,null,null,null,null,null,null,null,null,null,null,"","","","","","","","","",""]
["",null,{"$f":"IF(OR(NOW()>MST!$AA$1,$B56=\"\"),\"\",IF(VLOOKUP($B56,MST!$A:$B,2,FALSE)=C$10,\"*\",\"\"))","v":""},{"$f":"IF(OR(NOW()>MST!$AA$1,$B56=\"\"),\"\",IF(VLOOKUP($B56,MST!$A:$B,2,FALSE)=D$10,\"*\",\"\"))","v":""},{"$f":"IF(OR(NOW()>MST!$AA$1,$B56=\"\"),\"\",IF(AND($B56>=1,$B56<=18),\"*\",\"\"))","v":""},{"$f":"IF(OR(NOW()>MST!$AA$1,$B56=\"\"),\"\",IF(AND($B56>=19,$B56<=36),\"*\",\"\"))","v":""},{"$f":"IF(OR(NOW()>MST!$AA$1,$B56=\"\"),\"\",IF(MOD($B56,2)=1,\"*\",\"\"))","v":""},{"$f":"IF(OR(NOW()>MST!$AA$1,$B56=\"\"),\"\",IF(MOD($B56,2)=0,\"*\",\"\"))","v":""},{"$f":"IF(OR(NOW()>MST!$AA$1,$B56=\"\"),\"\",IF(AND($B56>=1,$B56<=12),\"*\",\"\"))","v":""},{"$f":"IF(OR(NOW()>MST!$AA$1,$B56=\"\"),\"\",IF(AND($B56>=13,$B56<=24),\"*\",\"\"))","v":""},{"$f":"IF(OR(NOW()>MST!$AA$1,$B56=\"\"),\"\",IF(AND($B56>=25,$B56<=36),\"*\",\"\"))","v":""},{"$f":"IF(OR(NOW()>MST!$AA$1,$B56=\"\"),\"\",IF(MOD($B56,3)=0,\"*\",\"\"))","v":""},{"$f":"IF(OR(NOW()>MST!$AA$1,$B56=\"\"),\"\",IF(MOD($B56,3)=1,\"*\",\"\"))","v":""},{"$f":"IF(OR(NOW()>MST!$AA$1,$B56=\"\"),\"\",IF(MOD($B56,3)=2,\"*\",\"\"))","v":""},null,null,null,null,null,null,null,null,null,null,null,null,null,null,"","","","","","","","","",""]
["",null,{"$f":"IF(OR(NOW()>MST!$AA$1,$B57=\"\"),\"\",IF(VLOOKUP($B57,MST!$A:$B,2,FALSE)=C$10,\"*\",\"\"))","v":""},{"$f":"IF(OR(NOW()>MST!$AA$1,$B57=\"\"),\"\",IF(VLOOKUP($B57,MST!$A:$B,2,FALSE)=D$10,\"*\",\"\"))","v":""},{"$f":"IF(OR(NOW()>MST!$AA$1,$B57=\"\"),\"\",IF(AND($B57>=1,$B57<=18),\"*\",\"\"))","v":""},{"$f":"IF(OR(NOW()>MST!$AA$1,$B57=\"\"),\"\",IF(AND($B57>=19,$B57<=36),\"*\",\"\"))","v":""},{"$f":"IF(OR(NOW()>MST!$AA$1,$B57=\"\"),\"\",IF(MOD($B57,2)=1,\"*\",\"\"))","v":""},{"$f":"IF(OR(NOW()>MST!$AA$1,$B57=\"\"),\"\",IF(MOD($B57,2)=0,\"*\",\"\"))","v":""},{"$f":"IF(OR(NOW()>MST!$AA$1,$B57=\"\"),\"\",IF(AND($B57>=1,$B57<=12),\"*\",\"\"))","v":""},{"$f":"IF(OR(NOW()>MST!$AA$1,$B57=\"\"),\"\",IF(AND($B57>=13,$B57<=24),\"*\",\"\"))","v":""},{"$f":"IF(OR(NOW()>MST!$AA$1,$B57=\"\"),\"\",IF(AND($B57>=25,$B57<=36),\"*\",\"\"))","v":""},{"$f":"IF(OR(NOW()>MST!$AA$1,$B57=\"\"),\"\",IF(MOD($B57,3)=0,\"*\",\"\"))","v":""},{"$f":"IF(OR(NOW()>MST!$AA$1,$B57=\"\"),\"\",IF(MOD($B57,3)=1,\"*\",\"\"))","v":""},{"$f":"IF(OR(NOW()>MST!$AA$1,$B57=\"\"),\"\",IF(MOD($B57,3)=2,\"*\",\"\"))","v":""},null,null,null,null,null,null,null,null,null,null,null,null,null,null,"","","","","","","","","",""]
["",null,{"$f":"IF(OR(NOW()>MST!$AA$1,$B58=\"\"),\"\",IF(VLOOKUP($B58,MST!$A:$B,2,FALSE)=C$10,\"*\",\"\"))","v":""},{"$f":"IF(OR(NOW()>MST!$AA$1,$B58=\"\"),\"\",IF(VLOOKUP($B58,MST!$A:$B,2,FALSE)=D$10,\"*\",\"\"))","v":""},{"$f":"IF(OR(NOW()>MST!$AA$1,$B58=\"\"),\"\",IF(AND($B58>=1,$B58<=18),\"*\",\"\"))","v":""},{"$f":"IF(OR(NOW()>MST!$AA$1,$B58=\"\"),\"\",IF(AND($B58>=19,$B58<=36),\"*\",\"\"))","v":""},{"$f":"IF(OR(NOW()>MST!$AA$1,$B58=\"\"),\"\",IF(MOD($B58,2)=1,\"*\",\"\"))","v":""},{"$f":"IF(OR(NOW()>MST!$AA$1,$B58=\"\"),\"\",IF(MOD($B58,2)=0,\"*\",\"\"))","v":""},{"$f":"IF(OR(NOW()>MST!$AA$1,$B58=\"\"),\"\",IF(AND($B58>=1,$B58<=12),\"*\",\"\"))","v":""},{"$f":"IF(OR(NOW()>MST!$AA$1,$B58=\"\"),\"\",IF(AND($B58>=13,$B58<=24),\"*\",\"\"))","v":""},{"$f":"IF(OR(NOW()>MST!$AA$1,$B58=\"\"),\"\",IF(AND($B58>=25,$B58<=36),\"*\",\"\"))","v":""},{"$f":"IF(OR(NOW()>MST!$AA$1,$B58=\"\"),\"\",IF(MOD($B58,3)=0,\"*\",\"\"))","v":""},{"$f":"IF(OR(NOW()>MST!$AA$1,$B58=\"\"),\"\",IF(MOD($B58,3)=1,\"*\",\"\"))","v":""},{"$f":"IF(OR(NOW()>MST!$AA$1,$B58=\"\"),\"\",IF(MOD($B58,3)=2,\"*\",\"\"))","v":""},null,null,null,null,null,null,null,null,null,null,null,null,null,null,"","","","","","","","","",""]
["",null,{"$f":"IF(OR(NOW()>MST!$AA$1,$B59=\"\"),\"\",IF(VLOOKUP($B59,MST!$A:$B,2,FALSE)=C$10,\"*\",\"\"))","v":""},{"$f":"IF(OR(NOW()>MST!$AA$1,$B59=\"\"),\"\",IF(VLOOKUP($B59,MST!$A:$B,2,FALSE)=D$10,\"*\",\"\"))","v":""},{"$f":"IF(OR(NOW()>MST!$AA$1,$B59=\"\"),\"\",IF(AND($B59>=1,$B59<=18),\"*\",\"\"))","v":""},{"$f":"IF(OR(NOW()>MST!$AA$1,$B59=\"\"),\"\",IF(AND($B59>=19,$B59<=36),\"*\",\"\"))","v":""},{"$f":"IF(OR(NOW()>MST!$AA$1,$B59=\"\"),\"\",IF(MOD($B59,2)=1,\"*\",\"\"))","v":""},{"$f":"IF(OR(NOW()>MST!$AA$1,$B59=\"\"),\"\",IF(MOD($B59,2)=0,\"*\",\"\"))","v":""},{"$f":"IF(OR(NOW()>MST!$AA$1,$B59=\"\"),\"\",IF(AND($B59>=1,$B59<=12),\"*\",\"\"))","v":""},{"$f":"IF(OR(NOW()>MST!$AA$1,$B59=\"\"),\"\",IF(AND($B59>=13,$B59<=24),\"*\",\"\"))","v":""},{"$f":"IF(OR(NOW()>MST!$AA$1,$B59=\"\"),\"\",IF(AND($B59>=25,$B59<=36),\"*\",\"\"))","v":""},{"$f":"IF(OR(NOW()>MST!$AA$1,$B59=\"\"),\"\",IF(MOD($B59,3)=0,\"*\",\"\"))","v":""},{"$f":"IF(OR(NOW()>MST!$AA$1,$B59=\"\"),\"\",IF(MOD($B59,3)=1,\"*\",\"\"))","v":""},{"$f":"IF(OR(NOW()>MST!$AA$1,$B59=\"\"),\"\",IF(MOD($B59,3)=2,\"*\",\"\"))","v":""},null,null,null,null,null,null,null,null,null,null,null,null,null,null,"","","","","","","","","",""]
["",null,{"$f":"IF(OR(NOW()>MST!$AA$1,$B60=\"\"),\"\",IF(VLOOKUP($B60,MST!$A:$B,2,FALSE)=C$10,\"*\",\"\"))","v":""},{"$f":"IF(OR(NOW()>MST!$AA$1,$B60=\"\"),\"\",IF(VLOOKUP($B60,MST!$A:$B,2,FALSE)=D$10,\"*\",\"\"))","v":""},{"$f":"IF(OR(NOW()>MST!$AA$1,$B60=\"\"),\"\",IF(AND($B60>=1,$B60<=18),\"*\",\"\"))","v":""},{"$f":"IF(OR(NOW()>MST!$AA$1,$B60=\"\"),\"\",IF(AND($B60>=19,$B60<=36),\"*\",\"\"))","v":""},{"$f":"IF(OR(NOW()>MST!$AA$1,$B60=\"\"),\"\",IF(MOD($B60,2)=1,\"*\",\"\"))","v":""},{"$f":"IF(OR(NOW()>MST!$AA$1,$B60=\"\"),\"\",IF(MOD($B60,2)=0,\"*\",\"\"))","v":""},{"$f":"IF(OR(NOW()>MST!$AA$1,$B60=\"\"),\"\",IF(AND($B60>=1,$B60<=12),\"*\",\"\"))","v":""},{"$f":"IF(OR(NOW()>MST!$AA$1,$B60=\"\"),\"\",IF(AND($B60>=13,$B60<=24),\"*\",\"\"))","v":""},{"$f":"IF(OR(NOW()>MST!$AA$1,$B60=\"\"),\"\",IF(AND($B60>=25,$B60<=36),\"*\",\"\"))","v":""},{"$f":"IF(OR(NOW()>MST!$AA$1,$B60=\"\"),\"\",IF(MOD($B60,3)=0,\"*\",\"\"))","v":""},{"$f":"IF(OR(NOW()>MST!$AA$1,$B60=\"\"),\"\",IF(MOD($B60,3)=1,\"*\",\"\"))","v":""},{"$f":"IF(OR(NOW()>MST!$AA$1,$B60=\"\"),\"\",IF(MOD($B60,3)=2,\"*\",\"\"))","v":""},null,null,null,null,null,null,null,null,null,null,null,null,null,null,"","","","","","","","","",""]
["",null,{"$f":"IF(OR(NOW()>MST!$AA$1,$B61=\"\"),\"\",IF(VLOOKUP($B61,MST!$A:$B,2,FALSE)=C$10,\"*\",\"\"))","v":""},{"$f":"IF(OR(NOW()>MST!$AA$1,$B61=\"\"),\"\",IF(VLOOKUP($B61,MST!$A:$B,2,FALSE)=D$10,\"*\",\"\"))","v":""},{"$f":"IF(OR(NOW()>MST!$AA$1,$B61=\"\"),\"\",IF(AND($B61>=1,$B61<=18),\"*\",\"\"))","v":""},{"$f":"IF(OR(NOW()>MST!$AA$1,$B61=\"\"),\"\",IF(AND($B61>=19,$B61<=36),\"*\",\"\"))","v":""},{"$f":"IF(OR(NOW()>MST!$AA$1,$B61=\"\"),\"\",IF(MOD($B61,2)=1,\"*\",\"\"))","v":""},{"$f":"IF(OR(NOW()>MST!$AA$1,$B61=\"\"),\"\",IF(MOD($B61,2)=0,\"*\",\"\"))","v":""},{"$f":"IF(OR(NOW()>MST!$AA$1,$B61=\"\"),\"\",IF(AND($B61>=1,$B61<=12),\"*\",\"\"))","v":""},{"$f":"IF(OR(NOW()>MST!$AA$1,$B61=\"\"),\"\",IF(AND($B61>=13,$B61<=24),\"*\",\"\"))","v":""},{"$f":"IF(OR(NOW()>MST!$AA$1,$B61=\"\"),\"\",IF(AND($B61>=25,$B61<=36),\"*\",\"\"))","v":""},{"$f":"IF(OR(NOW()>MST!$AA$1,$B61=\"\"),\"\",IF(MOD($B61,3)=0,\"*\",\"\"))","v":""},{"$f":"IF(OR(NOW()>MST!$AA$1,$B61=\"\"),\"\",IF(MOD($B61,3)=1,\"*\",\"\"))","v":""},{"$f":"IF(OR(NOW()>MST!$AA$1,$B61=\"\"),\"\",IF(MOD($B61,3)=2,\"*\",\"\"))","v":""},null,null,null,null,null,null,null,null,null,null,null,null,null,null,"","","","","","","","","",""]
["",null,{"$f":"IF(OR(NOW()>MST!$AA$1,$B62=\"\"),\"\",IF(VLOOKUP($B62,MST!$A:$B,2,FALSE)=C$10,\"*\",\"\"))","v":""},{"$f":"IF(OR(NOW()>MST!$AA$1,$B62=\"\"),\"\",IF(VLOOKUP($B62,MST!$A:$B,2,FALSE)=D$10,\"*\",\"\"))","v":""},{"$f":"IF(OR(NOW()>MST!$AA$1,$B62=\"\"),\"\",IF(AND($B62>=1,$B62<=18),\"*\",\"\"))","v":""},{"$f":"IF(OR(NOW()>MST!$AA$1,$B62=\"\"),\"\",IF(AND($B62>=19,$B62<=36),\"*\",\"\"))","v":""},{"$f":"IF(OR(NOW()>MST!$AA$1,$B62=\"\"),\"\",IF(MOD($B62,2)=1,\"*\",\"\"))","v":""},{"$f":"IF(OR(NOW()>MST!$AA$1,$B62=\"\"),\"\",IF(MOD($B62,2)=0,\"*\",\"\"))","v":""},{"$f":"IF(OR(NOW()>MST!$AA$1,$B62=\"\"),\"\",IF(AND($B62>=1,$B62<=12),\"*\",\"\"))","v":""},{"$f":"IF(OR(NOW()>MST!$AA$1,$B62=\"\"),\"\",IF(AND($B62>=13,$B62<=24),\"*\",\"\"))","v":""},{"$f":"IF(OR(NOW()>MST!$AA$1,$B62=\"\"),\"\",IF(AND($B62>=25,$B62<=36),\"*\",\"\"))","v":""},{"$f":"IF(OR(NOW()>MST!$AA$1,$B62=\"\"),\"\",IF(MOD($B62,3)=0,\"*\",\"\"))","v":""},{"$f":"IF(OR(NOW()>MST!$AA$1,$B62=\"\"),\"\",IF(MOD($B62,3)=1,\"*\",\"\"))","v":""},{"$f":"IF(OR(NOW()>MST!$AA$1,$B62=\"\"),\"\",IF(MOD($B62,3)=2,\"*\",\"\"))","v":""},null,null,null,null,null,null,null,null,null,null,null,null,null,null,"","","","","","","","","",""]
["",null,{"$f":"IF(OR(NOW()>MST!$AA$1,$B63=\"\"),\"\",IF(VLOOKUP($B63,MST!$A:$B,2,FALSE)=C$10,\"*\",\"\"))","v":""},{"$f":"IF(OR(NOW()>MST!$AA$1,$B63=\"\"),\"\",IF(VLOOKUP($B63,MST!$A:$B,2,FALSE)=D$10,\"*\",\"\"))","v":""},{"$f":"IF(OR(NOW()>MST!$AA$1,$B63=\"\"),\"\",IF(AND($B63>=1,$B63<=18),\"*\",\"\"))","v":""},{"$f":"IF(OR(NOW()>MST!$AA$1,$B63=\"\"),\"\",IF(AND($B63>=19,$B63<=36),\"*\",\"\"))","v":""},{"$f":"IF(OR(NOW()>MST!$AA$1,$B63=\"\"),\"\",IF(MOD($B63,2)=1,\"*\",\"\"))","v":""},{"$f":"IF(OR(NOW()>MST!$AA$1,$B63=\"\"),\"\",IF(MOD($B63,2)=0,\"*\",\"\"))","v":""},{"$f":"IF(OR(NOW()>MST!$AA$1,$B63=\"\"),\"\",IF(AND($B63>=1,$B63<=12),\"*\",\"\"))","v":""},{"$f":"IF(OR(NOW()>MST!$AA$1,$B63=\"\"),\"\",IF(AND($B63>=13,$B63<=24),\"*\",\"\"))","v":""},{"$f":"IF(OR(NOW()>MST!$AA$1,$B63=\"\"),\"\",IF(AND($B63>=25,$B63<=36),\"*\",\"\"))","v":""},{"$f":"IF(OR(NOW()>MST!$AA$1,$B63=\"\"),\"\",IF(MOD($B63,3)=0,\"*\",\"\"))","v":""},{"$f":"IF(OR(NOW()>MST!$AA$1,$B63=\"\"),\"\",IF(MOD($B63,3)=1,\"*\",\"\"))","v":""},{"$f":"IF(OR(NOW()>MST!$AA$1,$B63=\"\"),\"\",IF(MOD($B63,3)=2,\"*\",\"\"))","v":""},null,null,null,null,null,null,null,null,null,null,null,null,null,null,"","","","","","","","","",""]
["",null,{"$f":"IF(OR(NOW()>MST!$AA$1,$B64=\"\"),\"\",IF(VLOOKUP($B64,MST!$A:$B,2,FALSE)=C$10,\"*\",\"\"))","v":""},{"$f":"IF(OR(NOW()>MST!$AA$1,$B64=\"\"),\"\",IF(VLOOKUP($B64,MST!$A:$B,2,FALSE)=D$10,\"*\",\"\"))","v":""},{"$f":"IF(OR(NOW()>MST!$AA$1,$B64=\"\"),\"\",IF(AND($B64>=1,$B64<=18),\"*\",\"\"))","v":""},{"$f":"IF(OR(NOW()>MST!$AA$1,$B64=\"\"),\"\",IF(AND($B64>=19,$B64<=36),\"*\",\"\"))","v":""},{"$f":"IF(OR(NOW()>MST!$AA$1,$B64=\"\"),\"\",IF(MOD($B64,2)=1,\"*\",\"\"))","v":""},{"$f":"IF(OR(NOW()>MST!$AA$1,$B64=\"\"),\"\",IF(MOD($B64,2)=0,\"*\",\"\"))","v":""},{"$f":"IF(OR(NOW()>MST!$AA$1,$B64=\"\"),\"\",IF(AND($B64>=1,$B64<=12),\"*\",\"\"))","v":""},{"$f":"IF(OR(NOW()>MST!$AA$1,$B64=\"\"),\"\",IF(AND($B64>=13,$B64<=24),\"*\",\"\"))","v":""},{"$f":"IF(OR(NOW()>MST!$AA$1,$B64=\"\"),\"\",IF(AND($B64>=25,$B64<=36),\"*\",\"\"))","v":""},{"$f":"IF(OR(NOW()>MST!$AA$1,$B64=\"\"),\"\",IF(MOD($B64,3)=0,\"*\",\"\"))","v":""},{"$f":"IF(OR(NOW()>MST!$AA$1,$B64=\"\"),\"\",IF(MOD($B64,3)=1,\"*\",\"\"))","v":""},{"$f":"IF(OR(NOW()>MST!$AA$1,$B64=\"\"),\"\",IF(MOD($B64,3)=2,\"*\",\"\"))","v":""},null,null,null,null,null,null,null,null,null,null,null,null,null,null,"","","","","","","","","",""]
["",null,{"$f":"IF(OR(NOW()>MST!$AA$1,$B65=\"\"),\"\",IF(VLOOKUP($B65,MST!$A:$B,2,FALSE)=C$10,\"*\",\"\"))","v":""},{"$f":"IF(OR(NOW()>MST!$AA$1,$B65=\"\"),\"\",IF(VLOOKUP($B65,MST!$A:$B,2,FALSE)=D$10,\"*\",\"\"))","v":""},{"$f":"IF(OR(NOW()>MST!$AA$1,$B65=\"\"),\"\",IF(AND($B65>=1,$B65<=18),\"*\",\"\"))","v":""},{"$f":"IF(OR(NOW()>MST!$AA$1,$B65=\"\"),\"\",IF(AND($B65>=19,$B65<=36),\"*\",\"\"))","v":""},{"$f":"IF(OR(NOW()>MST!$AA$1,$B65=\"\"),\"\",IF(MOD($B65,2)=1,\"*\",\"\"))","v":""},{"$f":"IF(OR(NOW()>MST!$AA$1,$B65=\"\"),\"\",IF(MOD($B65,2)=0,\"*\",\"\"))","v":""},{"$f":"IF(OR(NOW()>MST!$AA$1,$B65=\"\"),\"\",IF(AND($B65>=1,$B65<=12),\"*\",\"\"))","v":""},{"$f":"IF(OR(NOW()>MST!$AA$1,$B65=\"\"),\"\",IF(AND($B65>=13,$B65<=24),\"*\",\"\"))","v":""},{"$f":"IF(OR(NOW()>MST!$AA$1,$B65=\"\"),\"\",IF(AND($B65>=25,$B65<=36),\"*\",\"\"))","v":""},{"$f":"IF(OR(NOW()>MST!$AA$1,$B65=\"\"),\"\",IF(MOD($B65,3)=0,\"*\",\"\"))","v":""},{"$f":"IF(OR(NOW()>MST!$AA$1,$B65=\"\"),\"\",IF(MOD($B65,3)=1,\"*\",\"\"))","v":""},{"$f":"IF(OR(NOW()>MST!$AA$1,$B65=\"\"),\"\",IF(MOD($B65,3)=2,\"*\",\"\"))","v":""},null,null,null,null,null,null,null,null,null,null,null,null,null,null,"","","","","","","","","",""]
["",null,{"$f":"IF(OR(NOW()>MST!$AA$1,$B66=\"\"),\"\",IF(VLOOKUP($B66,MST!$A:$B,2,FALSE)=C$10,\"*\",\"\"))","v":""},{"$f":"IF(OR(NOW()>MST!$AA$1,$B66=\"\"),\"\",IF(VLOOKUP($B66,MST!$A:$B,2,FALSE)=D$10,\"*\",\"\"))","v":""},{"$f":"IF(OR(NOW()>MST!$AA$1,$B66=\"\"),\"\",IF(AND($B66>=1,$B66<=18),\"*\",\"\"))","v":""},{"$f":"IF(OR(NOW()>MST!$AA$1,$B66=\"\"),\"\",IF(AND($B66>=19,$B66<=36),\"*\",\"\"))","v":""},{"$f":"IF(OR(NOW()>MST!$AA$1,$B66=\"\"),\"\",IF(MOD($B66,2)=1,\"*\",\"\"))","v":""},{"$f":"IF(OR(NOW()>MST!$AA$1,$B66=\"\"),\"\",IF(MOD($B66,2)=0,\"*\",\"\"))","v":""},{"$f":"IF(OR(NOW()>MST!$AA$1,$B66=\"\"),\"\",IF(AND($B66>=1,$B66<=12),\"*\",\"\"))","v":""},{"$f":"IF(OR(NOW()>MST!$AA$1,$B66=\"\"),\"\",IF(AND($B66>=13,$B66<=24),\"*\",\"\"))","v":""},{"$f":"IF(OR(NOW()>MST!$AA$1,$B66=\"\"),\"\",IF(AND($B66>=25,$B66<=36),\"*\",\"\"))","v":""},{"$f":"IF(OR(NOW()>MST!$AA$1,$B66=\"\"),\"\",IF(MOD($B66,3)=0,\"*\",\"\"))","v":""},{"$f":"IF(OR(NOW()>MST!$AA$1,$B66=\"\"),\"\",IF(MOD($B66,3)=1,\"*\",\"\"))","v":""},{"$f":"IF(OR(NOW()>MST!$AA$1,$B66=\"\"),\"\",IF(MOD($B66,3)=2,\"*\",\"\"))","v":""},null,null,null,null,null,null,null,null,null,null,null,null,null,null,"","","","","","","","","",""]
["",null,{"$f":"IF(OR(NOW()>MST!$AA$1,$B67=\"\"),\"\",IF(VLOOKUP($B67,MST!$A:$B,2,FALSE)=C$10,\"*\",\"\"))","v":""},{"$f":"IF(OR(NOW()>MST!$AA$1,$B67=\"\"),\"\",IF(VLOOKUP($B67,MST!$A:$B,2,FALSE)=D$10,\"*\",\"\"))","v":""},{"$f":"IF(OR(NOW()>MST!$AA$1,$B67=\"\"),\"\",IF(AND($B67>=1,$B67<=18),\"*\",\"\"))","v":""},{"$f":"IF(OR(NOW()>MST!$AA$1,$B67=\"\"),\"\",IF(AND($B67>=19,$B67<=36),\"*\",\"\"))","v":""},{"$f":"IF(OR(NOW()>MST!$AA$1,$B67=\"\"),\"\",IF(MOD($B67,2)=1,\"*\",\"\"))","v":""},{"$f":"IF(OR(NOW()>MST!$AA$1,$B67=\"\"),\"\",IF(MOD($B67,2)=0,\"*\",\"\"))","v":""},{"$f":"IF(OR(NOW()>MST!$AA$1,$B67=\"\"),\"\",IF(AND($B67>=1,$B67<=12),\"*\",\"\"))","v":""},{"$f":"IF(OR(NOW()>MST!$AA$1,$B67=\"\"),\"\",IF(AND($B67>=13,$B67<=24),\"*\",\"\"))","v":""},{"$f":"IF(OR(NOW()>MST!$AA$1,$B67=\"\"),\"\",IF(AND($B67>=25,$B67<=36),\"*\",\"\"))","v":""},{"$f":"IF(OR(NOW()>MST!$AA$1,$B67=\"\"),\"\",IF(MOD($B67,3)=0,\"*\",\"\"))","v":""},{"$f":"IF(OR(NOW()>MST!$AA$1,$B67=\"\"),\"\",IF(MOD($B67,3)=1,\"*\",\"\"))","v":""},{"$f":"IF(OR(NOW()>MST!$AA$1,$B67=\"\"),\"\",IF(MOD($B67,3)=2,\"*\",\"\"))","v":""},null,null,null,null,null,null,null,null,null,null,null,null,null,null,"","","","","","","","","",""]
["",null,{"$f":"IF(OR(NOW()>MST!$AA$1,$B68=\"\"),\"\",IF(VLOOKUP($B68,MST!$A:$B,2,FALSE)=C$10,\"*\",\"\"))","v":""},{"$f":"IF(OR(NOW()>MST!$AA$1,$B68=\"\"),\"\",IF(VLOOKUP($B68,MST!$A:$B,2,FALSE)=D$10,\"*\",\"\"))","v":""},{"$f":"IF(OR(NOW()>MST!$AA$1,$B68=\"\"),\"\",IF(AND($B68>=1,$B68<=18),\"*\",\"\"))","v":""},{"$f":"IF(OR(NOW()>MST!$AA$1,$B68=\"\"),\"\",IF(AND($B68>=19,$B68<=36),\"*\",\"\"))","v":""},{"$f":"IF(OR(NOW()>MST!$AA$1,$B68=\"\"),\"\",IF(MOD($B68,2)=1,\"*\",\"\"))","v":""},{"$f":"IF(OR(NOW()>MST!$AA$1,$B68=\"\"),\"\",IF(MOD($B68,2)=0,\"*\",\"\"))","v":""},{"$f":"IF(OR(NOW()>MST!$AA$1,$B68=\"\"),\"\",IF(AND($B68>=1,$B68<=12),\"*\",\"\"))","v":""},{"$f":"IF(OR(NOW()>MST!$AA$1,$B68=\"\"),\"\",IF(AND($B68>=13,$B68<=24),\"*\",\"\"))","v":""},{"$f":"IF(OR(NOW()>MST!$AA$1,$B68=\"\"),\"\",IF(AND($B68>=25,$B68<=36),\"*\",\"\"))","v":""},{"$f":"IF(OR(NOW()>MST!$AA$1,$B68=\"\"),\"\",IF(MOD($B68,3)=0,\"*\",\"\"))","v":""},{"$f":"IF(OR(NOW()>MST!$AA$1,$B68=\"\"),\"\",IF(MOD($B68,3)=1,\"*\",\"\"))","v":""},{"$f":"IF(OR(NOW()>MST!$AA$1,$B68=\"\"),\"\",IF(MOD($B68,3)=2,\"*\",\"\"))","v":""},null,null,null,null,null,null,null,null,null,null,null,null,null,null,"","","","","","","","","",""]
["",null,{"$f":"IF(OR(NOW()>MST!$AA$1,$B69=\"\"),\"\",IF(VLOOKUP($B69,MST!$A:$B,2,FALSE)=C$10,\"*\",\"\"))","v":""},{"$f":"IF(OR(NOW()>MST!$AA$1,$B69=\"\"),\"\",IF(VLOOKUP($B69,MST!$A:$B,2,FALSE)=D$10,\"*\",\"\"))","v":""},{"$f":"IF(OR(NOW()>MST!$AA$1,$B69=\"\"),\"\",IF(AND($B69>=1,$B69<=18),\"*\",\"\"))","v":""},{"$f":"IF(OR(NOW()>MST!$AA$1,$B69=\"\"),\"\",IF(AND($B69>=19,$B69<=36),\"*\",\"\"))","v":""},{"$f":"IF(OR(NOW()>MST!$AA$1,$B69=\"\"),\"\",IF(MOD($B69,2)=1,\"*\",\"\"))","v":""},{"$f":"IF(OR(NOW()>MST!$AA$1,$B69=\"\"),\"\",IF(MOD($B69,2)=0,\"*\",\"\"))","v":""},{"$f":"IF(OR(NOW()>MST!$AA$1,$B69=\"\"),\"\",IF(AND($B69>=1,$B69<=12),\"*\",\"\"))","v":""},{"$f":"IF(OR(NOW()>MST!$AA$1,$B69=\"\"),\"\",IF(AND($B69>=13,$B69<=24),\"*\",\"\"))","v":""},{"$f":"IF(OR(NOW()>MST!$AA$1,$B69=\"\"),\"\",IF(AND($B69>=25,$B69<=36),\"*\",\"\"))","v":""},{"$f":"IF(OR(NOW()>MST!$AA$1,$B69=\"\"),\"\",IF(MOD($B69,3)=0,\"*\",\"\"))","v":""},{"$f":"IF(OR(NOW()>MST!$AA$1,$B69=\"\"),\"\",IF(MOD($B69,3)=1,\"*\",\"\"))","v":""},{"$f":"IF(OR(NOW()>MST!$AA$1,$B69=\"\"),\"\",IF(MOD($B69,3)=2,\"*\",\"\"))","v":""},null,null,null,null,null,null,null,null,null,null,null,null,null,null,"","","","","","","","","",""]
["",null,{"$f":"IF(OR(NOW()>MST!$AA$1,$B70=\"\"),\"\",IF(VLOOKUP($B70,MST!$A:$B,2,FALSE)=C$10,\"*\",\"\"))","v":""},{"$f":"IF(OR(NOW()>MST!$AA$1,$B70=\"\"),\"\",IF(VLOOKUP($B70,MST!$A:$B,2,FALSE)=D$10,\"*\",\"\"))","v":""},{"$f":"IF(OR(NOW()>MST!$AA$1,$B70=\"\"),\"\",IF(AND($B70>=1,$B70<=18),\"*\",\"\"))","v":""},{"$f":"IF(OR(NOW()>MST!$AA$1,$B70=\"\"),\"\",IF(AND($B70>=19,$B70<=36),\"*\",\"\"))","v":""},{"$f":"IF(OR(NOW()>MST!$AA$1,$B70=\"\"),\"\",IF(MOD($B70,2)=1,\"*\",\"\"))","v":""},{"$f":"IF(OR(NOW()>MST!$AA$1,$B70=\"\"),\"\",IF(MOD($B70,2)=0,\"*\",\"\"))","v":""},{"$f":"IF(OR(NOW()>MST!$AA$1,$B70=\"\"),\"\",IF(AND($B70>=1,$B70<=12),\"*\",\"\"))","v":""},{"$f":"IF(OR(NOW()>MST!$AA$1,$B70=\"\"),\"\",IF(AND($B70>=13,$B70<=24),\"*\",\"\"))","v":""},{"$f":"IF(OR(NOW()>MST!$AA$1,$B70=\"\"),\"\",IF(AND($B70>=25,$B70<=36),\"*\",\"\"))","v":""},{"$f":"IF(OR(NOW()>MST!$AA$1,$B70=\"\"),\"\",IF(MOD($B70,3)=0,\"*\",\"\"))","v":""},{"$f":"IF(OR(NOW()>MST!$AA$1,$B70=\"\"),\"\",IF(MOD($B70,3)=1,\"*\",\"\"))","v":""},{"$f":"IF(OR(NOW()>MST!$AA$1,$B70=\"\"),\"\",IF(MOD($B70,3)=2,\"*\",\"\"))","v":""},null,null,null,null,null,null,null,null,null,null,null,null,null,null,"","","","","","","","","",""]
["",null,{"$f":"IF(OR(NOW()>MST!$AA$1,$B71=\"\"),\"\",IF(VLOOKUP($B71,MST!$A:$B,2,FALSE)=C$10,\"*\",\"\"))","v":""},{"$f":"IF(OR(NOW()>MST!$AA$1,$B71=\"\"),\"\",IF(VLOOKUP($B71,MST!$A:$B,2,FALSE)=D$10,\"*\",\"\"))","v":""},{"$f":"IF(OR(NOW()>MST!$AA$1,$B71=\"\"),\"\",IF(AND($B71>=1,$B71<=18),\"*\",\"\"))","v":""},{"$f":"IF(OR(NOW()>MST!$AA$1,$B71=\"\"),\"\",IF(AND($B71>=19,$B71<=36),\"*\",\"\"))","v":""},{"$f":"IF(OR(NOW()>MST!$AA$1,$B71=\"\"),\"\",IF(MOD($B71,2)=1,\"*\",\"\"))","v":""},{"$f":"IF(OR(NOW()>MST!$AA$1,$B71=\"\"),\"\",IF(MOD($B71,2)=0,\"*\",\"\"))","v":""},{"$f":"IF(OR(NOW()>MST!$AA$1,$B71=\"\"),\"\",IF(AND($B71>=1,$B71<=12),\"*\",\"\"))","v":""},{"$f":"IF(OR(NOW()>MST!$AA$1,$B71=\"\"),\"\",IF(AND($B71>=13,$B71<=24),\"*\",\"\"))","v":""},{"$f":"IF(OR(NOW()>MST!$AA$1,$B71=\"\"),\"\",IF(AND($B71>=25,$B71<=36),\"*\",\"\"))","v":""},{"$f":"IF(OR(NOW()>MST!$AA$1,$B71=\"\"),\"\",IF(MOD($B71,3)=0,\"*\",\"\"))","v":""},{"$f":"IF(OR(NOW()>MST!$AA$1,$B71=\"\"),\"\",IF(MOD($B71,3)=1,\"*\",\"\"))","v":""},{"$f":"IF(OR(NOW()>MST!$AA$1,$B71=\"\"),\"\",IF(MOD($B71,3)=2,\"*\",\"\"))","v":""},null,null,null,null,null,null,null,null,null,null,null,null,null,null,"","","","","","","","","",""]
["",null,{"$f":"IF(OR(NOW()>MST!$AA$1,$B72=\"\"),\"\",IF(VLOOKUP($B72,MST!$A:$B,2,FALSE)=C$10,\"*\",\"\"))","v":""},{"$f":"IF(OR(NOW()>MST!$AA$1,$B72=\"\"),\"\",IF(VLOOKUP($B72,MST!$A:$B,2,FALSE)=D$10,\"*\",\"\"))","v":""},{"$f":"IF(OR(NOW()>MST!$AA$1,$B72=\"\"),\"\",IF(AND($B72>=1,$B72<=18),\"*\",\"\"))","v":""},{"$f":"IF(OR(NOW()>MST!$AA$1,$B72=\"\"),\"\",IF(AND($B72>=19,$B72<=36),\"*\",\"\"))","v":""},{"$f":"IF(OR(NOW()>MST!$AA$1,$B72=\"\"),\"\",IF(MOD($B72,2)=1,\"*\",\"\"))","v":""},{"$f":"IF(OR(NOW()>MST!$AA$1,$B72=\"\"),\"\",IF(MOD($B72,2)=0,\"*\",\"\"))","v":""},{"$f":"IF(OR(NOW()>MST!$AA$1,$B72=\"\"),\"\",IF(AND($B72>=1,$B72<=12),\"*\",\"\"))","v":""},{"$f":"IF(OR(NOW()>MST!$AA$1,$B72=\"\"),\"\",IF(AND($B72>=13,$B72<=24),\"*\",\"\"))","v":""},{"$f":"IF(OR(NOW()>MST!$AA$1,$B72=\"\"),\"\",IF(AND($B72>=25,$B72<=36),\"*\",\"\"))","v":""},{"$f":"IF(OR(NOW()>MST!$AA$1,$B72=\"\"),\"\",IF(MOD($B72,3)=0,\"*\",\"\"))","v":""},{"$f":"IF(OR(NOW()>MST!$AA$1,$B72=\"\"),\"\",IF(MOD($B72,3)=1,\"*\",\"\"))","v":""},{"$f":"IF(OR(NOW()>MST!$AA$1,$B72=\"\"),\"\",IF(MOD($B72,3)=2,\"*\",\"\"))","v":""},null,null,null,null,null,null,null,null,null,null,null,null,null,null,"","","","","","","","","",""]
["",null,{"$f":"IF(OR(NOW()>MST!$AA$1,$B73=\"\"),\"\",IF(VLOOKUP($B73,MST!$A:$B,2,FALSE)=C$10,\"*\",\"\"))","v":""},{"$f":"IF(OR(NOW()>MST!$AA$1,$B73=\"\"),\"\",IF(VLOOKUP($B73,MST!$A:$B,2,FALSE)=D$10,\"*\",\"\"))","v":""},{"$f":"IF(OR(NOW()>MST!$AA$1,$B73=\"\"),\"\",IF(AND($B73>=1,$B73<=18),\"*\",\"\"))","v":""},{"$f":"IF(OR(NOW()>MST!$AA$1,$B73=\"\"),\"\",IF(AND($B73>=19,$B73<=36),\"*\",\"\"))","v":""},{"$f":"IF(OR(NOW()>MST!$AA$1,$B73=\"\"),\"\",IF(MOD($B73,2)=1,\"*\",\"\"))","v":""},{"$f":"IF(OR(NOW()>MST!$AA$1,$B73=\"\"),\"\",IF(MOD($B73,2)=0,\"*\",\"\"))","v":""},{"$f":"IF(OR(NOW()>MST!$AA$1,$B73=\"\"),\"\",IF(AND($B73>=1,$B73<=12),\"*\",\"\"))","v":""},{"$f":"IF(OR(NOW()>MST!$AA$1,$B73=\"\"),\"\",IF(AND($B73>=13,$B73<=24),\"*\",\"\"))","v":""},{"$f":"IF(OR(NOW()>MST!$AA$1,$B73=\"\"),\"\",IF(AND($B73>=25,$B73<=36),\"*\",\"\"))","v":""},{"$f":"IF(OR(NOW()>MST!$AA$1,$B73=\"\"),\"\",IF(MOD($B73,3)=0,\"*\",\"\"))","v":""},{"$f":"IF(OR(NOW()>MST!$AA$1,$B73=\"\"),\"\",IF(MOD($B73,3)=1,\"*\",\"\"))","v":""},{"$f":"IF(OR(NOW()>MST!$AA$1,$B73=\"\"),\"\",IF(MOD($B73,3)=2,\"*\",\"\"))","v":""},null,null,null,null,null,null,null,null,null,null,null,null,null,null,"","","","","","","","","",""]
["",null,{"$f":"IF(OR(NOW()>MST!$AA$1,$B74=\"\"),\"\",IF(VLOOKUP($B74,MST!$A:$B,2,FALSE)=C$10,\"*\",\"\"))","v":""},{"$f":"IF(OR(NOW()>MST!$AA$1,$B74=\"\"),\"\",IF(VLOOKUP($B74,MST!$A:$B,2,FALSE)=D$10,\"*\",\"\"))","v":""},{"$f":"IF(OR(NOW()>MST!$AA$1,$B74=\"\"),\"\",IF(AND($B74>=1,$B74<=18),\"*\",\"\"))","v":""},{"$f":"IF(OR(NOW()>MST!$AA$1,$B74=\"\"),\"\",IF(AND($B74>=19,$B74<=36),\"*\",\"\"))","v":""},{"$f":"IF(OR(NOW()>MST!$AA$1,$B74=\"\"),\"\",IF(MOD($B74,2)=1,\"*\",\"\"))","v":""},{"$f":"IF(OR(NOW()>MST!$AA$1,$B74=\"\"),\"\",IF(MOD($B74,2)=0,\"*\",\"\"))","v":""},{"$f":"IF(OR(NOW()>MST!$AA$1,$B74=\"\"),\"\",IF(AND($B74>=1,$B74<=12),\"*\",\"\"))","v":""},{"$f":"IF(OR(NOW()>MST!$AA$1,$B74=\"\"),\"\",IF(AND($B74>=13,$B74<=24),\"*\",\"\"))","v":""},{"$f":"IF(OR(NOW()>MST!$AA$1,$B74=\"\"),\"\",IF(AND($B74>=25,$B74<=36),\"*\",\"\"))","v":""},{"$f":"IF(OR(NOW()>MST!$AA$1,$B74=\"\"),\"\",IF(MOD($B74,3)=0,\"*\",\"\"))","v":""},{"$f":"IF(OR(NOW()>MST!$AA$1,$B74=\"\"),\"\",IF(MOD($B74,3)=1,\"*\",\"\"))","v":""},{"$f":"IF(OR(NOW()>MST!$AA$1,$B74=\"\"),\"\",IF(MOD($B74,3)=2,\"*\",\"\"))","v":""},null,null,null,null,null,null,null,null,null,null,null,null,null,null,"","","","","","","","","",""]
["",null,{"$f":"IF(OR(NOW()>MST!$AA$1,$B75=\"\"),\"\",IF(VLOOKUP($B75,MST!$A:$B,2,FALSE)=C$10,\"*\",\"\"))","v":""},{"$f":"IF(OR(NOW()>MST!$AA$1,$B75=\"\"),\"\",IF(VLOOKUP($B75,MST!$A:$B,2,FALSE)=D$10,\"*\",\"\"))","v":""},{"$f":"IF(OR(NOW()>MST!$AA$1,$B75=\"\"),\"\",IF(AND($B75>=1,$B75<=18),\"*\",\"\"))","v":""},{"$f":"IF(OR(NOW()>MST!$AA$1,$B75=\"\"),\"\",IF(AND($B75>=19,$B75<=36),\"*\",\"\"))","v":""},{"$f":"IF(OR(NOW()>MST!$AA$1,$B75=\"\"),\"\",IF(MOD($B75,2)=1,\"*\",\"\"))","v":""},{"$f":"IF(OR(NOW()>MST!$AA$1,$B75=\"\"),\"\",IF(MOD($B75,2)=0,\"*\",\"\"))","v":""},{"$f":"IF(OR(NOW()>MST!$AA$1,$B75=\"\"),\"\",IF(AND($B75>=1,$B75<=12),\"*\",\"\"))","v":""},{"$f":"IF(OR(NOW()>MST!$AA$1,$B75=\"\"),\"\",IF(AND($B75>=13,$B75<=24),\"*\",\"\"))","v":""},{"$f":"IF(OR(NOW()>MST!$AA$1,$B75=\"\"),\"\",IF(AND($B75>=25,$B75<=36),\"*\",\"\"))","v":""},{"$f":"IF(OR(NOW()>MST!$AA$1,$B75=\"\"),\"\",IF(MOD($B75,3)=0,\"*\",\"\"))","v":""},{"$f":"IF(OR(NOW()>MST!$AA$1,$B75=\"\"),\"\",IF(MOD($B75,3)=1,\"*\",\"\"))","v":""},{"$f":"IF(OR(NOW()>MST!$AA$1,$B75=\"\"),\"\",IF(MOD($B75,3)=2,\"*\",\"\"))","v":""},null,null,null,null,null,null,null,null,null,null,null,null,null,null,"","","","","","","","","",""]
[{"$f":"IF(B76=\"\",\"\",ROW()-10)","v":""},null,{"$f":"IF(OR(NOW()>MST!$AA$1,$B76=\"\"),\"\",IF(VLOOKUP($B76,MST!$A:$B,2,FALSE)=C$10,\"*\",\"\"))","v":""},{"$f":"IF(OR(NOW()>MST!$AA$1,$B76=\"\"),\"\",IF(VLOOKUP($B76,MST!$A:$B,2,FALSE)=D$10,\"*\",\"\"))","v":""},{"$f":"IF(OR(NOW()>MST!$AA$1,$B76=\"\"),\"\",IF(AND($B76>=1,$B76<=18),\"*\",\"\"))","v":""},{"$f":"IF(OR(NOW()>MST!$AA$1,$B76=\"\"),\"\",IF(AND($B76>=19,$B76<=36),\"*\",\"\"))","v":""},{"$f":"IF(OR(NOW()>MST!$AA$1,$B76=\"\"),\"\",IF(MOD($B76,2)=1,\"*\",\"\"))","v":""},{"$f":"IF(OR(NOW()>MST!$AA$1,$B76=\"\"),\"\",IF(MOD($B76,2)=0,\"*\",\"\"))","v":""},{"$f":"IF(OR(NOW()>MST!$AA$1,$B76=\"\"),\"\",IF(AND($B76>=1,$B76<=12),\"*\",\"\"))","v":""},{"$f":"IF(OR(NOW()>MST!$AA$1,$B76=\"\"),\"\",IF(AND($B76>=13,$B76<=24),\"*\",\"\"))","v":""},{"$f":"IF(OR(NOW()>MST!$AA$1,$B76=\"\"),\"\",IF(AND($B76>=25,$B76<=36),\"*\",\"\"))","v":""},{"$f":"IF(OR(NOW()>MST!$AA$1,$B76=\"\"),\"\",IF(MOD($B76,3)=0,\"*\",\"\"))","v":""},{"$f":"IF(OR(NOW()>MST!$AA$1,$B76=\"\"),\"\",IF(MOD($B76,3)=1,\"*\",\"\"))","v":""},{"$f":"IF(OR(NOW()>MST!$AA$1,$B76=\"\"),\"\",IF(MOD($B76,3)=2,\"*\",\"\"))","v":""},null,null,null,null,null,null,null,null,null,null,null,null,null,null,{"$f":"IF(ROW()=$AC$1,IF(C76=\"*\",C76,\"\"),IF(ROW()<$AC$1,IF(AND(AC77=\"*\",C76=\"*\"),AC77,\"\"),\"\"))","v":""},"","","","","","","","",""]
["",null,{"$f":"IF(OR(NOW()>MST!$AA$1,$B77=\"\"),\"\",IF(VLOOKUP($B77,MST!$A:$B,2,FALSE)=C$10,\"*\",\"\"))","v":""},{"$f":"IF(OR(NOW()>MST!$AA$1,$B77=\"\"),\"\",IF(VLOOKUP($B77,MST!$A:$B,2,FALSE)=D$10,\"*\",\"\"))","v":""},{"$f":"IF(OR(NOW()>MST!$AA$1,$B77=\"\"),\"\",IF(AND($B77>=1,$B77<=18),\"*\",\"\"))","v":""},{"$f":"IF(OR(NOW()>MST!$AA$1,$B77=\"\"),\"\",IF(AND($B77>=19,$B77<=36),\"*\",\"\"))","v":""},{"$f":"IF(OR(NOW()>MST!$AA$1,$B77=\"\"),\"\",IF(MOD($B77,2)=1,\"*\",\"\"))","v":""},{"$f":"IF(OR(NOW()>MST!$AA$1,$B77=\"\"),\"\",IF(MOD($B77,2)=0,\"*\",\"\"))","v":""},{"$f":"IF(OR(NOW()>MST!$AA$1,$B77=\"\"),\"\",IF(AND($B77>=1,$B77<=12),\"*\",\"\"))","v":""},{"$f":"IF(OR(NOW()>MST!$AA$1,$B77=\"\"),\"\",IF(AND($B77>=13,$B77<=24),\"*\",\"\"))","v":""},{"$f":"IF(OR(NOW()>MST!$AA$1,$B77=\"\"),\"\",IF(AND($B77>=25,$B77<=36),\"*\",\"\"))","v":""},{"$f":"IF(OR(NOW()>MST!$AA$1,$B77=\"\"),\"\",IF(MOD($B77,3)=0,\"*\",\"\"))","v":""},{"$f":"IF(OR(NOW()>MST!$AA$1,$B77=\"\"),\"\",IF(MOD($B77,3)=1,\"*\",\"\"))","v":""},{"$f":"IF(OR(NOW()>MST!$AA$1,$B77=\"\"),\"\",IF(MOD($B77,3)=2,\"*\",\"\"))","v":""},null,null,null,null,null,null,null,null,null,null,null,null,null,null,"","","","","","","","","",""]
["",null,{"$f":"IF(OR(NOW()>MST!$AA$1,$B78=\"\"),\"\",IF(VLOOKUP($B78,MST!$A:$B,2,FALSE)=C$10,\"*\",\"\"))","v":""},{"$f":"IF(OR(NOW()>MST!$AA$1,$B78=\"\"),\"\",IF(VLOOKUP($B78,MST!$A:$B,2,FALSE)=D$10,\"*\",\"\"))","v":""},{"$f":"IF(OR(NOW()>MST!$AA$1,$B78=\"\"),\"\",IF(AND($B78>=1,$B78<=18),\"*\",\"\"))","v":""},{"$f":"IF(OR(NOW()>MST!$AA$1,$B78=\"\"),\"\",IF(AND($B78>=19,$B78<=36),\"*\",\"\"))","v":""},{"$f":"IF(OR(NOW()>MST!$AA$1,$B78=\"\"),\"\",IF(MOD($B78,2)=1,\"*\",\"\"))","v":""},{"$f":"IF(OR(NOW()>MST!$AA$1,$B78=\"\"),\"\",IF(MOD($B78,2)=0,\"*\",\"\"))","v":""},{"$f":"IF(OR(NOW()>MST!$AA$1,$B78=\"\"),\"\",IF(AND($B78>=1,$B78<=12),\"*\",\"\"))","v":""},{"$f":"IF(OR(NOW()>MST!$AA$1,$B78=\"\"),\"\",IF(AND($B78>=13,$B78<=24),\"*\",\"\"))","v":""},{"$f":"IF(OR(NOW()>MST!$AA$1,$B78=\"\"),\"\",IF(AND($B78>=25,$B78<=36),\"*\",\"\"))","v":""},{"$f":"IF(OR(NOW()>MST!$AA$1,$B78=\"\"),\"\",IF(MOD($B78,3)=0,\"*\",\"\"))","v":""},{"$f":"IF(OR(NOW()>MST!$AA$1,$B78=\"\"),\"\",IF(MOD($B78,3)=1,\"*\",\"\"))","v":""},{"$f":"IF(OR(NOW()>MST!$AA$1,$B78=\"\"),\"\",IF(MOD($B78,3)=2,\"*\",\"\"))","v":""},null,null,null,null,null,null,null,null,null,null,null,null,null,null,"","","","","","","","","",""]
["",null,{"$f":"IF(OR(NOW()>MST!$AA$1,$B79=\"\"),\"\",IF(VLOOKUP($B79,MST!$A:$B,2,FALSE)=C$10,\"*\",\"\"))","v":""},{"$f":"IF(OR(NOW()>MST!$AA$1,$B79=\"\"),\"\",IF(VLOOKUP($B79,MST!$A:$B,2,FALSE)=D$10,\"*\",\"\"))","v":""},{"$f":"IF(OR(NOW()>MST!$AA$1,$B79=\"\"),\"\",IF(AND($B79>=1,$B79<=18),\"*\",\"\"))","v":""},{"$f":"IF(OR(NOW()>MST!$AA$1,$B79=\"\"),\"\",IF(AND($B79>=19,$B79<=36),\"*\",\"\"))","v":""},{"$f":"IF(OR(NOW()>MST!$AA$1,$B79=\"\"),\"\",IF(MOD($B79,2)=1,\"*\",\"\"))","v":""},{"$f":"IF(OR(NOW()>MST!$AA$1,$B79=\"\"),\"\",IF(MOD($B79,2)=0,\"*\",\"\"))","v":""},{"$f":"IF(OR(NOW()>MST!$AA$1,$B79=\"\"),\"\",IF(AND($B79>=1,$B79<=12),\"*\",\"\"))","v":""},{"$f":"IF(OR(NOW()>MST!$AA$1,$B79=\"\"),\"\",IF(AND($B79>=13,$B79<=24),\"*\",\"\"))","v":""},{"$f":"IF(OR(NOW()>MST!$AA$1,$B79=\"\"),\"\",IF(AND($B79>=25,$B79<=36),\"*\",\"\"))","v":""},{"$f":"IF(OR(NOW()>MST!$AA$1,$B79=\"\"),\"\",IF(MOD($B79,3)=0,\"*\",\"\"))","v":""},{"$f":"IF(OR(NOW()>MST!$AA$1,$B79=\"\"),\"\",IF(MOD($B79,3)=1,\"*\",\"\"))","v":""},{"$f":"IF(OR(NOW()>MST!$AA$1,$B79=\"\"),\"\",IF(MOD($B79,3)=2,\"*\",\"\"))","v":""},null,null,null,null,null,null,null,null,null,null,null,null,null,null,"","","","","","","","","",""]
["",null,{"$f":"IF(OR(NOW()>MST!$AA$1,$B80=\"\"),\"\",IF(VLOOKUP($B80,MST!$A:$B,2,FALSE)=C$10,\"*\",\"\"))","v":""},{"$f":"IF(OR(NOW()>MST!$AA$1,$B80=\"\"),\"\",IF(VLOOKUP($B80,MST!$A:$B,2,FALSE)=D$10,\"*\",\"\"))","v":""},{"$f":"IF(OR(NOW()>MST!$AA$1,$B80=\"\"),\"\",IF(AND($B80>=1,$B80<=18),\"*\",\"\"))","v":""},{"$f":"IF(OR(NOW()>MST!$AA$1,$B80=\"\"),\"\",IF(AND($B80>=19,$B80<=36),\"*\",\"\"))","v":""},{"$f":"IF(OR(NOW()>MST!$AA$1,$B80=\"\"),\"\",IF(MOD($B80,2)=1,\"*\",\"\"))","v":""},{"$f":"IF(OR(NOW()>MST!$AA$1,$B80=\"\"),\"\",IF(MOD($B80,2)=0,\"*\",\"\"))","v":""},{"$f":"IF(OR(NOW()>MST!$AA$1,$B80=\"\"),\"\",IF(AND($B80>=1,$B80<=12),\"*\",\"\"))","v":""},{"$f":"IF(OR(NOW()>MST!$AA$1,$B80=\"\"),\"\",IF(AND($B80>=13,$B80<=24),\"*\",\"\"))","v":""},{"$f":"IF(OR(NOW()>MST!$AA$1,$B80=\"\"),\"\",IF(AND($B80>=25,$B80<=36),\"*\",\"\"))","v":""},{"$f":"IF(OR(NOW()>MST!$AA$1,$B80=\"\"),\"\",IF(MOD($B80,3)=0,\"*\",\"\"))","v":""},{"$f":"IF(OR(NOW()>MST!$AA$1,$B80=\"\"),\"\",IF(MOD($B80,3)=1,\"*\",\"\"))","v":""},{"$f":"IF(OR(NOW()>MST!$AA$1,$B80=\"\"),\"\",IF(MOD($B80,3)=2,\"*\",\"\"))","v":""},null,null,null,null,null,null,null,null,null,null,null,null,null,null,"","","","","","","","","",""]
["",null,{"$f":"IF(OR(NOW()>MST!$AA$1,$B81=\"\"),\"\",IF(VLOOKUP($B81,MST!$A:$B,2,FALSE)=C$10,\"*\",\"\"))","v":""},{"$f":"IF(OR(NOW()>MST!$AA$1,$B81=\"\"),\"\",IF(VLOOKUP($B81,MST!$A:$B,2,FALSE)=D$10,\"*\",\"\"))","v":""},{"$f":"IF(OR(NOW()>MST!$AA$1,$B81=\"\"),\"\",IF(AND($B81>=1,$B81<=18),\"*\",\"\"))","v":""},{"$f":"IF(OR(NOW()>MST!$AA$1,$B81=\"\"),\"\",IF(AND($B81>=19,$B81<=36),\"*\",\"\"))","v":""},{"$f":"IF(OR(NOW()>MST!$AA$1,$B81=\"\"),\"\",IF(MOD($B81,2)=1,\"*\",\"\"))","v":""},{"$f":"IF(OR(NOW()>MST!$AA$1,$B81=\"\"),\"\",IF(MOD($B81,2)=0,\"*\",\"\"))","v":""},{"$f":"IF(OR(NOW()>MST!$AA$1,$B81=\"\"),\"\",IF(AND($B81>=1,$B81<=12),\"*\",\"\"))","v":""},{"$f":"IF(OR(NOW()>MST!$AA$1,$B81=\"\"),\"\",IF(AND($B81>=13,$B81<=24),\"*\",\"\"))","v":""},{"$f":"IF(OR(NOW()>MST!$AA$1,$B81=\"\"),\"\",IF(AND($B81>=25,$B81<=36),\"*\",\"\"))","v":""},{"$f":"IF(OR(NOW()>MST!$AA$1,$B81=\"\"),\"\",IF(MOD($B81,3)=0,\"*\",\"\"))","v":""},{"$f":"IF(OR(NOW()>MST!$AA$1,$B81=\"\"),\"\",IF(MOD($B81,3)=1,\"*\",\"\"))","v":""},{"$f":"IF(OR(NOW()>MST!$AA$1,$B81=\"\"),\"\",IF(MOD($B81,3)=2,\"*\",\"\"))","v":""},null,null,null,null,null,null,null,null,null,null,null,null,null,null,"","","","","","","","","",""]
["",null,{"$f":"IF(OR(NOW()>MST!$AA$1,$B82=\"\"),\"\",IF(VLOOKUP($B82,MST!$A:$B,2,FALSE)=C$10,\"*\",\"\"))","v":""},{"$f":"IF(OR(NOW()>MST!$AA$1,$B82=\"\"),\"\",IF(VLOOKUP($B82,MST!$A:$B,2,FALSE)=D$10,\"*\",\"\"))","v":""},{"$f":"IF(OR(NOW()>MST!$AA$1,$B82=\"\"),\"\",IF(AND($B82>=1,$B82<=18),\"*\",\"\"))","v":""},{"$f":"IF(OR(NOW()>MST!$AA$1,$B82=\"\"),\"\",IF(AND($B82>=19,$B82<=36),\"*\",\"\"))","v":""},{"$f":"IF(OR(NOW()>MST!$AA$1,$B82=\"\"),\"\",IF(MOD($B82,2)=1,\"*\",\"\"))","v":""},{"$f":"IF(OR(NOW()>MST!$AA$1,$B82=\"\"),\"\",IF(MOD($B82,2)=0,\"*\",\"\"))","v":""},{"$f":"IF(OR(NOW()>MST!$AA$1,$B82=\"\"),\"\",IF(AND($B82>=1,$B82<=12),\"*\",\"\"))","v":""},{"$f":"IF(OR(NOW()>MST!$AA$1,$B82=\"\"),\"\",IF(AND($B82>=13,$B82<=24),\"*\",\"\"))","v":""},{"$f":"IF(OR(NOW()>MST!$AA$1,$B82=\"\"),\"\",IF(AND($B82>=25,$B82<=36),\"*\",\"\"))","v":""},{"$f":"IF(OR(NOW()>MST!$AA$1,$B82=\"\"),\"\",IF(MOD($B82,3)=0,\"*\",\"\"))","v":""},{"$f":"IF(OR(NOW()>MST!$AA$1,$B82=\"\"),\"\",IF(MOD($B82,3)=1,\"*\",\"\"))","v":""},{"$f":"IF(OR(NOW()>MST!$AA$1,$B82=\"\"),\"\",IF(MOD($B82,3)=2,\"*\",\"\"))","v":""},null,null,null,null,null,null,null,null,null,null,null,null,null,null,"","","","","","","","","",""]
["",null,{"$f":"IF(OR(NOW()>MST!$AA$1,$B83=\"\"),\"\",IF(VLOOKUP($B83,MST!$A:$B,2,FALSE)=C$10,\"*\",\"\"))","v":""},{"$f":"IF(OR(NOW()>MST!$AA$1,$B83=\"\"),\"\",IF(VLOOKUP($B83,MST!$A:$B,2,FALSE)=D$10,\"*\",\"\"))","v":""},{"$f":"IF(OR(NOW()>MST!$AA$1,$B83=\"\"),\"\",IF(AND($B83>=1,$B83<=18),\"*\",\"\"))","v":""},{"$f":"IF(OR(NOW()>MST!$AA$1,$B83=\"\"),\"\",IF(AND($B83>=19,$B83<=36),\"*\",\"\"))","v":""},{"$f":"IF(OR(NOW()>MST!$AA$1,$B83=\"\"),\"\",IF(MOD($B83,2)=1,\"*\",\"\"))","v":""},{"$f":"IF(OR(NOW()>MST!$AA$1,$B83=\"\"),\"\",IF(MOD($B83,2)=0,\"*\",\"\"))","v":""},{"$f":"IF(OR(NOW()>MST!$AA$1,$B83=\"\"),\"\",IF(AND($B83>=1,$B83<=12),\"*\",\"\"))","v":""},{"$f":"IF(OR(NOW()>MST!$AA$1,$B83=\"\"),\"\",IF(AND($B83>=13,$B83<=24),\"*\",\"\"))","v":""},{"$f":"IF(OR(NOW()>MST!$AA$1,$B83=\"\"),\"\",IF(AND($B83>=25,$B83<=36),\"*\",\"\"))","v":""},{"$f":"IF(OR(NOW()>MST!$AA$1,$B83=\"\"),\"\",IF(MOD($B83,3)=0,\"*\",\"\"))","v":""},{"$f":"IF(OR(NOW()>MST!$AA$1,$B83=\"\"),\"\",IF(MOD($B83,3)=1,\"*\",\"\"))","v":""},{"$f":"IF(OR(NOW()>MST!$AA$1,$B83=\"\"),\"\",IF(MOD($B83,3)=2,\"*\",\"\"))","v":""},null,null,null,null,null,null,null,null,null,null,null,null,null,null,"","","","","","","","","",""]
["",null,{"$f":"IF(OR(NOW()>MST!$AA$1,$B84=\"\"),\"\",IF(VLOOKUP($B84,MST!$A:$B,2,FALSE)=C$10,\"*\",\"\"))","v":""},{"$f":"IF(OR(NOW()>MST!$AA$1,$B84=\"\"),\"\",IF(VLOOKUP($B84,MST!$A:$B,2,FALSE)=D$10,\"*\",\"\"))","v":""},{"$f":"IF(OR(NOW()>MST!$AA$1,$B84=\"\"),\"\",IF(AND($B84>=1,$B84<=18),\"*\",\"\"))","v":""},{"$f":"IF(OR(NOW()>MST!$AA$1,$B84=\"\"),\"\",IF(AND($B84>=19,$B84<=36),\"*\",\"\"))","v":""},{"$f":"IF(OR(NOW()>MST!$AA$1,$B84=\"\"),\"\",IF(MOD($B84,2)=1,\"*\",\"\"))","v":""},{"$f":"IF(OR(NOW()>MST!$AA$1,$B84=\"\"),\"\",IF(MOD($B84,2)=0,\"*\",\"\"))","v":""},{"$f":"IF(OR(NOW()>MST!$AA$1,$B84=\"\"),\"\",IF(AND($B84>=1,$B84<=12),\"*\",\"\"))","v":""},{"$f":"IF(OR(NOW()>MST!$AA$1,$B84=\"\"),\"\",IF(AND($B84>=13,$B84<=24),\"*\",\"\"))","v":""},{"$f":"IF(OR(NOW()>MST!$AA$1,$B84=\"\"),\"\",IF(AND($B84>=25,$B84<=36),\"*\",\"\"))","v":""},{"$f":"IF(OR(NOW()>MST!$AA$1,$B84=\"\"),\"\",IF(MOD($B84,3)=0,\"*\",\"\"))","v":""},{"$f":"IF(OR(NOW()>MST!$AA$1,$B84=\"\"),\"\",IF(MOD($B84,3)=1,\"*\",\"\"))","v":""},{"$f":"IF(OR(NOW()>MST!$AA$1,$B84=\"\"),\"\",IF(MOD($B84,3)=2,\"*\",\"\"))","v":""},null,null,null,null,null,null,null,null,null,null,null,null,null,null,"","","","","","","","","",""]
["",null,{"$f":"IF(OR(NOW()>MST!$AA$1,$B85=\"\"),\"\",IF(VLOOKUP($B85,MST!$A:$B,2,FALSE)=C$10,\"*\",\"\"))","v":""},{"$f":"IF(OR(NOW()>MST!$AA$1,$B85=\"\"),\"\",IF(VLOOKUP($B85,MST!$A:$B,2,FALSE)=D$10,\"*\",\"\"))","v":""},{"$f":"IF(OR(NOW()>MST!$AA$1,$B85=\"\"),\"\",IF(AND($B85>=1,$B85<=18),\"*\",\"\"))","v":""},{"$f":"IF(OR(NOW()>MST!$AA$1,$B85=\"\"),\"\",IF(AND($B85>=19,$B85<=36),\"*\",\"\"))","v":""},{"$f":"IF(OR(NOW()>MST!$AA$1,$B85=\"\"),\"\",IF(MOD($B85,2)=1,\"*\",\"\"))","v":""},{"$f":"IF(OR(NOW()>MST!$AA$1,$B85=\"\"),\"\",IF(MOD($B85,2)=0,\"*\",\"\"))","v":""},{"$f":"IF(OR(NOW()>MST!$AA$1,$B85=\"\"),\"\",IF(AND($B85>=1,$B85<=12),\"*\",\"\"))","v":""},{"$f":"IF(OR(NOW()>MST!$AA$1,$B85=\"\"),\"\",IF(AND($B85>=13,$B85<=24),\"*\",\"\"))","v":""},{"$f":"IF(OR(NOW()>MST!$AA$1,$B85=\"\"),\"\",IF(AND($B85>=25,$B85<=36),\"*\",\"\"))","v":""},{"$f":"IF(OR(NOW()>MST!$AA$1,$B85=\"\"),\"\",IF(MOD($B85,3)=0,\"*\",\"\"))","v":""},{"$f":"IF(OR(NOW()>MST!$AA$1,$B85=\"\"),\"\",IF(MOD($B85,3)=1,\"*\",\"\"))","v":""},{"$f":"IF(OR(NOW()>MST!$AA$1,$B85=\"\"),\"\",IF(MOD($B85,3)=2,\"*\",\"\"))","v":""},null,null,null,null,null,null,null,null,null,null,null,null,null,null,"","","","","","","","","",""]
["",null,{"$f":"IF(OR(NOW()>MST!$AA$1,$B86=\"\"),\"\",IF(VLOOKUP($B86,MST!$A:$B,2,FALSE)=C$10,\"*\",\"\"))","v":""},{"$f":"IF(OR(NOW()>MST!$AA$1,$B86=\"\"),\"\",IF(VLOOKUP($B86,MST!$A:$B,2,FALSE)=D$10,\"*\",\"\"))","v":""},{"$f":"IF(OR(NOW()>MST!$AA$1,$B86=\"\"),\"\",IF(AND($B86>=1,$B86<=18),\"*\",\"\"))","v":""},{"$f":"IF(OR(NOW()>MST!$AA$1,$B86=\"\"),\"\",IF(AND($B86>=19,$B86<=36),\"*\",\"\"))","v":""},{"$f":"IF(OR(NOW()>MST!$AA$1,$B86=\"\"),\"\",IF(MOD($B86,2)=1,\"*\",\"\"))","v":""},{"$f":"IF(OR(NOW()>MST!$AA$1,$B86=\"\"),\"\",IF(MOD($B86,2)=0,\"*\",\"\"))","v":""},{"$f":"IF(OR(NOW()>MST!$AA$1,$B86=\"\"),\"\",IF(AND($B86>=1,$B86<=12),\"*\",\"\"))","v":""},{"$f":"IF(OR(NOW()>MST!$AA$1,$B86=\"\"),\"\",IF(AND($B86>=13,$B86<=24),\"*\",\"\"))","v":""},{"$f":"IF(OR(NOW()>MST!$AA$1,$B86=\"\"),\"\",IF(AND($B86>=25,$B86<=36),\"*\",\"\"))","v":""},{"$f":"IF(OR(NOW()>MST!$AA$1,$B86=\"\"),\"\",IF(MOD($B86,3)=0,\"*\",\"\"))","v":""},{"$f":"IF(OR(NOW()>MST!$AA$1,$B86=\"\"),\"\",IF(MOD($B86,3)=1,\"*\",\"\"))","v":""},{"$f":"IF(OR(NOW()>MST!$AA$1,$B86=\"\"),\"\",IF(MOD($B86,3)=2,\"*\",\"\"))","v":""},null,null,null,null,null,null,null,null,null,null,null,null,null,null,"","","","","","","","","",""]
["",null,{"$f":"IF(OR(NOW()>MST!$AA$1,$B87=\"\"),\"\",IF(VLOOKUP($B87,MST!$A:$B,2,FALSE)=C$10,\"*\",\"\"))","v":""},{"$f":"IF(OR(NOW()>MST!$AA$1,$B87=\"\"),\"\",IF(VLOOKUP($B87,MST!$A:$B,2,FALSE)=D$10,\"*\",\"\"))","v":""},{"$f":"IF(OR(NOW()>MST!$AA$1,$B87=\"\"),\"\",IF(AND($B87>=1,$B87<=18),\"*\",\"\"))","v":""},{"$f":"IF(OR(NOW()>MST!$AA$1,$B87=\"\"),\"\",IF(AND($B87>=19,$B87<=36),\"*\",\"\"))","v":""},{"$f":"IF(OR(NOW()>MST!$AA$1,$B87=\"\"),\"\",IF(MOD($B87,2)=1,\"*\",\"\"))","v":""},{"$f":"IF(OR(NOW()>MST!$AA$1,$B87=\"\"),\"\",IF(MOD($B87,2)=0,\"*\",\"\"))","v":""},{"$f":"IF(OR(NOW()>MST!$AA$1,$B87=\"\"),\"\",IF(AND($B87>=1,$B87<=12),\"*\",\"\"))","v":""},{"$f":"IF(OR(NOW()>MST!$AA$1,$B87=\"\"),\"\",IF(AND($B87>=13,$B87<=24),\"*\",\"\"))","v":""},{"$f":"IF(OR(NOW()>MST!$AA$1,$B87=\"\"),\"\",IF(AND($B87>=25,$B87<=36),\"*\",\"\"))","v":""},{"$f":"IF(OR(NOW()>MST!$AA$1,$B87=\"\"),\"\",IF(MOD($B87,3)=0,\"*\",\"\"))","v":""},{"$f":"IF(OR(NOW()>MST!$AA$1,$B87=\"\"),\"\",IF(MOD($B87,3)=1,\"*\",\"\"))","v":""},{"$f":"IF(OR(NOW()>MST!$AA$1,$B87=\"\"),\"\",IF(MOD($B87,3)=2,\"*\",\"\"))","v":""},null,null,null,null,null,null,null,null,null,null,null,null,null,null,"","","","","","","","","",""]
["",null,{"$f":"IF(OR(NOW()>MST!$AA$1,$B88=\"\"),\"\",IF(VLOOKUP($B88,MST!$A:$B,2,FALSE)=C$10,\"*\",\"\"))","v":""},{"$f":"IF(OR(NOW()>MST!$AA$1,$B88=\"\"),\"\",IF(VLOOKUP($B88,MST!$A:$B,2,FALSE)=D$10,\"*\",\"\"))","v":""},{"$f":"IF(OR(NOW()>MST!$AA$1,$B88=\"\"),\"\",IF(AND($B88>=1,$B88<=18),\"*\",\"\"))","v":""},{"$f":"IF(OR(NOW()>MST!$AA$1,$B88=\"\"),\"\",IF(AND($B88>=19,$B88<=36),\"*\",\"\"))","v":""},{"$f":"IF(OR(NOW()>MST!$AA$1,$B88=\"\"),\"\",IF(MOD($B88,2)=1,\"*\",\"\"))","v":""},{"$f":"IF(OR(NOW()>MST!$AA$1,$B88=\"\"),\"\",IF(MOD($B88,2)=0,\"*\",\"\"))","v":""},{"$f":"IF(OR(NOW()>MST!$AA$1,$B88=\"\"),\"\",IF(AND($B88>=1,$B88<=12),\"*\",\"\"))","v":""},{"$f":"IF(OR(NOW()>MST!$AA$1,$B88=\"\"),\"\",IF(AND($B88>=13,$B88<=24),\"*\",\"\"))","v":""},{"$f":"IF(OR(NOW()>MST!$AA$1,$B88=\"\"),\"\",IF(AND($B88>=25,$B88<=36),\"*\",\"\"))","v":""},{"$f":"IF(OR(NOW()>MST!$AA$1,$B88=\"\"),\"\",IF(MOD($B88,3)=0,\"*\",\"\"))","v":""},{"$f":"IF(OR(NOW()>MST!$AA$1,$B88=\"\"),\"\",IF(MOD($B88,3)=1,\"*\",\"\"))","v":""},{"$f":"IF(OR(NOW()>MST!$AA$1,$B88=\"\"),\"\",IF(MOD($B88,3)=2,\"*\",\"\"))","v":""},null,null,null,null,null,null,null,null,null,null,null,null,null,null,"","","","","","","","","",""]
["",null,{"$f":"IF(OR(NOW()>MST!$AA$1,$B89=\"\"),\"\",IF(VLOOKUP($B89,MST!$A:$B,2,FALSE)=C$10,\"*\",\"\"))","v":""},{"$f":"IF(OR(NOW()>MST!$AA$1,$B89=\"\"),\"\",IF(VLOOKUP($B89,MST!$A:$B,2,FALSE)=D$10,\"*\",\"\"))","v":""},{"$f":"IF(OR(NOW()>MST!$AA$1,$B89=\"\"),\"\",IF(AND($B89>=1,$B89<=18),\"*\",\"\"))","v":""},{"$f":"IF(OR(NOW()>MST!$AA$1,$B89=\"\"),\"\",IF(AND($B89>=19,$B89<=36),\"*\",\"\"))","v":""},{"$f":"IF(OR(NOW()>MST!$AA$1,$B89=\"\"),\"\",IF(MOD($B89,2)=1,\"*\",\"\"))","v":""},{"$f":"IF(OR(NOW()>MST!$AA$1,$B89=\"\"),\"\",IF(MOD($B89,2)=0,\"*\",\"\"))","v":""},{"$f":"IF(OR(NOW()>MST!$AA$1,$B89=\"\"),\"\",IF(AND($B89>=1,$B89<=12),\"*\",\"\"))","v":""},{"$f":"IF(OR(NOW()>MST!$AA$1,$B89=\"\"),\"\",IF(AND($B89>=13,$B89<=24),\"*\",\"\"))","v":""},{"$f":"IF(OR(NOW()>MST!$AA$1,$B89=\"\"),\"\",IF(AND($B89>=25,$B89<=36),\"*\",\"\"))","v":""},{"$f":"IF(OR(NOW()>MST!$AA$1,$B89=\"\"),\"\",IF(MOD($B89,3)=0,\"*\",\"\"))","v":""},{"$f":"IF(OR(NOW()>MST!$AA$1,$B89=\"\"),\"\",IF(MOD($B89,3)=1,\"*\",\"\"))","v":""},{"$f":"IF(OR(NOW()>MST!$AA$1,$B89=\"\"),\"\",IF(MOD($B89,3)=2,\"*\",\"\"))","v":""},null,null,null,null,null,null,null,null,null,null,null,null,null,null,"","","","","","","","","",""]
["",null,{"$f":"IF(OR(NOW()>MST!$AA$1,$B90=\"\"),\"\",IF(VLOOKUP($B90,MST!$A:$B,2,FALSE)=C$10,\"*\",\"\"))","v":""},{"$f":"IF(OR(NOW()>MST!$AA$1,$B90=\"\"),\"\",IF(VLOOKUP($B90,MST!$A:$B,2,FALSE)=D$10,\"*\",\"\"))","v":""},{"$f":"IF(OR(NOW()>MST!$AA$1,$B90=\"\"),\"\",IF(AND($B90>=1,$B90<=18),\"*\",\"\"))","v":""},{"$f":"IF(OR(NOW()>MST!$AA$1,$B90=\"\"),\"\",IF(AND($B90>=19,$B90<=36),\"*\",\"\"))","v":""},{"$f":"IF(OR(NOW()>MST!$AA$1,$B90=\"\"),\"\",IF(MOD($B90,2)=1,\"*\",\"\"))","v":""},{"$f":"IF(OR(NOW()>MST!$AA$1,$B90=\"\"),\"\",IF(MOD($B90,2)=0,\"*\",\"\"))","v":""},{"$f":"IF(OR(NOW()>MST!$AA$1,$B90=\"\"),\"\",IF(AND($B90>=1,$B90<=12),\"*\",\"\"))","v":""},{"$f":"IF(OR(NOW()>MST!$AA$1,$B90=\"\"),\"\",IF(AND($B90>=13,$B90<=24),\"*\",\"\"))","v":""},{"$f":"IF(OR(NOW()>MST!$AA$1,$B90=\"\"),\"\",IF(AND($B90>=25,$B90<=36),\"*\",\"\"))","v":""},{"$f":"IF(OR(NOW()>MST!$AA$1,$B90=\"\"),\"\",IF(MOD($B90,3)=0,\"*\",\"\"))","v":""},{"$f":"IF(OR(NOW()>MST!$AA$1,$B90=\"\"),\"\",IF(MOD($B90,3)=1,\"*\",\"\"))","v":""},{"$f":"IF(OR(NOW()>MST!$AA$1,$B90=\"\"),\"\",IF(MOD($B90,3)=2,\"*\",\"\"))","v":""},null,null,null,null,null,null,null,null,null,null,null,null,null,null,"","","","","","","","","",""]
["",null,{"$f":"IF(OR(NOW()>MST!$AA$1,$B91=\"\"),\"\",IF(VLOOKUP($B91,MST!$A:$B,2,FALSE)=C$10,\"*\",\"\"))","v":""},{"$f":"IF(OR(NOW()>MST!$AA$1,$B91=\"\"),\"\",IF(VLOOKUP($B91,MST!$A:$B,2,FALSE)=D$10,\"*\",\"\"))","v":""},{"$f":"IF(OR(NOW()>MST!$AA$1,$B91=\"\"),\"\",IF(AND($B91>=1,$B91<=18),\"*\",\"\"))","v":""},{"$f":"IF(OR(NOW()>MST!$AA$1,$B91=\"\"),\"\",IF(AND($B91>=19,$B91<=36),\"*\",\"\"))","v":""},{"$f":"IF(OR(NOW()>MST!$AA$1,$B91=\"\"),\"\",IF(MOD($B91,2)=1,\"*\",\"\"))","v":""},{"$f":"IF(OR(NOW()>MST!$AA$1,$B91=\"\"),\"\",IF(MOD($B91,2)=0,\"*\",\"\"))","v":""},{"$f":"IF(OR(NOW()>MST!$AA$1,$B91=\"\"),\"\",IF(AND($B91>=1,$B91<=12),\"*\",\"\"))","v":""},{"$f":"IF(OR(NOW()>MST!$AA$1,$B91=\"\"),\"\",IF(AND($B91>=13,$B91<=24),\"*\",\"\"))","v":""},{"$f":"IF(OR(NOW()>MST!$AA$1,$B91=\"\"),\"\",IF(AND($B91>=25,$B91<=36),\"*\",\"\"))","v":""},{"$f":"IF(OR(NOW()>MST!$AA$1,$B91=\"\"),\"\",IF(MOD($B91,3)=0,\"*\",\"\"))","v":""},{"$f":"IF(OR(NOW()>MST!$AA$1,$B91=\"\"),\"\",IF(MOD($B91,3)=1,\"*\",\"\"))","v":""},{"$f":"IF(OR(NOW()>MST!$AA$1,$B91=\"\"),\"\",IF(MOD($B91,3)=2,\"*\",\"\"))","v":""},null,null,null,null,null,null,null,null,null,null,null,null,null,null,"",{"$f":"IF(ROW()=$AC$1,IF(D91=\"*\",D91,\"\"),IF(ROW()<$AC$1,IF(AND(AD92=\"*\",D91=\"*\"),AD92,\"\"),\"\"))","v":""},{"$f":"IF(ROW()=$AC$1,IF(E91=\"*\",E91,\"\"),IF(ROW()<$AC$1,IF(AND(AE92=\"*\",E91=\"*\"),AE92,\"\"),\"\"))","v":""},{"$f":"IF(ROW()=$AC$1,IF(F91=\"*\",F91,\"\"),IF(ROW()<$AC$1,IF(AND(AF92=\"*\",F91=\"*\"),AF92,\"\"),\"\"))","v":""},{"$f":"IF(ROW()=$AC$1,IF(I91=\"*\",I91,\"\"),IF(ROW()<$AC$1,IF(AND(AG92=\"*\",I91=\"*\"),AG92,\"\"),\"\"))","v":""},{"$f":"IF(ROW()=$AC$1,IF(J91=\"*\",J91,\"\"),IF(ROW()<$AC$1,IF(AND(AH92=\"*\",J91=\"*\"),AH92,\"\"),\"\"))","v":""},{"$f":"IF(ROW()=$AC$1,IF(K91=\"*\",K91,\"\"),IF(ROW()<$AC$1,IF(AND(AI92=\"*\",K91=\"*\"),AI92,\"\"),\"\"))","v":""},{"$f":"IF(ROW()=$AC$1,IF(L91=\"*\",L91,\"\"),IF(ROW()<$AC$1,IF(AND(AJ92=\"*\",L91=\"*\"),AJ92,\"\"),\"\"))","v":""},{"$f":"IF(ROW()=$AC$1,IF(M91=\"*\",M91,\"\"),IF(ROW()<$AC$1,IF(AND(AK92=\"*\",M91=\"*\"),AK92,\"\"),\"\"))","v":""},""]
["",null,{"$f":"IF(OR(NOW()>MST!$AA$1,$B92=\"\"),\"\",IF(VLOOKUP($B92,MST!$A:$B,2,FALSE)=C$10,\"*\",\"\"))","v":""},{"$f":"IF(OR(NOW()>MST!$AA$1,$B92=\"\"),\"\",IF(VLOOKUP($B92,MST!$A:$B,2,FALSE)=D$10,\"*\",\"\"))","v":""},{"$f":"IF(OR(NOW()>MST!$AA$1,$B92=\"\"),\"\",IF(AND($B92>=1,$B92<=18),\"*\",\"\"))","v":""},{"$f":"IF(OR(NOW()>MST!$AA$1,$B92=\"\"),\"\",IF(AND($B92>=19,$B92<=36),\"*\",\"\"))","v":""},{"$f":"IF(OR(NOW()>MST!$AA$1,$B92=\"\"),\"\",IF(MOD($B92,2)=1,\"*\",\"\"))","v":""},{"$f":"IF(OR(NOW()>MST!$AA$1,$B92=\"\"),\"\",IF(MOD($B92,2)=0,\"*\",\"\"))","v":""},{"$f":"IF(OR(NOW()>MST!$AA$1,$B92=\"\"),\"\",IF(AND($B92>=1,$B92<=12),\"*\",\"\"))","v":""},{"$f":"IF(OR(NOW()>MST!$AA$1,$B92=\"\"),\"\",IF(AND($B92>=13,$B92<=24),\"*\",\"\"))","v":""},{"$f":"IF(OR(NOW()>MST!$AA$1,$B92=\"\"),\"\",IF(AND($B92>=25,$B92<=36),\"*\",\"\"))","v":""},{"$f":"IF(OR(NOW()>MST!$AA$1,$B92=\"\"),\"\",IF(MOD($B92,3)=0,\"*\",\"\"))","v":""},{"$f":"IF(OR(NOW()>MST!$AA$1,$B92=\"\"),\"\",IF(MOD($B92,3)=1,\"*\",\"\"))","v":""},{"$f":"IF(OR(NOW()>MST!$AA$1,$B92=\"\"),\"\",IF(MOD($B92,3)=2,\"*\",\"\"))","v":""},null,null,null,null,null,null,null,null,null,null,null,null,null,null,"","","","","","","","","",""]
["",null,{"$f":"IF(OR(NOW()>MST!$AA$1,$B93=\"\"),\"\",IF(VLOOKUP($B93,MST!$A:$B,2,FALSE)=C$10,\"*\",\"\"))","v":""},{"$f":"IF(OR(NOW()>MST!$AA$1,$B93=\"\"),\"\",IF(VLOOKUP($B93,MST!$A:$B,2,FALSE)=D$10,\"*\",\"\"))","v":""},{"$f":"IF(OR(NOW()>MST!$AA$1,$B93=\"\"),\"\",IF(AND($B93>=1,$B93<=18),\"*\",\"\"))","v":""},{"$f":"IF(OR(NOW()>MST!$AA$1,$B93=\"\"),\"\",IF(AND($B93>=19,$B93<=36),\"*\",\"\"))","v":""},{"$f":"IF(OR(NOW()>MST!$AA$1,$B93=\"\"),\"\",IF(MOD($B93,2)=1,\"*\",\"\"))","v":""},{"$f":"IF(OR(NOW()>MST!$AA$1,$B93=\"\"),\"\",IF(MOD($B93,2)=0,\"*\",\"\"))","v":""},{"$f":"IF(OR(NOW()>MST!$AA$1,$B93=\"\"),\"\",IF(AND($B93>=1,$B93<=12),\"*\",\"\"))","v":""},{"$f":"IF(OR(NOW()>MST!$AA$1,$B93=\"\"),\"\",IF(AND($B93>=13,$B93<=24),\"*\",\"\"))","v":""},{"$f":"IF(OR(NOW()>MST!$AA$1,$B93=\"\"),\"\",IF(AND($B93>=25,$B93<=36),\"*\",\"\"))","v":""},{"$f":"IF(OR(NOW()>MST!$AA$1,$B93=\"\"),\"\",IF(MOD($B93,3)=0,\"*\",\"\"))","v":""},{"$f":"IF(OR(NOW()>MST!$AA$1,$B93=\"\"),\"\",IF(MOD($B93,3)=1,\"*\",\"\"))","v":""},{"$f":"IF(OR(NOW()>MST!$AA$1,$B93=\"\"),\"\",IF(MOD($B93,3)=2,\"*\",\"\"))","v":""},null,null,null,null,null,null,null,null,null,null,null,null,null,null,"","","","","","","","","",""]
["",null,{"$f":"IF(OR(NOW()>MST!$AA$1,$B94=\"\"),\"\",IF(VLOOKUP($B94,MST!$A:$B,2,FALSE)=C$10,\"*\",\"\"))","v":""},{"$f":"IF(OR(NOW()>MST!$AA$1,$B94=\"\"),\"\",IF(VLOOKUP($B94,MST!$A:$B,2,FALSE)=D$10,\"*\",\"\"))","v":""},{"$f":"IF(OR(NOW()>MST!$AA$1,$B94=\"\"),\"\",IF(AND($B94>=1,$B94<=18),\"*\",\"\"))","v":""},{"$f":"IF(OR(NOW()>MST!$AA$1,$B94=\"\"),\"\",IF(AND($B94>=19,$B94<=36),\"*\",\"\"))","v":""},{"$f":"IF(OR(NOW()>MST!$AA$1,$B94=\"\"),\"\",IF(MOD($B94,2)=1,\"*\",\"\"))","v":""},{"$f":"IF(OR(NOW()>MST!$AA$1,$B94=\"\"),\"\",IF(MOD($B94,2)=0,\"*\",\"\"))","v":""},{"$f":"IF(OR(NOW()>MST!$AA$1,$B94=\"\"),\"\",IF(AND($B94>=1,$B94<=12),\"*\",\"\"))","v":""},{"$f":"IF(OR(NOW()>MST!$AA$1,$B94=\"\"),\"\",IF(AND($B94>=13,$B94<=24),\"*\",\"\"))","v":""},{"$f":"IF(OR(NOW()>MST!$AA$1,$B94=\"\"),\"\",IF(AND($B94>=25,$B94<=36),\"*\",\"\"))","v":""},{"$f":"IF(OR(NOW()>MST!$AA$1,$B94=\"\"),\"\",IF(MOD($B94,3)=0,\"*\",\"\"))","v":""},{"$f":"IF(OR(NOW()>MST!$AA$1,$B94=\"\"),\"\",IF(MOD($B94,3)=1,\"*\",\"\"))","v":""},{"$f":"IF(OR(NOW()>MST!$AA$1,$B94=\"\"),\"\",IF(MOD($B94,3)=2,\"*\",\"\"))","v":""},null,null,null,null,null,null,null,null,null,null,null,null,null,null,"","","","","","","","","",""]
["",null,{"$f":"IF(OR(NOW()>MST!$AA$1,$B95=\"\"),\"\",IF(VLOOKUP($B95,MST!$A:$B,2,FALSE)=C$10,\"*\",\"\"))","v":""},{"$f":"IF(OR(NOW()>MST!$AA$1,$B95=\"\"),\"\",IF(VLOOKUP($B95,MST!$A:$B,2,FALSE)=D$10,\"*\",\"\"))","v":""},{"$f":"IF(OR(NOW()>MST!$AA$1,$B95=\"\"),\"\",IF(AND($B95>=1,$B95<=18),\"*\",\"\"))","v":""},{"$f":"IF(OR(NOW()>MST!$AA$1,$B95=\"\"),\"\",IF(AND($B95>=19,$B95<=36),\"*\",\"\"))","v":""},{"$f":"IF(OR(NOW()>MST!$AA$1,$B95=\"\"),\"\",IF(MOD($B95,2)=1,\"*\",\"\"))","v":""},{"$f":"IF(OR(NOW()>MST!$AA$1,$B95=\"\"),\"\",IF(MOD($B95,2)=0,\"*\",\"\"))","v":""},{"$f":"IF(OR(NOW()>MST!$AA$1,$B95=\"\"),\"\",IF(AND($B95>=1,$B95<=12),\"*\",\"\"))","v":""},{"$f":"IF(OR(NOW()>MST!$AA$1,$B95=\"\"),\"\",IF(AND($B95>=13,$B95<=24),\"*\",\"\"))","v":""},{"$f":"IF(OR(NOW()>MST!$AA$1,$B95=\"\"),\"\",IF(AND($B95>=25,$B95<=36),\"*\",\"\"))","v":""},{"$f":"IF(OR(NOW()>MST!$AA$1,$B95=\"\"),\"\",IF(MOD($B95,3)=0,\"*\",\"\"))","v":""},{"$f":"IF(OR(NOW()>MST!$AA$1,$B95=\"\"),\"\",IF(MOD($B95,3)=1,\"*\",\"\"))","v":""},{"$f":"IF(OR(NOW()>MST!$AA$1,$B95=\"\"),\"\",IF(MOD($B95,3)=2,\"*\",\"\"))","v":""},null,null,null,null,null,null,null,null,null,null,null,null,null,null,"","","","","","","","","",""]
["",null,{"$f":"IF(OR(NOW()>MST!$AA$1,$B96=\"\"),\"\",IF(VLOOKUP($B96,MST!$A:$B,2,FALSE)=C$10,\"*\",\"\"))","v":""},{"$f":"IF(OR(NOW()>MST!$AA$1,$B96=\"\"),\"\",IF(VLOOKUP($B96,MST!$A:$B,2,FALSE)=D$10,\"*\",\"\"))","v":""},{"$f":"IF(OR(NOW()>MST!$AA$1,$B96=\"\"),\"\",IF(AND($B96>=1,$B96<=18),\"*\",\"\"))","v":""},{"$f":"IF(OR(NOW()>MST!$AA$1,$B96=\"\"),\"\",IF(AND($B96>=19,$B96<=36),\"*\",\"\"))","v":""},{"$f":"IF(OR(NOW()>MST!$AA$1,$B96=\"\"),\"\",IF(MOD($B96,2)=1,\"*\",\"\"))","v":""},{"$f":"IF(OR(NOW()>MST!$AA$1,$B96=\"\"),\"\",IF(MOD($B96,2)=0,\"*\",\"\"))","v":""},{"$f":"IF(OR(NOW()>MST!$AA$1,$B96=\"\"),\"\",IF(AND($B96>=1,$B96<=12),\"*\",\"\"))","v":""},{"$f":"IF(OR(NOW()>MST!$AA$1,$B96=\"\"),\"\",IF(AND($B96>=13,$B96<=24),\"*\",\"\"))","v":""},{"$f":"IF(OR(NOW()>MST!$AA$1,$B96=\"\"),\"\",IF(AND($B96>=25,$B96<=36),\"*\",\"\"))","v":""},{"$f":"IF(OR(NOW()>MST!$AA$1,$B96=\"\"),\"\",IF(MOD($B96,3)=0,\"*\",\"\"))","v":""},{"$f":"IF(OR(NOW()>MST!$AA$1,$B96=\"\"),\"\",IF(MOD($B96,3)=1,\"*\",\"\"))","v":""},{"$f":"IF(OR(NOW()>MST!$AA$1,$B96=\"\"),\"\",IF(MOD($B96,3)=2,\"*\",\"\"))","v":""},null,null,null,null,null,null,null,null,null,null,null,null,null,null,"","","","","","","","","",""]
["",null,{"$f":"IF(OR(NOW()>MST!$AA$1,$B97=\"\"),\"\",IF(VLOOKUP($B97,MST!$A:$B,2,FALSE)=C$10,\"*\",\"\"))","v":""},{"$f":"IF(OR(NOW()>MST!$AA$1,$B97=\"\"),\"\",IF(VLOOKUP($B97,MST!$A:$B,2,FALSE)=D$10,\"*\",\"\"))","v":""},{"$f":"IF(OR(NOW()>MST!$AA$1,$B97=\"\"),\"\",IF(AND($B97>=1,$B97<=18),\"*\",\"\"))","v":""},{"$f":"IF(OR(NOW()>MST!$AA$1,$B97=\"\"),\"\",IF(AND($B97>=19,$B97<=36),\"*\",\"\"))","v":""},{"$f":"IF(OR(NOW()>MST!$AA$1,$B97=\"\"),\"\",IF(MOD($B97,2)=1,\"*\",\"\"))","v":""},{"$f":"IF(OR(NOW()>MST!$AA$1,$B97=\"\"),\"\",IF(MOD($B97,2)=0,\"*\",\"\"))","v":""},{"$f":"IF(OR(NOW()>MST!$AA$1,$B97=\"\"),\"\",IF(AND($B97>=1,$B97<=12),\"*\",\"\"))","v":""},{"$f":"IF(OR(NOW()>MST!$AA$1,$B97=\"\"),\"\",IF(AND($B97>=13,$B97<=24),\"*\",\"\"))","v":""},{"$f":"IF(OR(NOW()>MST!$AA$1,$B97=\"\"),\"\",IF(AND($B97>=25,$B97<=36),\"*\",\"\"))","v":""},{"$f":"IF(OR(NOW()>MST!$AA$1,$B97=\"\"),\"\",IF(MOD($B97,3)=0,\"*\",\"\"))","v":""},{"$f":"IF(OR(NOW()>MST!$AA$1,$B97=\"\"),\"\",IF(MOD($B97,3)=1,\"*\",\"\"))","v":""},{"$f":"IF(OR(NOW()>MST!$AA$1,$B97=\"\"),\"\",IF(MOD($B97,3)=2,\"*\",\"\"))","v":""},null,null,null,null,null,null,null,null,null,null,null,null,null,null,"","","","","","","","","",""]
["",null,{"$f":"IF(OR(NOW()>MST!$AA$1,$B98=\"\"),\"\",IF(VLOOKUP($B98,MST!$A:$B,2,FALSE)=C$10,\"*\",\"\"))","v":""},{"$f":"IF(OR(NOW()>MST!$AA$1,$B98=\"\"),\"\",IF(VLOOKUP($B98,MST!$A:$B,2,FALSE)=D$10,\"*\",\"\"))","v":""},{"$f":"IF(OR(NOW()>MST!$AA$1,$B98=\"\"),\"\",IF(AND($B98>=1,$B98<=18),\"*\",\"\"))","v":""},{"$f":"IF(OR(NOW()>MST!$AA$1,$B98=\"\"),\"\",IF(AND($B98>=19,$B98<=36),\"*\",\"\"))","v":""},{"$f":"IF(OR(NOW()>MST!$AA$1,$B98=\"\"),\"\",IF(MOD($B98,2)=1,\"*\",\"\"))","v":""},{"$f":"IF(OR(NOW()>MST!$AA$1,$B98=\"\"),\"\",IF(MOD($B98,2)=0,\"*\",\"\"))","v":""},{"$f":"IF(OR(NOW()>MST!$AA$1,$B98=\"\"),\"\",IF(AND($B98>=1,$B98<=12),\"*\",\"\"))","v":""},{"$f":"IF(OR(NOW()>MST!$AA$1,$B98=\"\"),\"\",IF(AND($B98>=13,$B98<=24),\"*\",\"\"))","v":""},{"$f":"IF(OR(NOW()>MST!$AA$1,$B98=\"\"),\"\",IF(AND($B98>=25,$B98<=36),\"*\",\"\"))","v":""},{"$f":"IF(OR(NOW()>MST!$AA$1,$B98=\"\"),\"\",IF(MOD($B98,3)=0,\"*\",\"\"))","v":""},{"$f":"IF(OR(NOW()>MST!$AA$1,$B98=\"\"),\"\",IF(MOD($B98,3)=1,\"*\",\"\"))","v":""},{"$f":"IF(OR(NOW()>MST!$AA$1,$B98=\"\"),\"\",IF(MOD($B98,3)=2,\"*\",\"\"))","v":""},null,null,null,null,null,null,null,null,null,null,null,null,null,null,"","","","","","","","","",""]
["",null,{"$f":"IF(OR(NOW()>MST!$AA$1,$B99=\"\"),\"\",IF(VLOOKUP($B99,MST!$A:$B,2,FALSE)=C$10,\"*\",\"\"))","v":""},{"$f":"IF(OR(NOW()>MST!$AA$1,$B99=\"\"),\"\",IF(VLOOKUP($B99,MST!$A:$B,2,FALSE)=D$10,\"*\",\"\"))","v":""},{"$f":"IF(OR(NOW()>MST!$AA$1,$B99=\"\"),\"\",IF(AND($B99>=1,$B99<=18),\"*\",\"\"))","v":""},{"$f":"IF(OR(NOW()>MST!$AA$1,$B99=\"\"),\"\",IF(AND($B99>=19,$B99<=36),\"*\",\"\"))","v":""},{"$f":"IF(OR(NOW()>MST!$AA$1,$B99=\"\"),\"\",IF(MOD($B99,2)=1,\"*\",\"\"))","v":""},{"$f":"IF(OR(NOW()>MST!$AA$1,$B99=\"\"),\"\",IF(MOD($B99,2)=0,\"*\",\"\"))","v":""},{"$f":"IF(OR(NOW()>MST!$AA$1,$B99=\"\"),\"\",IF(AND($B99>=1,$B99<=12),\"*\",\"\"))","v":""},{"$f":"IF(OR(NOW()>MST!$AA$1,$B99=\"\"),\"\",IF(AND($B99>=13,$B99<=24),\"*\",\"\"))","v":""},{"$f":"IF(OR(NOW()>MST!$AA$1,$B99=\"\"),\"\",IF(AND($B99>=25,$B99<=36),\"*\",\"\"))","v":""},{"$f":"IF(OR(NOW()>MST!$AA$1,$B99=\"\"),\"\",IF(MOD($B99,3)=0,\"*\",\"\"))","v":""},{"$f":"IF(OR(NOW()>MST!$AA$1,$B99=\"\"),\"\",IF(MOD($B99,3)=1,\"*\",\"\"))","v":""},{"$f":"IF(OR(NOW()>MST!$AA$1,$B99=\"\"),\"\",IF(MOD($B99,3)=2,\"*\",\"\"))","v":""},null,null,null,null,null,null,null,null,null,null,null,null,null,null,"","","","","","","","","",""]
["",null,{"$f":"IF(OR(NOW()>MST!$AA$1,$B100=\"\"),\"\",IF(VLOOKUP($B100,MST!$A:$B,2,FALSE)=C$10,\"*\",\"\"))","v":""},{"$f":"IF(OR(NOW()>MST!$AA$1,$B100=\"\"),\"\",IF(VLOOKUP($B100,MST!$A:$B,2,FALSE)=D$10,\"*\",\"\"))","v":""},{"$f":"IF(OR(NOW()>MST!$AA$1,$B100=\"\"),\"\",IF(AND($B100>=1,$B100<=18),\"*\",\"\"))","v":""},{"$f":"IF(OR(NOW()>MST!$AA$1,$B100=\"\"),\"\",IF(AND($B100>=19,$B100<=36),\"*\",\"\"))","v":""},{"$f":"IF(OR(NOW()>MST!$AA$1,$B100=\"\"),\"\",IF(MOD($B100,2)=1,\"*\",\"\"))","v":""},{"$f":"IF(OR(NOW()>MST!$AA$1,$B100=\"\"),\"\",IF(MOD($B100,2)=0,\"*\",\"\"))","v":""},{"$f":"IF(OR(NOW()>MST!$AA$1,$B100=\"\"),\"\",IF(AND($B100>=1,$B100<=12),\"*\",\"\"))","v":""},{"$f":"IF(OR(NOW()>MST!$AA$1,$B100=\"\"),\"\",IF(AND($B100>=13,$B100<=24),\"*\",\"\"))","v":""},{"$f":"IF(OR(NOW()>MST!$AA$1,$B100=\"\"),\"\",IF(AND($B100>=25,$B100<=36),\"*\",\"\"))","v":""},{"$f":"IF(OR(NOW()>MST!$AA$1,$B100=\"\"),\"\",IF(MOD($B100,3)=0,\"*\",\"\"))","v":""},{"$f":"IF(OR(NOW()>MST!$AA$1,$B100=\"\"),\"\",IF(MOD($B100,3)=1,\"*\",\"\"))","v":""},{"$f":"IF(OR(NOW()>MST!$AA$1,$B100=\"\"),\"\",IF(MOD($B100,3)=2,\"*\",\"\"))","v":""},null,null,null,null,null,null,null,null,null,null,null,null,null,null,"","","","","","","","","",""]
["",null,{"$f":"IF(OR(NOW()>MST!$AA$1,$B101=\"\"),\"\",IF(VLOOKUP($B101,MST!$A:$B,2,FALSE)=C$10,\"*\",\"\"))","v":""},{"$f":"IF(OR(NOW()>MST!$AA$1,$B101=\"\"),\"\",IF(VLOOKUP($B101,MST!$A:$B,2,FALSE)=D$10,\"*\",\"\"))","v":""},{"$f":"IF(OR(NOW()>MST!$AA$1,$B101=\"\"),\"\",IF(AND($B101>=1,$B101<=18),\"*\",\"\"))","v":""},{"$f":"IF(OR(NOW()>MST!$AA$1,$B101=\"\"),\"\",IF(AND($B101>=19,$B101<=36),\"*\",\"\"))","v":""},{"$f":"IF(OR(NOW()>MST!$AA$1,$B101=\"\"),\"\",IF(MOD($B101,2)=1,\"*\",\"\"))","v":""},{"$f":"IF(OR(NOW()>MST!$AA$1,$B101=\"\"),\"\",IF(MOD($B101,2)=0,\"*\",\"\"))","v":""},{"$f":"IF(OR(NOW()>MST!$AA$1,$B101=\"\"),\"\",IF(AND($B101>=1,$B101<=12),\"*\",\"\"))","v":""},{"$f":"IF(OR(NOW()>MST!$AA$1,$B101=\"\"),\"\",IF(AND($B101>=13,$B101<=24),\"*\",\"\"))","v":""},{"$f":"IF(OR(NOW()>MST!$AA$1,$B101=\"\"),\"\",IF(AND($B101>=25,$B101<=36),\"*\",\"\"))","v":""},{"$f":"IF(OR(NOW()>MST!$AA$1,$B101=\"\"),\"\",IF(MOD($B101,3)=0,\"*\",\"\"))","v":""},{"$f":"IF(OR(NOW()>MST!$AA$1,$B101=\"\"),\"\",IF(MOD($B101,3)=1,\"*\",\"\"))","v":""},{"$f":"IF(OR(NOW()>MST!$AA$1,$B101=\"\"),\"\",IF(MOD($B101,3)=2,\"*\",\"\"))","v":""},null,null,null,null,null,null,null,null,null,null,null,null,null,null,"","","","","","","","","",""]
["",null,{"$f":"IF(OR(NOW()>MST!$AA$1,$B102=\"\"),\"\",IF(VLOOKUP($B102,MST!$A:$B,2,FALSE)=C$10,\"*\",\"\"))","v":""},{"$f":"IF(OR(NOW()>MST!$AA$1,$B102=\"\"),\"\",IF(VLOOKUP($B102,MST!$A:$B,2,FALSE)=D$10,\"*\",\"\"))","v":""},{"$f":"IF(OR(NOW()>MST!$AA$1,$B102=\"\"),\"\",IF(AND($B102>=1,$B102<=18),\"*\",\"\"))","v":""},{"$f":"IF(OR(NOW()>MST!$AA$1,$B102=\"\"),\"\",IF(AND($B102>=19,$B102<=36),\"*\",\"\"))","v":""},{"$f":"IF(OR(NOW()>MST!$AA$1,$B102=\"\"),\"\",IF(MOD($B102,2)=1,\"*\",\"\"))","v":""},{"$f":"IF(OR(NOW()>MST!$AA$1,$B102=\"\"),\"\",IF(MOD($B102,2)=0,\"*\",\"\"))","v":""},{"$f":"IF(OR(NOW()>MST!$AA$1,$B102=\"\"),\"\",IF(AND($B102>=1,$B102<=12),\"*\",\"\"))","v":""},{"$f":"IF(OR(NOW()>MST!$AA$1,$B102=\"\"),\"\",IF(AND($B102>=13,$B102<=24),\"*\",\"\"))","v":""},{"$f":"IF(OR(NOW()>MST!$AA$1,$B102=\"\"),\"\",IF(AND($B102>=25,$B102<=36),\"*\",\"\"))","v":""},{"$f":"IF(OR(NOW()>MST!$AA$1,$B102=\"\"),\"\",IF(MOD($B102,3)=0,\"*\",\"\"))","v":""},{"$f":"IF(OR(NOW()>MST!$AA$1,$B102=\"\"),\"\",IF(MOD($B102,3)=1,\"*\",\"\"))","v":""},{"$f":"IF(OR(NOW()>MST!$AA$1,$B102=\"\"),\"\",IF(MOD($B102,3)=2,\"*\",\"\"))","v":""},null,null,null,null,null,null,null,null,null,null,null,null,null,null,"","","","","","","","","",""]
["",null,{"$f":"IF(OR(NOW()>MST!$AA$1,$B103=\"\"),\"\",IF(VLOOKUP($B103,MST!$A:$B,2,FALSE)=C$10,\"*\",\"\"))","v":""},{"$f":"IF(OR(NOW()>MST!$AA$1,$B103=\"\"),\"\",IF(VLOOKUP($B103,MST!$A:$B,2,FALSE)=D$10,\"*\",\"\"))","v":""},{"$f":"IF(OR(NOW()>MST!$AA$1,$B103=\"\"),\"\",IF(AND($B103>=1,$B103<=18),\"*\",\"\"))","v":""},{"$f":"IF(OR(NOW()>MST!$AA$1,$B103=\"\"),\"\",IF(AND($B103>=19,$B103<=36),\"*\",\"\"))","v":""},{"$f":"IF(OR(NOW()>MST!$AA$1,$B103=\"\"),\"\",IF(MOD($B103,2)=1,\"*\",\"\"))","v":""},{"$f":"IF(OR(NOW()>MST!$AA$1,$B103=\"\"),\"\",IF(MOD($B103,2)=0,\"*\",\"\"))","v":""},{"$f":"IF(OR(NOW()>MST!$AA$1,$B103=\"\"),\"\",IF(AND($B103>=1,$B103<=12),\"*\",\"\"))","v":""},{"$f":"IF(OR(NOW()>MST!$AA$1,$B103=\"\"),\"\",IF(AND($B103>=13,$B103<=24),\"*\",\"\"))","v":""},{"$f":"IF(OR(NOW()>MST!$AA$1,$B103=\"\"),\"\",IF(AND($B103>=25,$B103<=36),\"*\",\"\"))","v":""},{"$f":"IF(OR(NOW()>MST!$AA$1,$B103=\"\"),\"\",IF(MOD($B103,3)=0,\"*\",\"\"))","v":""},{"$f":"IF(OR(NOW()>MST!$AA$1,$B103=\"\"),\"\",IF(MOD($B103,3)=1,\"*\",\"\"))","v":""},{"$f":"IF(OR(NOW()>MST!$AA$1,$B103=\"\"),\"\",IF(MOD($B103,3)=2,\"*\",\"\"))","v":""},null,null,null,null,null,null,null,null,null,null,null,null,null,null,"","","","","","","","","",""]
["",null,{"$f":"IF(OR(NOW()>MST!$AA$1,$B104=\"\"),\"\",IF(VLOOKUP($B104,MST!$A:$B,2,FALSE)=C$10,\"*\",\"\"))","v":""},{"$f":"IF(OR(NOW()>MST!$AA$1,$B104=\"\"),\"\",IF(VLOOKUP($B104,MST!$A:$B,2,FALSE)=D$10,\"*\",\"\"))","v":""},{"$f":"IF(OR(NOW()>MST!$AA$1,$B104=\"\"),\"\",IF(AND($B104>=1,$B104<=18),\"*\",\"\"))","v":""},{"$f":"IF(OR(NOW()>MST!$AA$1,$B104=\"\"),\"\",IF(AND($B104>=19,$B104<=36),\"*\",\"\"))","v":""},{"$f":"IF(OR(NOW()>MST!$AA$1,$B104=\"\"),\"\",IF(MOD($B104,2)=1,\"*\",\"\"))","v":""},{"$f":"IF(OR(NOW()>MST!$AA$1,$B104=\"\"),\"\",IF(MOD($B104,2)=0,\"*\",\"\"))","v":""},{"$f":"IF(OR(NOW()>MST!$AA$1,$B104=\"\"),\"\",IF(AND($B104>=1,$B104<=12),\"*\",\"\"))","v":""},{"$f":"IF(OR(NOW()>MST!$AA$1,$B104=\"\"),\"\",IF(AND($B104>=13,$B104<=24),\"*\",\"\"))","v":""},{"$f":"IF(OR(NOW()>MST!$AA$1,$B104=\"\"),\"\",IF(AND($B104>=25,$B104<=36),\"*\",\"\"))","v":""},{"$f":"IF(OR(NOW()>MST!$AA$1,$B104=\"\"),\"\",IF(MOD($B104,3)=0,\"*\",\"\"))","v":""},{"$f":"IF(OR(NOW()>MST!$AA$1,$B104=\"\"),\"\",IF(MOD($B104,3)=1,\"*\",\"\"))","v":""},{"$f":"IF(OR(NOW()>MST!$AA$1,$B104=\"\"),\"\",IF(MOD($B104,3)=2,\"*\",\"\"))","v":""},null,null,null,null,null,null,null,null,null,null,null,null,null,null,"","","","","","","","","",""]
["",null,{"$f":"IF(OR(NOW()>MST!$AA$1,$B105=\"\"),\"\",IF(VLOOKUP($B105,MST!$A:$B,2,FALSE)=C$10,\"*\",\"\"))","v":""},{"$f":"IF(OR(NOW()>MST!$AA$1,$B105=\"\"),\"\",IF(VLOOKUP($B105,MST!$A:$B,2,FALSE)=D$10,\"*\",\"\"))","v":""},{"$f":"IF(OR(NOW()>MST!$AA$1,$B105=\"\"),\"\",IF(AND($B105>=1,$B105<=18),\"*\",\"\"))","v":""},{"$f":"IF(OR(NOW()>MST!$AA$1,$B105=\"\"),\"\",IF(AND($B105>=19,$B105<=36),\"*\",\"\"))","v":""},{"$f":"IF(OR(NOW()>MST!$AA$1,$B105=\"\"),\"\",IF(MOD($B105,2)=1,\"*\",\"\"))","v":""},{"$f":"IF(OR(NOW()>MST!$AA$1,$B105=\"\"),\"\",IF(MOD($B105,2)=0,\"*\",\"\"))","v":""},{"$f":"IF(OR(NOW()>MST!$AA$1,$B105=\"\"),\"\",IF(AND($B105>=1,$B105<=12),\"*\",\"\"))","v":""},{"$f":"IF(OR(NOW()>MST!$AA$1,$B105=\"\"),\"\",IF(AND($B105>=13,$B105<=24),\"*\",\"\"))","v":""},{"$f":"IF(OR(NOW()>MST!$AA$1,$B105=\"\"),\"\",IF(AND($B105>=25,$B105<=36),\"*\",\"\"))","v":""},{"$f":"IF(OR(NOW()>MST!$AA$1,$B105=\"\"),\"\",IF(MOD($B105,3)=0,\"*\",\"\"))","v":""},{"$f":"IF(OR(NOW()>MST!$AA$1,$B105=\"\"),\"\",IF(MOD($B105,3)=1,\"*\",\"\"))","v":""},{"$f":"IF(OR(NOW()>MST!$AA$1,$B105=\"\"),\"\",IF(MOD($B105,3)=2,\"*\",\"\"))","v":""},null,null,null,null,null,null,null,null,null,null,null,null,null,null,"","","","","","","","","",""]
["",null,{"$f":"IF(OR(NOW()>MST!$AA$1,$B106=\"\"),\"\",IF(VLOOKUP($B106,MST!$A:$B,2,FALSE)=C$10,\"*\",\"\"))","v":""},{"$f":"IF(OR(NOW()>MST!$AA$1,$B106=\"\"),\"\",IF(VLOOKUP($B106,MST!$A:$B,2,FALSE)=D$10,\"*\",\"\"))","v":""},{"$f":"IF(OR(NOW()>MST!$AA$1,$B106=\"\"),\"\",IF(AND($B106>=1,$B106<=18),\"*\",\"\"))","v":""},{"$f":"IF(OR(NOW()>MST!$AA$1,$B106=\"\"),\"\",IF(AND($B106>=19,$B106<=36),\"*\",\"\"))","v":""},{"$f":"IF(OR(NOW()>MST!$AA$1,$B106=\"\"),\"\",IF(MOD($B106,2)=1,\"*\",\"\"))","v":""},{"$f":"IF(OR(NOW()>MST!$AA$1,$B106=\"\"),\"\",IF(MOD($B106,2)=0,\"*\",\"\"))","v":""},{"$f":"IF(OR(NOW()>MST!$AA$1,$B106=\"\"),\"\",IF(AND($B106>=1,$B106<=12),\"*\",\"\"))","v":""},{"$f":"IF(OR(NOW()>MST!$AA$1,$B106=\"\"),\"\",IF(AND($B106>=13,$B106<=24),\"*\",\"\"))","v":""},{"$f":"IF(OR(NOW()>MST!$AA$1,$B106=\"\"),\"\",IF(AND($B106>=25,$B106<=36),\"*\",\"\"))","v":""},{"$f":"IF(OR(NOW()>MST!$AA$1,$B106=\"\"),\"\",IF(MOD($B106,3)=0,\"*\",\"\"))","v":""},{"$f":"IF(OR(NOW()>MST!$AA$1,$B106=\"\"),\"\",IF(MOD($B106,3)=1,\"*\",\"\"))","v":""},{"$f":"IF(OR(NOW()>MST!$AA$1,$B106=\"\"),\"\",IF(MOD($B106,3)=2,\"*\",\"\"))","v":""},null,null,null,null,null,null,null,null,null,null,null,null,null,null,"","","","","","","","","",""]
["",null,{"$f":"IF(OR(NOW()>MST!$AA$1,$B107=\"\"),\"\",IF(VLOOKUP($B107,MST!$A:$B,2,FALSE)=C$10,\"*\",\"\"))","v":""},{"$f":"IF(OR(NOW()>MST!$AA$1,$B107=\"\"),\"\",IF(VLOOKUP($B107,MST!$A:$B,2,FALSE)=D$10,\"*\",\"\"))","v":""},{"$f":"IF(OR(NOW()>MST!$AA$1,$B107=\"\"),\"\",IF(AND($B107>=1,$B107<=18),\"*\",\"\"))","v":""},{"$f":"IF(OR(NOW()>MST!$AA$1,$B107=\"\"),\"\",IF(AND($B107>=19,$B107<=36),\"*\",\"\"))","v":""},{"$f":"IF(OR(NOW()>MST!$AA$1,$B107=\"\"),\"\",IF(MOD($B107,2)=1,\"*\",\"\"))","v":""},{"$f":"IF(OR(NOW()>MST!$AA$1,$B107=\"\"),\"\",IF(MOD($B107,2)=0,\"*\",\"\"))","v":""},{"$f":"IF(OR(NOW()>MST!$AA$1,$B107=\"\"),\"\",IF(AND($B107>=1,$B107<=12),\"*\",\"\"))","v":""},{"$f":"IF(OR(NOW()>MST!$AA$1,$B107=\"\"),\"\",IF(AND($B107>=13,$B107<=24),\"*\",\"\"))","v":""},{"$f":"IF(OR(NOW()>MST!$AA$1,$B107=\"\"),\"\",IF(AND($B107>=25,$B107<=36),\"*\",\"\"))","v":""},{"$f":"IF(OR(NOW()>MST!$AA$1,$B107=\"\"),\"\",IF(MOD($B107,3)=0,\"*\",\"\"))","v":""},{"$f":"IF(OR(NOW()>MST!$AA$1,$B107=\"\"),\"\",IF(MOD($B107,3)=1,\"*\",\"\"))","v":""},{"$f":"IF(OR(NOW()>MST!$AA$1,$B107=\"\"),\"\",IF(MOD($B107,3)=2,\"*\",\"\"))","v":""},null,null,null,null,null,null,null,null,null,null,null,null,null,null,"","","","","","","","","",""]
["",null,{"$f":"IF(OR(NOW()>MST!$AA$1,$B108=\"\"),\"\",IF(VLOOKUP($B108,MST!$A:$B,2,FALSE)=C$10,\"*\",\"\"))","v":""},{"$f":"IF(OR(NOW()>MST!$AA$1,$B108=\"\"),\"\",IF(VLOOKUP($B108,MST!$A:$B,2,FALSE)=D$10,\"*\",\"\"))","v":""},{"$f":"IF(OR(NOW()>MST!$AA$1,$B108=\"\"),\"\",IF(AND($B108>=1,$B108<=18),\"*\",\"\"))","v":""},{"$f":"IF(OR(NOW()>MST!$AA$1,$B108=\"\"),\"\",IF(AND($B108>=19,$B108<=36),\"*\",\"\"))","v":""},{"$f":"IF(OR(NOW()>MST!$AA$1,$B108=\"\"),\"\",IF(MOD($B108,2)=1,\"*\",\"\"))","v":""},{"$f":"IF(OR(NOW()>MST!$AA$1,$B108=\"\"),\"\",IF(MOD($B108,2)=0,\"*\",\"\"))","v":""},{"$f":"IF(OR(NOW()>MST!$AA$1,$B108=\"\"),\"\",IF(AND($B108>=1,$B108<=12),\"*\",\"\"))","v":""},{"$f":"IF(OR(NOW()>MST!$AA$1,$B108=\"\"),\"\",IF(AND($B108>=13,$B108<=24),\"*\",\"\"))","v":""},{"$f":"IF(OR(NOW()>MST!$AA$1,$B108=\"\"),\"\",IF(AND($B108>=25,$B108<=36),\"*\",\"\"))","v":""},{"$f":"IF(OR(NOW()>MST!$AA$1,$B108=\"\"),\"\",IF(MOD($B108,3)=0,\"*\",\"\"))","v":""},{"$f":"IF(OR(NOW()>MST!$AA$1,$B108=\"\"),\"\",IF(MOD($B108,3)=1,\"*\",\"\"))","v":""},{"$f":"IF(OR(NOW()>MST!$AA$1,$B108=\"\"),\"\",IF(MOD($B108,3)=2,\"*\",\"\"))","v":""},null,null,null,null,null,null,null,null,null,null,null,null,null,null,"","","","","","","","","",""]
["",null,{"$f":"IF(OR(NOW()>MST!$AA$1,$B109=\"\"),\"\",IF(VLOOKUP($B109,MST!$A:$B,2,FALSE)=C$10,\"*\",\"\"))","v":""},{"$f":"IF(OR(NOW()>MST!$AA$1,$B109=\"\"),\"\",IF(VLOOKUP($B109,MST!$A:$B,2,FALSE)=D$10,\"*\",\"\"))","v":""},{"$f":"IF(OR(NOW()>MST!$AA$1,$B109=\"\"),\"\",IF(AND($B109>=1,$B109<=18),\"*\",\"\"))","v":""},{"$f":"IF(OR(NOW()>MST!$AA$1,$B109=\"\"),\"\",IF(AND($B109>=19,$B109<=36),\"*\",\"\"))","v":""},{"$f":"IF(OR(NOW()>MST!$AA$1,$B109=\"\"),\"\",IF(MOD($B109,2)=1,\"*\",\"\"))","v":""},{"$f":"IF(OR(NOW()>MST!$AA$1,$B109=\"\"),\"\",IF(MOD($B109,2)=0,\"*\",\"\"))","v":""},{"$f":"IF(OR(NOW()>MST!$AA$1,$B109=\"\"),\"\",IF(AND($B109>=1,$B109<=12),\"*\",\"\"))","v":""},{"$f":"IF(OR(NOW()>MST!$AA$1,$B109=\"\"),\"\",IF(AND($B109>=13,$B109<=24),\"*\",\"\"))","v":""},{"$f":"IF(OR(NOW()>MST!$AA$1,$B109=\"\"),\"\",IF(AND($B109>=25,$B109<=36),\"*\",\"\"))","v":""},{"$f":"IF(OR(NOW()>MST!$AA$1,$B109=\"\"),\"\",IF(MOD($B109,3)=0,\"*\",\"\"))","v":""},{"$f":"IF(OR(NOW()>MST!$AA$1,$B109=\"\"),\"\",IF(MOD($B109,3)=1,\"*\",\"\"))","v":""},{"$f":"IF(OR(NOW()>MST!$AA$1,$B109=\"\"),\"\",IF(MOD($B109,3)=2,\"*\",\"\"))","v":""},null,null,null,null,null,null,null,null,null,null,null,null,null,null,"","","","","","","","","",""]
["",null,{"$f":"IF(OR(NOW()>MST!$AA$1,$B110=\"\"),\"\",IF(VLOOKUP($B110,MST!$A:$B,2,FALSE)=C$10,\"*\",\"\"))","v":""},{"$f":"IF(OR(NOW()>MST!$AA$1,$B110=\"\"),\"\",IF(VLOOKUP($B110,MST!$A:$B,2,FALSE)=D$10,\"*\",\"\"))","v":""},{"$f":"IF(OR(NOW()>MST!$AA$1,$B110=\"\"),\"\",IF(AND($B110>=1,$B110<=18),\"*\",\"\"))","v":""},{"$f":"IF(OR(NOW()>MST!$AA$1,$B110=\"\"),\"\",IF(AND($B110>=19,$B110<=36),\"*\",\"\"))","v":""},{"$f":"IF(OR(NOW()>MST!$AA$1,$B110=\"\"),\"\",IF(MOD($B110,2)=1,\"*\",\"\"))","v":""},{"$f":"IF(OR(NOW()>MST!$AA$1,$B110=\"\"),\"\",IF(MOD($B110,2)=0,\"*\",\"\"))","v":""},{"$f":"IF(OR(NOW()>MST!$AA$1,$B110=\"\"),\"\",IF(AND($B110>=1,$B110<=12),\"*\",\"\"))","v":""},{"$f":"IF(OR(NOW()>MST!$AA$1,$B110=\"\"),\"\",IF(AND($B110>=13,$B110<=24),\"*\",\"\"))","v":""},{"$f":"IF(OR(NOW()>MST!$AA$1,$B110=\"\"),\"\",IF(AND($B110>=25,$B110<=36),\"*\",\"\"))","v":""},{"$f":"IF(OR(NOW()>MST!$AA$1,$B110=\"\"),\"\",IF(MOD($B110,3)=0,\"*\",\"\"))","v":""},{"$f":"IF(OR(NOW()>MST!$AA$1,$B110=\"\"),\"\",IF(MOD($B110,3)=1,\"*\",\"\"))","v":""},{"$f":"IF(OR(NOW()>MST!$AA$1,$B110=\"\"),\"\",IF(MOD($B110,3)=2,\"*\",\"\"))","v":""},null,null,null,null,null,null,null,null,null,null,null,null,null,null,"","","","","","","","","",""]
["",null,{"$f":"IF(OR(NOW()>MST!$AA$1,$B111=\"\"),\"\",IF(VLOOKUP($B111,MST!$A:$B,2,FALSE)=C$10,\"*\",\"\"))","v":""},{"$f":"IF(OR(NOW()>MST!$AA$1,$B111=\"\"),\"\",IF(VLOOKUP($B111,MST!$A:$B,2,FALSE)=D$10,\"*\",\"\"))","v":""},{"$f":"IF(OR(NOW()>MST!$AA$1,$B111=\"\"),\"\",IF(AND($B111>=1,$B111<=18),\"*\",\"\"))","v":""},{"$f":"IF(OR(NOW()>MST!$AA$1,$B111=\"\"),\"\",IF(AND($B111>=19,$B111<=36),\"*\",\"\"))","v":""},{"$f":"IF(OR(NOW()>MST!$AA$1,$B111=\"\"),\"\",IF(MOD($B111,2)=1,\"*\",\"\"))","v":""},{"$f":"IF(OR(NOW()>MST!$AA$1,$B111=\"\"),\"\",IF(MOD($B111,2)=0,\"*\",\"\"))","v":""},{"$f":"IF(OR(NOW()>MST!$AA$1,$B111=\"\"),\"\",IF(AND($B111>=1,$B111<=12),\"*\",\"\"))","v":""},{"$f":"IF(OR(NOW()>MST!$AA$1,$B111=\"\"),\"\",IF(AND($B111>=13,$B111<=24),\"*\",\"\"))","v":""},{"$f":"IF(OR(NOW()>MST!$AA$1,$B111=\"\"),\"\",IF(AND($B111>=25,$B111<=36),\"*\",\"\"))","v":""},{"$f":"IF(OR(NOW()>MST!$AA$1,$B111=\"\"),\"\",IF(MOD($B111,3)=0,\"*\",\"\"))","v":""},{"$f":"IF(OR(NOW()>MST!$AA$1,$B111=\"\"),\"\",IF(MOD($B111,3)=1,\"*\",\"\"))","v":""},{"$f":"IF(OR(NOW()>MST!$AA$1,$B111=\"\"),\"\",IF(MOD($B111,3)=2,\"*\",\"\"))","v":""},null,null,null,null,null,null,null,null,null,null,null,null,null,null,"","","","","","","","","",""]

{"sheet":"MST","index":1,"n_rows":36,"n_cols":27,"rows_kept":36,"cut":false,"hidden":true,"merged":[]}
[1,"赤",null,null,null,null,null,null,null,null,null,null,null,null,null,null,null,null,null,null,null,null,null,null,null,null,"2999-12-31"]
[2,"黒"]
[3,"赤"]
[4,"黒"]
[5,"赤"]
[6,"黒"]
[7,"赤"]
[8,"黒"]
[9,"赤"]
[10,"黒"]
[11,"黒"]
[12,"赤"]
[13,"黒"]
[14,"赤"]
[15,"黒"]
[16,"赤"]
[17,"黒"]
[18,"赤"]
[19,"赤"]
[20,"黒"]
[21,"赤"]
[22,"黒"]
[23,"赤"]
[24,"黒"]
[25,"赤"]
[26,"黒"]
[27,"赤"]
[28,"黒"]
[29,"黒"]
[30,"赤"]
[31,"黒"]
[32,"赤"]
[33,"黒"]
[34,"赤"]
[35,"黒"]
[36,"赤"]